BEGIN:VCALENDAR
PRODID:-//Microsoft Corporation//Outlook 11.0 MIMEDIR//EN
VERSION:2.0
METHOD:PUBLISH
BEGIN:VEVENT
DTSTART:2013-04-18T03:30:00Z
DTEND:2013-04-18T06:00:00Z
LOCATION:MM7: Marymoor, Field 7
CATEGORIES:Softball,Goose Pub 1,BB/SAA
UID:6A26E714DCF8A4990AB466D87137FAD:
DTSTAMP:2026-04-21T05:33:57Z:
SUMMARY:Goose Pub 1 at Team Shocker
DESCRIPTION;ENCODING=QUOTED-PRINTABLE:Goose Pub 1 at Team Shocker=0D=0A Time: 8:30 PM=0D=0A Location: Marymoor, Field 7
CLASS:PUBLIC
PRIORITY:5
BEGIN:VALARM
TRIGGER:-PT330M
ACTION:DISPLAY
DESCRIPTION:Reminder
END:VALARM
END:VEVENT
BEGIN:VEVENT
DTSTART:2013-04-25T01:00:00Z
DTEND:2013-04-25T03:30:00Z
LOCATION:HV1: Hidden Valley, Field 1
CATEGORIES:Softball,Goose Pub 1,BB/SAA
UID:59D901675DA4B8C45979057895570:
DTSTAMP:2026-04-21T05:33:57Z:
SUMMARY:Goose Pub 1 at First Presbyterian
DESCRIPTION;ENCODING=QUOTED-PRINTABLE:Goose Pub 1 at First Presbyterian=0D=0A Time: 6:00 PM=0D=0A Location: Hidden Valley, Field 1
CLASS:PUBLIC
PRIORITY:5
BEGIN:VALARM
TRIGGER:-PT180M
ACTION:DISPLAY
DESCRIPTION:Reminder
END:VALARM
END:VEVENT
BEGIN:VEVENT
DTSTART:2013-05-02T03:30:00Z
DTEND:2013-05-02T06:00:00Z
LOCATION:MM7: Marymoor, Field 7
CATEGORIES:Softball,Goose Pub 1,BB/SAA
UID:2F34813D424F3D43BA5C5A9F4B9F697C:
DTSTAMP:2026-04-21T05:33:57Z:
SUMMARY:Moneyballs at Goose Pub 1
DESCRIPTION;ENCODING=QUOTED-PRINTABLE:Moneyballs at Goose Pub 1=0D=0A Time: 8:30 PM=0D=0A Location: Marymoor, Field 7
CLASS:PUBLIC
PRIORITY:5
BEGIN:VALARM
TRIGGER:-PT330M
ACTION:DISPLAY
DESCRIPTION:Reminder
END:VALARM
END:VEVENT
BEGIN:VEVENT
DTSTART:2013-05-09T03:30:00Z
DTEND:2013-05-09T06:00:00Z
LOCATION:HV1: Hidden Valley, Field 1
CATEGORIES:Softball,Goose Pub 1,BB/SAA
UID:30ACF2157FE2114DB1FD5A4497A3726D:
DTSTAMP:2026-04-21T05:33:57Z:
SUMMARY:Silver Foxes at Goose Pub 1
DESCRIPTION;ENCODING=QUOTED-PRINTABLE:Silver Foxes at Goose Pub 1=0D=0A Time: 8:30 PM=0D=0A Location: Hidden Valley, Field 1
CLASS:PUBLIC
PRIORITY:5
BEGIN:VALARM
TRIGGER:-PT330M
ACTION:DISPLAY
DESCRIPTION:Reminder
END:VALARM
END:VEVENT
BEGIN:VEVENT
DTSTART:2013-05-16T01:00:00Z
DTEND:2013-05-16T03:30:00Z
LOCATION:MM7: Marymoor, Field 7
CATEGORIES:Softball,Goose Pub 1,BB/SAA
UID:17DA6E847F98C4F96DD68753595B045:
DTSTAMP:2026-04-21T05:33:57Z:
SUMMARY:Slap Dat Pitch at Goose Pub 1
DESCRIPTION;ENCODING=QUOTED-PRINTABLE:Slap Dat Pitch at Goose Pub 1=0D=0A Time: 6:00 PM=0D=0A Location: Marymoor, Field 7
CLASS:PUBLIC
PRIORITY:5
BEGIN:VALARM
TRIGGER:-PT180M
ACTION:DISPLAY
DESCRIPTION:Reminder
END:VALARM
END:VEVENT
BEGIN:VEVENT
DTSTART:2013-05-23T01:00:00Z
DTEND:2013-05-23T03:30:00Z
LOCATION:HV1: Hidden Valley, Field 1
CATEGORIES:Softball,Goose Pub 1,BB/SAA
UID:5C6BDDB79234D04CABCF31587A811AD1:
DTSTAMP:2026-04-21T05:33:57Z:
SUMMARY:Goose Pub 1 at Mad Dogs
DESCRIPTION;ENCODING=QUOTED-PRINTABLE:Goose Pub 1 at Mad Dogs=0D=0A Time: 6:00 PM=0D=0A Location: Hidden Valley, Field 1
CLASS:PUBLIC
PRIORITY:5
BEGIN:VALARM
TRIGGER:-PT180M
ACTION:DISPLAY
DESCRIPTION:Reminder
END:VALARM
END:VEVENT
BEGIN:VEVENT
DTSTART:2013-05-30T01:00:00Z
DTEND:2013-05-30T03:30:00Z
LOCATION:SAM2: Sammamish High School, Field 2
CATEGORIES:Softball,Goose Pub 1,BB/SAA
UID:2DFEEFEA6FD194B86CBB114311B652F:
DTSTAMP:2026-04-21T05:33:57Z:
SUMMARY:Problem Solvers at Goose Pub 1
DESCRIPTION;ENCODING=QUOTED-PRINTABLE:Problem Solvers at Goose Pub 1=0D=0A Time: 6:00 PM=0D=0A Location: Sammamish High School, Field 2
CLASS:PUBLIC
PRIORITY:5
BEGIN:VALARM
TRIGGER:-PT180M
ACTION:DISPLAY
DESCRIPTION:Reminder
END:VALARM
END:VEVENT
BEGIN:VEVENT
DTSTART:2013-06-06T01:00:00Z
DTEND:2013-06-06T03:30:00Z
LOCATION:HV1: Hidden Valley, Field 1
CATEGORIES:Softball,Goose Pub 1,BB/SAA
UID:31FCC34AF4219A4186E4C27A124F403D:
DTSTAMP:2026-04-21T05:33:57Z:
SUMMARY:Goose Pub 1 at Team Shocker
DESCRIPTION;ENCODING=QUOTED-PRINTABLE:Goose Pub 1 at Team Shocker=0D=0A Time: 6:00 PM=0D=0A Location: Hidden Valley, Field 1
CLASS:PUBLIC
PRIORITY:5
BEGIN:VALARM
TRIGGER:-PT180M
ACTION:DISPLAY
DESCRIPTION:Reminder
END:VALARM
END:VEVENT
BEGIN:VEVENT
DTSTART:2013-06-14T02:15:00Z
DTEND:2013-06-14T04:45:00Z
LOCATION:MM7: Marymoor, Field 7
CATEGORIES:Softball,Goose Pub 1,BB/SAA
UID:BC66929B7AFE4B43A5227569AB84DE85:
DTSTAMP:2026-04-21T05:33:57Z:
SUMMARY:Silver Foxes at Goose Pub 1
DESCRIPTION;ENCODING=QUOTED-PRINTABLE:Silver Foxes at Goose Pub 1=0D=0A Time: 7:15 PM=0D=0A Location: Marymoor, Field 7
CLASS:PUBLIC
PRIORITY:5
BEGIN:VALARM
TRIGGER:-PT255M
ACTION:DISPLAY
DESCRIPTION:Reminder
END:VALARM
END:VEVENT
BEGIN:VEVENT
DTSTART:2013-06-20T02:30:00Z
DTEND:2013-06-20T05:00:00Z
LOCATION:MM7: Marymoor, Field 7
CATEGORIES:Softball,Goose Pub 1,BB/SAA
UID:E43412319D9654AB3F3198539F06071:
DTSTAMP:2026-04-21T05:33:57Z:
SUMMARY:Goose Pub 1 at Kona Kitchen
DESCRIPTION;ENCODING=QUOTED-PRINTABLE:Goose Pub 1 at Kona Kitchen=0D=0A Time: 7:30 PM=0D=0A Location: Marymoor, Field 7
CLASS:PUBLIC
PRIORITY:5
BEGIN:VALARM
TRIGGER:-PT270M
ACTION:DISPLAY
DESCRIPTION:Reminder
END:VALARM
END:VEVENT
END:VCALENDAR
