BEGIN:VCALENDAR
PRODID:-//Microsoft Corporation//Outlook 11.0 MIMEDIR//EN
VERSION:2.0
METHOD:PUBLISH
BEGIN:VEVENT
DTSTART:2013-04-09T03:30:00Z
DTEND:2013-04-09T06:00:00Z
LOCATION:MM7: Marymoor, Field 7
CATEGORIES:Softball,Dream killers,BB/SAA
UID:5521DDB25F801A41836391D1516A42:
DTSTAMP:2026-04-21T05:29:32Z:
SUMMARY:Dream killers at En Fuego
DESCRIPTION;ENCODING=QUOTED-PRINTABLE:Dream killers at En Fuego=0D=0A Time: 8:30 PM=0D=0A Location: Marymoor, Field 7
CLASS:PUBLIC
PRIORITY:5
BEGIN:VALARM
TRIGGER:-PT330M
ACTION:DISPLAY
DESCRIPTION:Reminder
END:VALARM
END:VEVENT
BEGIN:VEVENT
DTSTART:2013-04-23T01:00:00Z
DTEND:2013-04-23T03:30:00Z
LOCATION:MM6: Marymoor, Field 6
CATEGORIES:Softball,Dream killers,BB/SAA
UID:E599710F681BB4A98621DA545C97B6B:
DTSTAMP:2026-04-21T05:29:32Z:
SUMMARY:The Combine at Dream killers
DESCRIPTION;ENCODING=QUOTED-PRINTABLE:The Combine at Dream killers=0D=0A Time: 6:00 PM=0D=0A Location: Marymoor, Field 6
CLASS:PUBLIC
PRIORITY:5
BEGIN:VALARM
TRIGGER:-PT180M
ACTION:DISPLAY
DESCRIPTION:Reminder
END:VALARM
END:VEVENT
BEGIN:VEVENT
DTSTART:2013-04-30T03:30:00Z
DTEND:2013-04-30T06:00:00Z
LOCATION:MM6: Marymoor, Field 6
CATEGORIES:Softball,Dream killers,BB/SAA
UID:E271F0CD258DE2458DC7CC8B5EDE6CD0:
DTSTAMP:2026-04-21T05:29:32Z:
SUMMARY:Ace of Bases at Dream killers
DESCRIPTION;ENCODING=QUOTED-PRINTABLE:Ace of Bases at Dream killers=0D=0A Time: 8:30 PM=0D=0A Location: Marymoor, Field 6
CLASS:PUBLIC
PRIORITY:5
BEGIN:VALARM
TRIGGER:-PT330M
ACTION:DISPLAY
DESCRIPTION:Reminder
END:VALARM
END:VEVENT
BEGIN:VEVENT
DTSTART:2013-05-07T03:30:00Z
DTEND:2013-05-07T06:00:00Z
LOCATION:HV1: Hidden Valley, Field 1
CATEGORIES:Softball,Dream killers,BB/SAA
UID:DA2073179D109940B4ABCB4610FB842D:
DTSTAMP:2026-04-21T05:29:32Z:
SUMMARY:Do You Concur? at Dream killers
DESCRIPTION;ENCODING=QUOTED-PRINTABLE:Do You Concur? at Dream killers=0D=0A Time: 8:30 PM=0D=0A Location: Hidden Valley, Field 1
CLASS:PUBLIC
PRIORITY:5
BEGIN:VALARM
TRIGGER:-PT330M
ACTION:DISPLAY
DESCRIPTION:Reminder
END:VALARM
END:VEVENT
BEGIN:VEVENT
DTSTART:2013-05-14T03:30:00Z
DTEND:2013-05-14T06:00:00Z
LOCATION:MM6: Marymoor, Field 6
CATEGORIES:Softball,Dream killers,BB/SAA
UID:D2B8CB7F8F6AE478CCC69C862C05DFA:
DTSTAMP:2026-04-21T05:29:32Z:
SUMMARY:Dream killers at En Fuego
DESCRIPTION;ENCODING=QUOTED-PRINTABLE:Dream killers at En Fuego=0D=0A Time: 8:30 PM=0D=0A Location: Marymoor, Field 6
CLASS:PUBLIC
PRIORITY:5
BEGIN:VALARM
TRIGGER:-PT330M
ACTION:DISPLAY
DESCRIPTION:Reminder
END:VALARM
END:VEVENT
BEGIN:VEVENT
DTSTART:2013-05-29T01:00:00Z
DTEND:2013-05-29T03:30:00Z
LOCATION:MM7: Marymoor, Field 7
CATEGORIES:Softball,Dream killers,BB/SAA
UID:3AE759C78723949BA4E4635912661D7:
DTSTAMP:2026-04-21T05:29:32Z:
SUMMARY:Dream killers at The Combine
DESCRIPTION;ENCODING=QUOTED-PRINTABLE:Dream killers at The Combine=0D=0A Time: 6:00 PM=0D=0A Location: Marymoor, Field 7
CLASS:PUBLIC
PRIORITY:5
BEGIN:VALARM
TRIGGER:-PT180M
ACTION:DISPLAY
DESCRIPTION:Reminder
END:VALARM
END:VEVENT
BEGIN:VEVENT
DTSTART:2013-06-04T01:00:00Z
DTEND:2013-06-04T03:30:00Z
LOCATION:SAM2: Sammamish High School, Field 2
CATEGORIES:Softball,Dream killers,BB/SAA
UID:20EA99CD59D07C4F8790715D96B6FA38:
DTSTAMP:2026-04-21T05:29:32Z:
SUMMARY:Ace of Bases at Dream killers
DESCRIPTION;ENCODING=QUOTED-PRINTABLE:Ace of Bases at Dream killers=0D=0A Time: 6:00 PM=0D=0A Location: Sammamish High School, Field 2
CLASS:PUBLIC
PRIORITY:5
BEGIN:VALARM
TRIGGER:-PT180M
ACTION:DISPLAY
DESCRIPTION:Reminder
END:VALARM
END:VEVENT
BEGIN:VEVENT
DTSTART:2013-06-11T01:00:00Z
DTEND:2013-06-11T03:30:00Z
LOCATION:HV1: Hidden Valley, Field 1
CATEGORIES:Softball,Dream killers,BB/SAA
UID:759F99D3ACE34F479F91F945962C834E:
DTSTAMP:2026-04-21T05:29:32Z:
SUMMARY:Dream killers at Do You Concur?
DESCRIPTION;ENCODING=QUOTED-PRINTABLE:Dream killers at Do You Concur?=0D=0A Time: 6:00 PM=0D=0A Location: Hidden Valley, Field 1
CLASS:PUBLIC
PRIORITY:5
BEGIN:VALARM
TRIGGER:-PT180M
ACTION:DISPLAY
DESCRIPTION:Reminder
END:VALARM
END:VEVENT
BEGIN:VEVENT
DTSTART:2013-06-25T02:15:00Z
DTEND:2013-06-25T04:45:00Z
LOCATION:MM6: Marymoor, Field 6
CATEGORIES:Softball,Dream killers,BB/SAA
UID:2A4CCE93561D3D4184863E7CFE327BE:
DTSTAMP:2026-04-21T05:29:32Z:
SUMMARY:Ace of Bases at Dream killers
DESCRIPTION;ENCODING=QUOTED-PRINTABLE:Ace of Bases at Dream killers=0D=0A Time: 7:15 PM=0D=0A Location: Marymoor, Field 6
CLASS:PUBLIC
PRIORITY:5
BEGIN:VALARM
TRIGGER:-PT255M
ACTION:DISPLAY
DESCRIPTION:Reminder
END:VALARM
END:VEVENT
BEGIN:VEVENT
DTSTART:2013-07-02T01:00:00Z
DTEND:2013-07-02T03:30:00Z
LOCATION:MM6: Marymoor, Field 6
CATEGORIES:Softball,Dream killers,BB/SAA
UID:AAE3EF94C2B94395BA31FA25A22684:
DTSTAMP:2026-04-21T05:29:32Z:
SUMMARY:Dream killers at Roundabouts
DESCRIPTION;ENCODING=QUOTED-PRINTABLE:Dream killers at Roundabouts=0D=0A Time: 6:00 PM=0D=0A Location: Marymoor, Field 6
CLASS:PUBLIC
PRIORITY:5
BEGIN:VALARM
TRIGGER:-PT180M
ACTION:DISPLAY
DESCRIPTION:Reminder
END:VALARM
END:VEVENT
END:VCALENDAR
