BEGIN:VCALENDAR
PRODID:-//Microsoft Corporation//Outlook 11.0 MIMEDIR//EN
VERSION:2.0
METHOD:PUBLISH
BEGIN:VEVENT
DTSTART:2013-04-10T01:00:00Z
DTEND:2013-04-10T03:30:00Z
LOCATION:MM7: Marymoor, Field 7
CATEGORIES:Softball,Dreadsox,BB/SAA
UID:256E629C92D72246A4ABE176E51ADA46:
DTSTAMP:2026-04-21T07:07:41Z:
SUMMARY:Roundabouts at Dreadsox
DESCRIPTION;ENCODING=QUOTED-PRINTABLE:Roundabouts at Dreadsox=0D=0A Time: 6:00 PM=0D=0A Location: Marymoor, Field 7
CLASS:PUBLIC
PRIORITY:5
BEGIN:VALARM
TRIGGER:-PT180M
ACTION:DISPLAY
DESCRIPTION:Reminder
END:VALARM
END:VEVENT
BEGIN:VEVENT
DTSTART:2013-04-16T03:30:00Z
DTEND:2013-04-16T06:00:00Z
LOCATION:HV1: Hidden Valley, Field 1
CATEGORIES:Softball,Dreadsox,BB/SAA
UID:2074738FB5E0D848978F131646C914EF:
DTSTAMP:2026-04-21T07:07:41Z:
SUMMARY:Fielder's Choice at Dreadsox
DESCRIPTION;ENCODING=QUOTED-PRINTABLE:Fielder's Choice at Dreadsox=0D=0A Time: 8:30 PM=0D=0A Location: Hidden Valley, Field 1
CLASS:PUBLIC
PRIORITY:5
BEGIN:VALARM
TRIGGER:-PT330M
ACTION:DISPLAY
DESCRIPTION:Reminder
END:VALARM
END:VEVENT
BEGIN:VEVENT
DTSTART:2013-04-23T01:00:00Z
DTEND:2013-04-23T03:30:00Z
LOCATION:HV1: Hidden Valley, Field 1
CATEGORIES:Softball,Dreadsox,BB/SAA
UID:BA9CB2A4F8CAA44ABF74BE61F7F9DA6D:
DTSTAMP:2026-04-21T07:07:41Z:
SUMMARY:Dreadsox at DinoMo's
DESCRIPTION;ENCODING=QUOTED-PRINTABLE:Dreadsox at DinoMo's=0D=0A Time: 6:00 PM=0D=0A Location: Hidden Valley, Field 1
CLASS:PUBLIC
PRIORITY:5
BEGIN:VALARM
TRIGGER:-PT180M
ACTION:DISPLAY
DESCRIPTION:Reminder
END:VALARM
END:VEVENT
BEGIN:VEVENT
DTSTART:2013-04-30T01:00:00Z
DTEND:2013-04-30T03:30:00Z
LOCATION:MM7: Marymoor, Field 7
CATEGORIES:Softball,Dreadsox,BB/SAA
UID:C21055AEBD1CB6419EE86986744F13C7:
DTSTAMP:2026-04-21T07:07:41Z:
SUMMARY:Dreadsox at MNF club
DESCRIPTION;ENCODING=QUOTED-PRINTABLE:Dreadsox at MNF club=0D=0A Time: 6:00 PM=0D=0A Location: Marymoor, Field 7
CLASS:PUBLIC
PRIORITY:5
BEGIN:VALARM
TRIGGER:-PT180M
ACTION:DISPLAY
DESCRIPTION:Reminder
END:VALARM
END:VEVENT
BEGIN:VEVENT
DTSTART:2013-05-07T01:00:00Z
DTEND:2013-05-07T03:30:00Z
LOCATION:HV1: Hidden Valley, Field 1
CATEGORIES:Softball,Dreadsox,BB/SAA
UID:6254D351BC1D4342A9D6131B874B5A7:
DTSTAMP:2026-04-21T07:07:41Z:
SUMMARY:Dreadsox at Pirates
DESCRIPTION;ENCODING=QUOTED-PRINTABLE:Dreadsox at Pirates=0D=0A Time: 6:00 PM=0D=0A Location: Hidden Valley, Field 1
CLASS:PUBLIC
PRIORITY:5
BEGIN:VALARM
TRIGGER:-PT180M
ACTION:DISPLAY
DESCRIPTION:Reminder
END:VALARM
END:VEVENT
BEGIN:VEVENT
DTSTART:2013-05-14T03:30:00Z
DTEND:2013-05-14T06:00:00Z
LOCATION:MM7: Marymoor, Field 7
CATEGORIES:Softball,Dreadsox,BB/SAA
UID:2D3D56A083E7B342899785AFA5EBA952:
DTSTAMP:2026-04-21T07:07:41Z:
SUMMARY:Dreadsox at Triple Play
DESCRIPTION;ENCODING=QUOTED-PRINTABLE:Dreadsox at Triple Play=0D=0A Time: 8:30 PM=0D=0A Location: Marymoor, Field 7
CLASS:PUBLIC
PRIORITY:5
BEGIN:VALARM
TRIGGER:-PT330M
ACTION:DISPLAY
DESCRIPTION:Reminder
END:VALARM
END:VEVENT
BEGIN:VEVENT
DTSTART:2013-05-21T03:30:00Z
DTEND:2013-05-21T06:00:00Z
LOCATION:MM7: Marymoor, Field 7
CATEGORIES:Softball,Dreadsox,BB/SAA
UID:221D6E3B15374F41A94D7A4631EB85E7:
DTSTAMP:2026-04-21T07:07:41Z:
SUMMARY:Brookshire Homes at Dreadsox
DESCRIPTION;ENCODING=QUOTED-PRINTABLE:Brookshire Homes at Dreadsox=0D=0A Time: 8:30 PM=0D=0A Location: Marymoor, Field 7
CLASS:PUBLIC
PRIORITY:5
BEGIN:VALARM
TRIGGER:-PT330M
ACTION:DISPLAY
DESCRIPTION:Reminder
END:VALARM
END:VEVENT
BEGIN:VEVENT
DTSTART:2013-05-29T03:30:00Z
DTEND:2013-05-29T06:00:00Z
LOCATION:MM7: Marymoor, Field 7
CATEGORIES:Softball,Dreadsox,BB/SAA
UID:6E756D9E77164C409C34D3203A46B4C2:
DTSTAMP:2026-04-21T07:07:41Z:
SUMMARY:Fielder's Choice at Dreadsox
DESCRIPTION;ENCODING=QUOTED-PRINTABLE:Fielder's Choice at Dreadsox=0D=0A Time: 8:30 PM=0D=0A Location: Marymoor, Field 7
CLASS:PUBLIC
PRIORITY:5
BEGIN:VALARM
TRIGGER:-PT330M
ACTION:DISPLAY
DESCRIPTION:Reminder
END:VALARM
END:VEVENT
BEGIN:VEVENT
DTSTART:2013-06-04T03:30:00Z
DTEND:2013-06-04T06:00:00Z
LOCATION:MM7: Marymoor, Field 7
CATEGORIES:Softball,Dreadsox,BB/SAA
UID:22249026B7F7F540A326DE6F64CA36DE:
DTSTAMP:2026-04-21T07:07:41Z:
SUMMARY:Fielder's Choice at Dreadsox
DESCRIPTION;ENCODING=QUOTED-PRINTABLE:Fielder's Choice at Dreadsox=0D=0A Time: 8:30 PM=0D=0A Location: Marymoor, Field 7
CLASS:PUBLIC
PRIORITY:5
BEGIN:VALARM
TRIGGER:-PT330M
ACTION:DISPLAY
DESCRIPTION:Reminder
END:VALARM
END:VEVENT
BEGIN:VEVENT
DTSTART:2013-06-18T03:30:00Z
DTEND:2013-06-18T06:00:00Z
LOCATION:HV1: Hidden Valley, Field 1
CATEGORIES:Softball,Dreadsox,BB/SAA
UID:D4EAD5E7A85DB41BD2ECE8645B2E80:
DTSTAMP:2026-04-21T07:07:41Z:
SUMMARY:Dreadsox at MNF club
DESCRIPTION;ENCODING=QUOTED-PRINTABLE:Dreadsox at MNF club=0D=0A Time: 8:30 PM=0D=0A Location: Hidden Valley, Field 1
CLASS:PUBLIC
PRIORITY:5
BEGIN:VALARM
TRIGGER:-PT330M
ACTION:DISPLAY
DESCRIPTION:Reminder
END:VALARM
END:VEVENT
END:VCALENDAR
