BEGIN:VCALENDAR
PRODID:-//Microsoft Corporation//Outlook 11.0 MIMEDIR//EN
VERSION:2.0
METHOD:PUBLISH
BEGIN:VEVENT
DTSTART:2013-04-17T01:00:00Z
DTEND:2013-04-17T03:30:00Z
LOCATION:MM6: Marymoor, Field 6
CATEGORIES:Softball,Cabo Loco / JC Wright,BB/SAA
UID:3FAE40FC7C6AD746A95A8E7A6AA461D3:
DTSTAMP:2026-04-21T05:35:36Z:
SUMMARY:Cabo Loco / JC Wright at Regulators
DESCRIPTION;ENCODING=QUOTED-PRINTABLE:Cabo Loco / JC Wright at Regulators=0D=0A Time: 6:00 PM=0D=0A Location: Marymoor, Field 6
CLASS:PUBLIC
PRIORITY:5
BEGIN:VALARM
TRIGGER:-PT180M
ACTION:DISPLAY
DESCRIPTION:Reminder
END:VALARM
END:VEVENT
BEGIN:VEVENT
DTSTART:2013-04-27T03:30:00Z
DTEND:2013-04-27T06:00:00Z
LOCATION:HV1: Hidden Valley, Field 1
CATEGORIES:Softball,Cabo Loco / JC Wright,BB/SAA
UID:D4B62444859F234A9ADAA1238819311C:
DTSTAMP:2026-04-21T05:35:36Z:
SUMMARY:Cabo Loco / JC Wright at All Saints
DESCRIPTION;ENCODING=QUOTED-PRINTABLE:Cabo Loco / JC Wright at All Saints=0D=0A Time: 8:30 PM=0D=0A Location: Hidden Valley, Field 1
CLASS:PUBLIC
PRIORITY:5
BEGIN:VALARM
TRIGGER:-PT330M
ACTION:DISPLAY
DESCRIPTION:Reminder
END:VALARM
END:VEVENT
BEGIN:VEVENT
DTSTART:2013-05-01T01:00:00Z
DTEND:2013-05-01T03:30:00Z
LOCATION:MM6: Marymoor, Field 6
CATEGORIES:Softball,Cabo Loco / JC Wright,BB/SAA
UID:DB8DF4E9BF6D4428D376DFA8D1A6FE:
DTSTAMP:2026-04-21T05:35:36Z:
SUMMARY:Palmer's Bombers at Cabo Loco / JC Wright
DESCRIPTION;ENCODING=QUOTED-PRINTABLE:Palmer's Bombers at Cabo Loco / JC Wright=0D=0A Time: 6:00 PM=0D=0A Location: Marymoor, Field 6
CLASS:PUBLIC
PRIORITY:5
BEGIN:VALARM
TRIGGER:-PT180M
ACTION:DISPLAY
DESCRIPTION:Reminder
END:VALARM
END:VEVENT
BEGIN:VEVENT
DTSTART:2013-05-11T01:00:00Z
DTEND:2013-05-11T03:30:00Z
LOCATION:HV1: Hidden Valley, Field 1
CATEGORIES:Softball,Cabo Loco / JC Wright,BB/SAA
UID:3796F6D2735BCD489D816D6459B384E:
DTSTAMP:2026-04-21T05:35:36Z:
SUMMARY:Where My Pitches At? at Cabo Loco / JC Wright
DESCRIPTION;ENCODING=QUOTED-PRINTABLE:Where My Pitches At? at Cabo Loco / JC Wright=0D=0A Time: 6:00 PM=0D=0A Location: Hidden Valley, Field 1
CLASS:PUBLIC
PRIORITY:5
BEGIN:VALARM
TRIGGER:-PT180M
ACTION:DISPLAY
DESCRIPTION:Reminder
END:VALARM
END:VEVENT
BEGIN:VEVENT
DTSTART:2013-05-18T03:30:00Z
DTEND:2013-05-18T06:00:00Z
LOCATION:HV1: Hidden Valley, Field 1
CATEGORIES:Softball,Cabo Loco / JC Wright,BB/SAA
UID:FF2DBC869DE5BD4090CEACCF33786183:
DTSTAMP:2026-04-21T05:35:36Z:
SUMMARY:Cabo Loco / JC Wright at Kona Kitchen
DESCRIPTION;ENCODING=QUOTED-PRINTABLE:Cabo Loco / JC Wright at Kona Kitchen=0D=0A Time: 8:30 PM=0D=0A Location: Hidden Valley, Field 1
CLASS:PUBLIC
PRIORITY:5
BEGIN:VALARM
TRIGGER:-PT330M
ACTION:DISPLAY
DESCRIPTION:Reminder
END:VALARM
END:VEVENT
BEGIN:VEVENT
DTSTART:2013-05-22T01:00:00Z
DTEND:2013-05-22T03:30:00Z
LOCATION:MM7: Marymoor, Field 7
CATEGORIES:Softball,Cabo Loco / JC Wright,BB/SAA
UID:12AB9B4863D2DD439A4E9BC72B29B24F:
DTSTAMP:2026-04-21T05:35:36Z:
SUMMARY:Cabo Loco / JC Wright at Regulators
DESCRIPTION;ENCODING=QUOTED-PRINTABLE:Cabo Loco / JC Wright at Regulators=0D=0A Time: 6:00 PM=0D=0A Location: Marymoor, Field 7
CLASS:PUBLIC
PRIORITY:5
BEGIN:VALARM
TRIGGER:-PT180M
ACTION:DISPLAY
DESCRIPTION:Reminder
END:VALARM
END:VEVENT
BEGIN:VEVENT
DTSTART:2013-06-01T01:00:00Z
DTEND:2013-06-01T03:30:00Z
LOCATION:HV1: Hidden Valley, Field 1
CATEGORIES:Softball,Cabo Loco / JC Wright,BB/SAA
UID:1AB65D6EA0D26349AFCEA9DD96461FFE:
DTSTAMP:2026-04-21T05:35:36Z:
SUMMARY:All Saints at Cabo Loco / JC Wright
DESCRIPTION;ENCODING=QUOTED-PRINTABLE:All Saints at Cabo Loco / JC Wright=0D=0A Time: 6:00 PM=0D=0A Location: Hidden Valley, Field 1
CLASS:PUBLIC
PRIORITY:5
BEGIN:VALARM
TRIGGER:-PT180M
ACTION:DISPLAY
DESCRIPTION:Reminder
END:VALARM
END:VEVENT
BEGIN:VEVENT
DTSTART:2013-06-05T01:00:00Z
DTEND:2013-06-05T03:30:00Z
LOCATION:MM6: Marymoor, Field 6
CATEGORIES:Softball,Cabo Loco / JC Wright,BB/SAA
UID:BC6789397D99CA418D79F3FF24AD7E9:
DTSTAMP:2026-04-21T05:35:36Z:
SUMMARY:Palmer's Bombers at Cabo Loco / JC Wright
DESCRIPTION;ENCODING=QUOTED-PRINTABLE:Palmer's Bombers at Cabo Loco / JC Wright=0D=0A Time: 6:00 PM=0D=0A Location: Marymoor, Field 6
CLASS:PUBLIC
PRIORITY:5
BEGIN:VALARM
TRIGGER:-PT180M
ACTION:DISPLAY
DESCRIPTION:Reminder
END:VALARM
END:VEVENT
BEGIN:VEVENT
DTSTART:2013-06-20T01:00:00Z
DTEND:2013-06-20T03:30:00Z
LOCATION:MM6: Marymoor, Field 6
CATEGORIES:Softball,Cabo Loco / JC Wright,BB/SAA
UID:30FAC887DC77A641B61C7C51653999:
DTSTAMP:2026-04-21T05:35:36Z:
SUMMARY:First Presbyterian at Cabo Loco / JC Wright
DESCRIPTION;ENCODING=QUOTED-PRINTABLE:First Presbyterian at Cabo Loco / JC Wright=0D=0A Time: 6:00 PM=0D=0A Location: Marymoor, Field 6
CLASS:PUBLIC
PRIORITY:5
BEGIN:VALARM
TRIGGER:-PT180M
ACTION:DISPLAY
DESCRIPTION:Reminder
END:VALARM
END:VEVENT
END:VCALENDAR
