BEGIN:VCALENDAR
PRODID:-//Microsoft Corporation//Outlook 11.0 MIMEDIR//EN
VERSION:2.0
METHOD:PUBLISH
BEGIN:VEVENT
DTSTART:2011-07-10T10:30:00Z
DTEND:2011-07-11T01:00:00Z
LOCATION:SAM1: Sammamish High School, Field 1
CATEGORIES:Softball,Strokers, Vol. 2,BB/SAA
UID:3D2A18D8523F6A41911D5DD55F2B55DF:
DTSTAMP:2026-04-23T12:27:04Z:
SUMMARY:Strokers, Vol. 2 at Fog, The
DESCRIPTION;ENCODING=QUOTED-PRINTABLE:Strokers, Vol. 2 at Fog, The=0D=0A Time: 3:30 PM=0D=0A Location: Sammamish High School, Field 1
CLASS:PUBLIC
PRIORITY:5
BEGIN:VALARM
TRIGGER:-PT2910M
ACTION:DISPLAY
DESCRIPTION:Reminder
END:VALARM
END:VEVENT
BEGIN:VEVENT
DTSTART:2011-07-17T06:30:00Z
DTEND:2011-07-17T09:00:00Z
LOCATION:HV1: Hidden Valley, Field 1
CATEGORIES:Softball,Strokers, Vol. 2,BB/SAA
UID:AAEC2A455AFC5948955A7E03CB04BC4:
DTSTAMP:2026-04-23T12:27:04Z:
SUMMARY:Strokers, Vol. 2 at Rally Killers
DESCRIPTION;ENCODING=QUOTED-PRINTABLE:Strokers, Vol. 2 at Rally Killers=0D=0A Time: 11:30 AM=0D=0A Location: Hidden Valley, Field 1
CLASS:PUBLIC
PRIORITY:5
BEGIN:VALARM
TRIGGER:-PT2670M
ACTION:DISPLAY
DESCRIPTION:Reminder
END:VALARM
END:VEVENT
BEGIN:VEVENT
DTSTART:2011-07-24T04:00:00Z
DTEND:2011-07-24T06:30:00Z
LOCATION:HV1: Hidden Valley, Field 1
CATEGORIES:Softball,Strokers, Vol. 2,BB/SAA
UID:51166B8BA4BAD43825B8B5F95BD31E9:
DTSTAMP:2026-04-23T12:27:04Z:
SUMMARY:Ten Spots at Strokers, Vol. 2
DESCRIPTION;ENCODING=QUOTED-PRINTABLE:Ten Spots at Strokers, Vol. 2=0D=0A Time: 9:00 AM=0D=0A Location: Hidden Valley, Field 1
CLASS:PUBLIC
PRIORITY:5
BEGIN:VALARM
TRIGGER:-PT2520M
ACTION:DISPLAY
DESCRIPTION:Reminder
END:VALARM
END:VEVENT
BEGIN:VEVENT
DTSTART:2011-07-31T06:30:00Z
DTEND:2011-07-31T09:00:00Z
LOCATION:HV1: Hidden Valley, Field 1
CATEGORIES:Softball,Strokers, Vol. 2,BB/SAA
UID:C7D47FEF7A5042A586AE5BCF4E3CD6:
DTSTAMP:2026-04-23T12:27:04Z:
SUMMARY:Jackalopes at Strokers, Vol. 2
DESCRIPTION;ENCODING=QUOTED-PRINTABLE:Jackalopes at Strokers, Vol. 2=0D=0A Time: 11:30 AM=0D=0A Location: Hidden Valley, Field 1
CLASS:PUBLIC
PRIORITY:5
BEGIN:VALARM
TRIGGER:-PT2670M
ACTION:DISPLAY
DESCRIPTION:Reminder
END:VALARM
END:VEVENT
BEGIN:VEVENT
DTSTART:2011-08-08T01:00:00Z
DTEND:2011-08-08T03:30:00Z
LOCATION:HV1: Hidden Valley, Field 1
CATEGORIES:Softball,Strokers, Vol. 2,BB/SAA
UID:934485BD48744B49979E45B34D01EC5:
DTSTAMP:2026-04-23T12:27:04Z:
SUMMARY:Strokers, Vol. 2 at Carpet To Go - Sunday
DESCRIPTION;ENCODING=QUOTED-PRINTABLE:Strokers, Vol. 2 at Carpet To Go - Sunday=0D=0A Time: 6:00 PM=0D=0A Location: Hidden Valley, Field 1
CLASS:PUBLIC
PRIORITY:5
BEGIN:VALARM
TRIGGER:-PT3060M
ACTION:DISPLAY
DESCRIPTION:Reminder
END:VALARM
END:VEVENT
BEGIN:VEVENT
DTSTART:2011-08-14T06:30:00Z
DTEND:2011-08-14T09:00:00Z
LOCATION:HV1: Hidden Valley, Field 1
CATEGORIES:Softball,Strokers, Vol. 2,BB/SAA
UID:4C115B6580A46941858310D2D7C7BFD4:
DTSTAMP:2026-04-23T12:27:04Z:
SUMMARY:Strokers, Vol. 2 at Fog, The
DESCRIPTION;ENCODING=QUOTED-PRINTABLE:Strokers, Vol. 2 at Fog, The=0D=0A Time: 11:30 AM=0D=0A Location: Hidden Valley, Field 1
CLASS:PUBLIC
PRIORITY:5
BEGIN:VALARM
TRIGGER:-PT2670M
ACTION:DISPLAY
DESCRIPTION:Reminder
END:VALARM
END:VEVENT
BEGIN:VEVENT
DTSTART:2011-08-15T01:00:00Z
DTEND:2011-08-15T03:30:00Z
LOCATION:HV2: Hidden Valley, Field 2
CATEGORIES:Softball,Strokers, Vol. 2,BB/SAA
UID:F7B318B77F3DC4A9215A580414DBBBA:
DTSTAMP:2026-04-23T12:27:04Z:
SUMMARY:Strokers, Vol. 2 at Fog, The
DESCRIPTION;ENCODING=QUOTED-PRINTABLE:Strokers, Vol. 2 at Fog, The=0D=0A Time: 6:00 PM=0D=0A Location: Hidden Valley, Field 2
CLASS:PUBLIC
PRIORITY:5
BEGIN:VALARM
TRIGGER:-PT3060M
ACTION:DISPLAY
DESCRIPTION:Reminder
END:VALARM
END:VEVENT
BEGIN:VEVENT
DTSTART:2011-08-21T06:30:00Z
DTEND:2011-08-21T09:00:00Z
LOCATION:HV1: Hidden Valley, Field 1
CATEGORIES:Softball,Strokers, Vol. 2,BB/SAA
UID:56A17A6979E2B4478A3D91727C4CCC50:
DTSTAMP:2026-04-23T12:27:04Z:
SUMMARY:Rally Killers at Strokers, Vol. 2
DESCRIPTION;ENCODING=QUOTED-PRINTABLE:Rally Killers at Strokers, Vol. 2=0D=0A Time: 11:30 AM=0D=0A Location: Hidden Valley, Field 1
CLASS:PUBLIC
PRIORITY:5
BEGIN:VALARM
TRIGGER:-PT2670M
ACTION:DISPLAY
DESCRIPTION:Reminder
END:VALARM
END:VEVENT
BEGIN:VEVENT
DTSTART:2011-08-28T04:00:00Z
DTEND:2011-08-28T06:30:00Z
LOCATION:HV1: Hidden Valley, Field 1
CATEGORIES:Softball,Strokers, Vol. 2,BB/SAA
UID:F1D6F6868F7137469DD4B81035934A2D:
DTSTAMP:2026-04-23T12:27:04Z:
SUMMARY:Ten Spots at Strokers, Vol. 2
DESCRIPTION;ENCODING=QUOTED-PRINTABLE:Ten Spots at Strokers, Vol. 2=0D=0A Time: 9:00 AM=0D=0A Location: Hidden Valley, Field 1
CLASS:PUBLIC
PRIORITY:5
BEGIN:VALARM
TRIGGER:-PT2520M
ACTION:DISPLAY
DESCRIPTION:Reminder
END:VALARM
END:VEVENT
END:VCALENDAR
