BEGIN:VCALENDAR
PRODID:-//Microsoft Corporation//Outlook 11.0 MIMEDIR//EN
VERSION:2.0
METHOD:PUBLISH
BEGIN:VEVENT
DTSTART:2011-07-11T01:00:00Z
DTEND:2011-07-11T03:30:00Z
LOCATION:SAM1: Sammamish High School, Field 1
CATEGORIES:Softball,Rally Killers,BB/SAA
UID:DFB58B7AB16B11419BDC829BE1279D37:
DTSTAMP:2026-04-23T12:17:30Z:
SUMMARY:Rally Killers at Jackalopes
DESCRIPTION;ENCODING=QUOTED-PRINTABLE:Rally Killers at Jackalopes=0D=0A Time: 6:00 PM=0D=0A Location: Sammamish High School, Field 1
CLASS:PUBLIC
PRIORITY:5
BEGIN:VALARM
TRIGGER:-PT3060M
ACTION:DISPLAY
DESCRIPTION:Reminder
END:VALARM
END:VEVENT
BEGIN:VEVENT
DTSTART:2011-07-17T06:30:00Z
DTEND:2011-07-17T09:00:00Z
LOCATION:HV1: Hidden Valley, Field 1
CATEGORIES:Softball,Rally Killers,BB/SAA
UID:56C2FA222098A4BA82B8E8C1A74D629:
DTSTAMP:2026-04-23T12:17:30Z:
SUMMARY:Strokers, Vol. 2 at Rally Killers
DESCRIPTION;ENCODING=QUOTED-PRINTABLE:Strokers, Vol. 2 at Rally Killers=0D=0A Time: 11:30 AM=0D=0A Location: Hidden Valley, Field 1
CLASS:PUBLIC
PRIORITY:5
BEGIN:VALARM
TRIGGER:-PT2670M
ACTION:DISPLAY
DESCRIPTION:Reminder
END:VALARM
END:VEVENT
BEGIN:VEVENT
DTSTART:2011-07-24T06:30:00Z
DTEND:2011-07-24T09:00:00Z
LOCATION:HV1: Hidden Valley, Field 1
CATEGORIES:Softball,Rally Killers,BB/SAA
UID:8CABFF0C3FA147A44A7011BF6F92D9:
DTSTAMP:2026-04-23T12:17:30Z:
SUMMARY:Fog, The at Rally Killers
DESCRIPTION;ENCODING=QUOTED-PRINTABLE:Fog, The at Rally Killers=0D=0A Time: 11:30 AM=0D=0A Location: Hidden Valley, Field 1
CLASS:PUBLIC
PRIORITY:5
BEGIN:VALARM
TRIGGER:-PT2670M
ACTION:DISPLAY
DESCRIPTION:Reminder
END:VALARM
END:VEVENT
BEGIN:VEVENT
DTSTART:2011-08-01T01:00:00Z
DTEND:2011-08-01T03:30:00Z
LOCATION:HV1: Hidden Valley, Field 1
CATEGORIES:Softball,Rally Killers,BB/SAA
UID:4955E04BD8F17D419013B65ED54CE1F:
DTSTAMP:2026-04-23T12:17:30Z:
SUMMARY:Carpet To Go - Sunday at Rally Killers
DESCRIPTION;ENCODING=QUOTED-PRINTABLE:Carpet To Go - Sunday at Rally Killers=0D=0A Time: 6:00 PM=0D=0A Location: Hidden Valley, Field 1
CLASS:PUBLIC
PRIORITY:5
BEGIN:VALARM
TRIGGER:-PT3060M
ACTION:DISPLAY
DESCRIPTION:Reminder
END:VALARM
END:VEVENT
BEGIN:VEVENT
DTSTART:2011-08-07T04:00:00Z
DTEND:2011-08-07T06:30:00Z
LOCATION:HV1: Hidden Valley, Field 1
CATEGORIES:Softball,Rally Killers,BB/SAA
UID:BE7850E323781148A2B5DFF7DC98CEAE:
DTSTAMP:2026-04-23T12:17:30Z:
SUMMARY:Rally Killers at Ten Spots
DESCRIPTION;ENCODING=QUOTED-PRINTABLE:Rally Killers at Ten Spots=0D=0A Time: 9:00 AM=0D=0A Location: Hidden Valley, Field 1
CLASS:PUBLIC
PRIORITY:5
BEGIN:VALARM
TRIGGER:-PT2520M
ACTION:DISPLAY
DESCRIPTION:Reminder
END:VALARM
END:VEVENT
BEGIN:VEVENT
DTSTART:2011-08-14T10:30:00Z
DTEND:2011-08-15T01:00:00Z
LOCATION:HV1: Hidden Valley, Field 1
CATEGORIES:Softball,Rally Killers,BB/SAA
UID:FC74367CC123D941921031A4FBEBF:
DTSTAMP:2026-04-23T12:17:30Z:
SUMMARY:Rally Killers at Jackalopes
DESCRIPTION;ENCODING=QUOTED-PRINTABLE:Rally Killers at Jackalopes=0D=0A Time: 3:30 PM=0D=0A Location: Hidden Valley, Field 1
CLASS:PUBLIC
PRIORITY:5
BEGIN:VALARM
TRIGGER:-PT2910M
ACTION:DISPLAY
DESCRIPTION:Reminder
END:VALARM
END:VEVENT
BEGIN:VEVENT
DTSTART:2011-08-21T06:30:00Z
DTEND:2011-08-21T09:00:00Z
LOCATION:HV1: Hidden Valley, Field 1
CATEGORIES:Softball,Rally Killers,BB/SAA
UID:BD366498DD1D6D4B891AF4AE14F37CA:
DTSTAMP:2026-04-23T12:17:30Z:
SUMMARY:Rally Killers at Strokers, Vol. 2
DESCRIPTION;ENCODING=QUOTED-PRINTABLE:Rally Killers at Strokers, Vol. 2=0D=0A Time: 11:30 AM=0D=0A Location: Hidden Valley, Field 1
CLASS:PUBLIC
PRIORITY:5
BEGIN:VALARM
TRIGGER:-PT2670M
ACTION:DISPLAY
DESCRIPTION:Reminder
END:VALARM
END:VEVENT
BEGIN:VEVENT
DTSTART:2011-08-28T06:30:00Z
DTEND:2011-08-28T09:00:00Z
LOCATION:HV1: Hidden Valley, Field 1
CATEGORIES:Softball,Rally Killers,BB/SAA
UID:882523C4C54E1E4D8AA09C9982FC5244:
DTSTAMP:2026-04-23T12:17:30Z:
SUMMARY:Fog, The at Rally Killers
DESCRIPTION;ENCODING=QUOTED-PRINTABLE:Fog, The at Rally Killers=0D=0A Time: 11:30 AM=0D=0A Location: Hidden Valley, Field 1
CLASS:PUBLIC
PRIORITY:5
BEGIN:VALARM
TRIGGER:-PT2670M
ACTION:DISPLAY
DESCRIPTION:Reminder
END:VALARM
END:VEVENT
END:VCALENDAR
