BEGIN:VCALENDAR
PRODID:-//Microsoft Corporation//Outlook 11.0 MIMEDIR//EN
VERSION:2.0
METHOD:PUBLISH
BEGIN:VEVENT
DTSTART:2011-07-11T01:00:00Z
DTEND:2011-07-11T03:30:00Z
LOCATION:MM7: Marymoor, Field 7
CATEGORIES:Softball,Carpet To Go - Sunday,BB/SAA
UID:F3885BC0A0E81642BD32F21C4E20296:
DTSTAMP:2026-04-23T12:18:57Z:
SUMMARY:Ten Spots at Carpet To Go - Sunday
DESCRIPTION;ENCODING=QUOTED-PRINTABLE:Ten Spots at Carpet To Go - Sunday=0D=0A Time: 6:00 PM=0D=0A Location: Marymoor, Field 7
CLASS:PUBLIC
PRIORITY:5
BEGIN:VALARM
TRIGGER:-PT3060M
ACTION:DISPLAY
DESCRIPTION:Reminder
END:VALARM
END:VEVENT
BEGIN:VEVENT
DTSTART:2011-07-18T01:00:00Z
DTEND:2011-07-18T03:30:00Z
LOCATION:HV1: Hidden Valley, Field 1
CATEGORIES:Softball,Carpet To Go - Sunday,BB/SAA
UID:FFBD8F5BD444974EB0C843E05128320:
DTSTAMP:2026-04-23T12:18:57Z:
SUMMARY:Carpet To Go - Sunday at Fog, The
DESCRIPTION;ENCODING=QUOTED-PRINTABLE:Carpet To Go - Sunday at Fog, The=0D=0A Time: 6:00 PM=0D=0A Location: Hidden Valley, Field 1
CLASS:PUBLIC
PRIORITY:5
BEGIN:VALARM
TRIGGER:-PT3060M
ACTION:DISPLAY
DESCRIPTION:Reminder
END:VALARM
END:VEVENT
BEGIN:VEVENT
DTSTART:2011-07-25T01:00:00Z
DTEND:2011-07-25T03:30:00Z
LOCATION:HV1: Hidden Valley, Field 1
CATEGORIES:Softball,Carpet To Go - Sunday,BB/SAA
UID:3CD1BC872D29646A83B575A69E7F684:
DTSTAMP:2026-04-23T12:18:57Z:
SUMMARY:Jackalopes at Carpet To Go - Sunday
DESCRIPTION;ENCODING=QUOTED-PRINTABLE:Jackalopes at Carpet To Go - Sunday=0D=0A Time: 6:00 PM=0D=0A Location: Hidden Valley, Field 1
CLASS:PUBLIC
PRIORITY:5
BEGIN:VALARM
TRIGGER:-PT3060M
ACTION:DISPLAY
DESCRIPTION:Reminder
END:VALARM
END:VEVENT
BEGIN:VEVENT
DTSTART:2011-08-01T01:00:00Z
DTEND:2011-08-01T03:30:00Z
LOCATION:HV1: Hidden Valley, Field 1
CATEGORIES:Softball,Carpet To Go - Sunday,BB/SAA
UID:657E515FFBF6D54CAC82837484813AA5:
DTSTAMP:2026-04-23T12:18:57Z:
SUMMARY:Carpet To Go - Sunday at Rally Killers
DESCRIPTION;ENCODING=QUOTED-PRINTABLE:Carpet To Go - Sunday at Rally Killers=0D=0A Time: 6:00 PM=0D=0A Location: Hidden Valley, Field 1
CLASS:PUBLIC
PRIORITY:5
BEGIN:VALARM
TRIGGER:-PT3060M
ACTION:DISPLAY
DESCRIPTION:Reminder
END:VALARM
END:VEVENT
BEGIN:VEVENT
DTSTART:2011-08-08T01:00:00Z
DTEND:2011-08-08T03:30:00Z
LOCATION:HV1: Hidden Valley, Field 1
CATEGORIES:Softball,Carpet To Go - Sunday,BB/SAA
UID:DB9EE4B7A755A04DB216266897178EEA:
DTSTAMP:2026-04-23T12:18:57Z:
SUMMARY:Strokers, Vol. 2 at Carpet To Go - Sunday
DESCRIPTION;ENCODING=QUOTED-PRINTABLE:Strokers, Vol. 2 at Carpet To Go - Sunday=0D=0A Time: 6:00 PM=0D=0A Location: Hidden Valley, Field 1
CLASS:PUBLIC
PRIORITY:5
BEGIN:VALARM
TRIGGER:-PT3060M
ACTION:DISPLAY
DESCRIPTION:Reminder
END:VALARM
END:VEVENT
BEGIN:VEVENT
DTSTART:2011-08-15T01:00:00Z
DTEND:2011-08-15T03:30:00Z
LOCATION:HV1: Hidden Valley, Field 1
CATEGORIES:Softball,Carpet To Go - Sunday,BB/SAA
UID:684FD5589436B54A8EA9C8CDDA1B563:
DTSTAMP:2026-04-23T12:18:57Z:
SUMMARY:Carpet To Go - Sunday at Ten Spots
DESCRIPTION;ENCODING=QUOTED-PRINTABLE:Carpet To Go - Sunday at Ten Spots=0D=0A Time: 6:00 PM=0D=0A Location: Hidden Valley, Field 1
CLASS:PUBLIC
PRIORITY:5
BEGIN:VALARM
TRIGGER:-PT3060M
ACTION:DISPLAY
DESCRIPTION:Reminder
END:VALARM
END:VEVENT
BEGIN:VEVENT
DTSTART:2011-08-22T01:00:00Z
DTEND:2011-08-22T03:30:00Z
LOCATION:HV1: Hidden Valley, Field 1
CATEGORIES:Softball,Carpet To Go - Sunday,BB/SAA
UID:E4B4F0D699A03241936A52C748B1839A:
DTSTAMP:2026-04-23T12:18:57Z:
SUMMARY:Fog, The at Carpet To Go - Sunday
DESCRIPTION;ENCODING=QUOTED-PRINTABLE:Fog, The at Carpet To Go - Sunday=0D=0A Time: 6:00 PM=0D=0A Location: Hidden Valley, Field 1
CLASS:PUBLIC
PRIORITY:5
BEGIN:VALARM
TRIGGER:-PT3060M
ACTION:DISPLAY
DESCRIPTION:Reminder
END:VALARM
END:VEVENT
BEGIN:VEVENT
DTSTART:2011-08-29T01:00:00Z
DTEND:2011-08-29T03:30:00Z
LOCATION:HV1: Hidden Valley, Field 1
CATEGORIES:Softball,Carpet To Go - Sunday,BB/SAA
UID:EECCDD7C9981A43A4677E83E95142B:
DTSTAMP:2026-04-23T12:18:57Z:
SUMMARY:Carpet To Go - Sunday at Jackalopes
DESCRIPTION;ENCODING=QUOTED-PRINTABLE:Carpet To Go - Sunday at Jackalopes=0D=0A Time: 6:00 PM=0D=0A Location: Hidden Valley, Field 1
CLASS:PUBLIC
PRIORITY:5
BEGIN:VALARM
TRIGGER:-PT3060M
ACTION:DISPLAY
DESCRIPTION:Reminder
END:VALARM
END:VEVENT
END:VCALENDAR
