BEGIN:VCALENDAR
PRODID:-//Microsoft Corporation//Outlook 11.0 MIMEDIR//EN
VERSION:2.0
METHOD:PUBLISH
BEGIN:VEVENT
DTSTART:2011-07-15T03:30:00Z
DTEND:2011-07-15T06:00:00Z
LOCATION:MM6: Marymoor, Field 6
CATEGORIES:Softball,Skyway Neighbors,BB/SAA
UID:51CCBC823737F44982A9F4C88FA96B9B:
DTSTAMP:2026-04-23T11:36:45Z:
SUMMARY:Skyway Neighbors at Bubs, The
DESCRIPTION;ENCODING=QUOTED-PRINTABLE:Skyway Neighbors at Bubs, The=0D=0A Time: 8:30 PM=0D=0A Location: Marymoor, Field 6
CLASS:PUBLIC
PRIORITY:5
BEGIN:VALARM
TRIGGER:-PT330M
ACTION:DISPLAY
DESCRIPTION:Reminder
END:VALARM
END:VEVENT
BEGIN:VEVENT
DTSTART:2011-07-20T03:30:00Z
DTEND:2011-07-20T06:00:00Z
LOCATION:HV1: Hidden Valley, Field 1
CATEGORIES:Softball,Skyway Neighbors,BB/SAA
UID:89247AD33CFE554A9F415EABEE647017:
DTSTAMP:2026-04-23T11:36:45Z:
SUMMARY:JC Wright Sales at Skyway Neighbors
DESCRIPTION;ENCODING=QUOTED-PRINTABLE:JC Wright Sales at Skyway Neighbors=0D=0A Time: 8:30 PM=0D=0A Location: Hidden Valley, Field 1
CLASS:PUBLIC
PRIORITY:5
BEGIN:VALARM
TRIGGER:-PT330M
ACTION:DISPLAY
DESCRIPTION:Reminder
END:VALARM
END:VEVENT
BEGIN:VEVENT
DTSTART:2011-07-29T03:30:00Z
DTEND:2011-07-29T06:00:00Z
LOCATION:MM7: Marymoor, Field 7
CATEGORIES:Softball,Skyway Neighbors,BB/SAA
UID:9F4B47D69A826445881DD373C2715F:
DTSTAMP:2026-04-23T11:36:45Z:
SUMMARY:Rub One Out at Skyway Neighbors
DESCRIPTION;ENCODING=QUOTED-PRINTABLE:Rub One Out at Skyway Neighbors=0D=0A Time: 8:30 PM=0D=0A Location: Marymoor, Field 7
CLASS:PUBLIC
PRIORITY:5
BEGIN:VALARM
TRIGGER:-PT330M
ACTION:DISPLAY
DESCRIPTION:Reminder
END:VALARM
END:VEVENT
BEGIN:VEVENT
DTSTART:2011-08-03T01:00:00Z
DTEND:2011-08-03T03:30:00Z
LOCATION:HV1: Hidden Valley, Field 1
CATEGORIES:Softball,Skyway Neighbors,BB/SAA
UID:AFD459448AC5E4C8FE844F7EEA8ADF:
DTSTAMP:2026-04-23T11:36:45Z:
SUMMARY:Whitcomb Ins./Allstate at Skyway Neighbors
DESCRIPTION;ENCODING=QUOTED-PRINTABLE:Whitcomb Ins./Allstate at Skyway Neighbors=0D=0A Time: 6:00 PM=0D=0A Location: Hidden Valley, Field 1
CLASS:PUBLIC
PRIORITY:5
BEGIN:VALARM
TRIGGER:-PT180M
ACTION:DISPLAY
DESCRIPTION:Reminder
END:VALARM
END:VEVENT
BEGIN:VEVENT
DTSTART:2011-08-12T03:30:00Z
DTEND:2011-08-12T06:00:00Z
LOCATION:MM7: Marymoor, Field 7
CATEGORIES:Softball,Skyway Neighbors,BB/SAA
UID:1F8B83AA4C4AB47B5C90E3E3EDA33:
DTSTAMP:2026-04-23T11:36:45Z:
SUMMARY:J. Michael's at Skyway Neighbors
DESCRIPTION;ENCODING=QUOTED-PRINTABLE:J. Michael's at Skyway Neighbors=0D=0A Time: 8:30 PM=0D=0A Location: Marymoor, Field 7
CLASS:PUBLIC
PRIORITY:5
BEGIN:VALARM
TRIGGER:-PT330M
ACTION:DISPLAY
DESCRIPTION:Reminder
END:VALARM
END:VEVENT
BEGIN:VEVENT
DTSTART:2011-08-17T03:30:00Z
DTEND:2011-08-17T06:00:00Z
LOCATION:MM8: Marymoor, Field 8
CATEGORIES:Softball,Skyway Neighbors,BB/SAA
UID:D1C9C3B9BAA0E5468DD5554B8862CE6:
DTSTAMP:2026-04-23T11:36:45Z:
SUMMARY:Past Our Prime at Skyway Neighbors
DESCRIPTION;ENCODING=QUOTED-PRINTABLE:Past Our Prime at Skyway Neighbors=0D=0A Time: 8:30 PM=0D=0A Location: Marymoor, Field 8
CLASS:PUBLIC
PRIORITY:5
BEGIN:VALARM
TRIGGER:-PT330M
ACTION:DISPLAY
DESCRIPTION:Reminder
END:VALARM
END:VEVENT
BEGIN:VEVENT
DTSTART:2011-08-24T03:30:00Z
DTEND:2011-08-24T06:00:00Z
LOCATION:MM8: Marymoor, Field 8
CATEGORIES:Softball,Skyway Neighbors,BB/SAA
UID:93C81B795AFC4383B39A0B0C68E2:
DTSTAMP:2026-04-23T11:36:45Z:
SUMMARY:Skyway Neighbors at Bellevue Merchants
DESCRIPTION;ENCODING=QUOTED-PRINTABLE:Skyway Neighbors at Bellevue Merchants=0D=0A Time: 8:30 PM=0D=0A Location: Marymoor, Field 8
CLASS:PUBLIC
PRIORITY:5
BEGIN:VALARM
TRIGGER:-PT330M
ACTION:DISPLAY
DESCRIPTION:Reminder
END:VALARM
END:VEVENT
BEGIN:VEVENT
DTSTART:2011-08-31T03:30:00Z
DTEND:2011-08-31T06:00:00Z
LOCATION:HV1: Hidden Valley, Field 1
CATEGORIES:Softball,Skyway Neighbors,BB/SAA
UID:7B7B585D7231547BF57B0B958E950BE:
DTSTAMP:2026-04-23T11:36:45Z:
SUMMARY:Skyway Neighbors at Bubs, The
DESCRIPTION;ENCODING=QUOTED-PRINTABLE:Skyway Neighbors at Bubs, The=0D=0A Time: 8:30 PM=0D=0A Location: Hidden Valley, Field 1
CLASS:PUBLIC
PRIORITY:5
BEGIN:VALARM
TRIGGER:-PT330M
ACTION:DISPLAY
DESCRIPTION:Reminder
END:VALARM
END:VEVENT
BEGIN:VEVENT
DTSTART:2011-09-07T03:30:00Z
DTEND:2011-09-07T06:00:00Z
LOCATION:HV1: Hidden Valley, Field 1
CATEGORIES:Softball,Skyway Neighbors,BB/SAA
UID:6BA573ADA6AE7C4597D672D3767D2472:
DTSTAMP:2026-04-23T11:36:45Z:
SUMMARY:Skyway Neighbors at JC Wright Sales
DESCRIPTION;ENCODING=QUOTED-PRINTABLE:Skyway Neighbors at JC Wright Sales=0D=0A Time: 8:30 PM=0D=0A Location: Hidden Valley, Field 1
CLASS:PUBLIC
PRIORITY:5
BEGIN:VALARM
TRIGGER:-PT330M
ACTION:DISPLAY
DESCRIPTION:Reminder
END:VALARM
END:VEVENT
END:VCALENDAR
