BEGIN:VCALENDAR
PRODID:-//Microsoft Corporation//Outlook 11.0 MIMEDIR//EN
VERSION:2.0
METHOD:PUBLISH
BEGIN:VEVENT
DTSTART:2011-07-13T01:00:00Z
DTEND:2011-07-13T03:30:00Z
LOCATION:MM3: Marymoor, Field 3
CATEGORIES:Softball,JC Wright Sales,BB/SAA
UID:DADF68F0212EF648A6C7E359EB49D9:
DTSTAMP:2026-04-23T11:36:45Z:
SUMMARY:Past Our Prime at JC Wright Sales
DESCRIPTION;ENCODING=QUOTED-PRINTABLE:Past Our Prime at JC Wright Sales=0D=0A Time: 6:00 PM=0D=0A Location: Marymoor, Field 3
CLASS:PUBLIC
PRIORITY:5
BEGIN:VALARM
TRIGGER:-PT180M
ACTION:DISPLAY
DESCRIPTION:Reminder
END:VALARM
END:VEVENT
BEGIN:VEVENT
DTSTART:2011-07-20T03:30:00Z
DTEND:2011-07-20T06:00:00Z
LOCATION:HV1: Hidden Valley, Field 1
CATEGORIES:Softball,JC Wright Sales,BB/SAA
UID:69AF4E3D3398D743A6E7D9BA49C1D52A:
DTSTAMP:2026-04-23T11:36:45Z:
SUMMARY:JC Wright Sales at Skyway Neighbors
DESCRIPTION;ENCODING=QUOTED-PRINTABLE:JC Wright Sales at Skyway Neighbors=0D=0A Time: 8:30 PM=0D=0A Location: Hidden Valley, Field 1
CLASS:PUBLIC
PRIORITY:5
BEGIN:VALARM
TRIGGER:-PT330M
ACTION:DISPLAY
DESCRIPTION:Reminder
END:VALARM
END:VEVENT
BEGIN:VEVENT
DTSTART:2011-07-27T01:00:00Z
DTEND:2011-07-27T03:30:00Z
LOCATION:MM7: Marymoor, Field 7
CATEGORIES:Softball,JC Wright Sales,BB/SAA
UID:5273B275CCF5904DB7A0D162F28F8FCC:
DTSTAMP:2026-04-23T11:36:45Z:
SUMMARY:Bubs, The at JC Wright Sales
DESCRIPTION;ENCODING=QUOTED-PRINTABLE:Bubs, The at JC Wright Sales=0D=0A Time: 6:00 PM=0D=0A Location: Marymoor, Field 7
CLASS:PUBLIC
PRIORITY:5
BEGIN:VALARM
TRIGGER:-PT180M
ACTION:DISPLAY
DESCRIPTION:Reminder
END:VALARM
END:VEVENT
BEGIN:VEVENT
DTSTART:2011-08-06T01:00:00Z
DTEND:2011-08-06T03:30:00Z
LOCATION:HV1: Hidden Valley, Field 1
CATEGORIES:Softball,JC Wright Sales,BB/SAA
UID:4AA0C03187F28C45A6D19D83BDB48987:
DTSTAMP:2026-04-23T11:36:45Z:
SUMMARY:JC Wright Sales at Bellevue Merchants
DESCRIPTION;ENCODING=QUOTED-PRINTABLE:JC Wright Sales at Bellevue Merchants=0D=0A Time: 6:00 PM=0D=0A Location: Hidden Valley, Field 1
CLASS:PUBLIC
PRIORITY:5
BEGIN:VALARM
TRIGGER:-PT180M
ACTION:DISPLAY
DESCRIPTION:Reminder
END:VALARM
END:VEVENT
BEGIN:VEVENT
DTSTART:2011-08-10T03:30:00Z
DTEND:2011-08-10T06:00:00Z
LOCATION:HV1: Hidden Valley, Field 1
CATEGORIES:Softball,JC Wright Sales,BB/SAA
UID:C2DC315C7026204AB4C0977BF322E9A:
DTSTAMP:2026-04-23T11:36:45Z:
SUMMARY:JC Wright Sales at Rub One Out
DESCRIPTION;ENCODING=QUOTED-PRINTABLE:JC Wright Sales at Rub One Out=0D=0A Time: 8:30 PM=0D=0A Location: Hidden Valley, Field 1
CLASS:PUBLIC
PRIORITY:5
BEGIN:VALARM
TRIGGER:-PT330M
ACTION:DISPLAY
DESCRIPTION:Reminder
END:VALARM
END:VEVENT
BEGIN:VEVENT
DTSTART:2011-08-17T03:30:00Z
DTEND:2011-08-17T06:00:00Z
LOCATION:HV1: Hidden Valley, Field 1
CATEGORIES:Softball,JC Wright Sales,BB/SAA
UID:ED41835DB168E540A29087663C4AF656:
DTSTAMP:2026-04-23T11:36:45Z:
SUMMARY:JC Wright Sales at Whitcomb Ins./Allstate
DESCRIPTION;ENCODING=QUOTED-PRINTABLE:JC Wright Sales at Whitcomb Ins./Allstate=0D=0A Time: 8:30 PM=0D=0A Location: Hidden Valley, Field 1
CLASS:PUBLIC
PRIORITY:5
BEGIN:VALARM
TRIGGER:-PT330M
ACTION:DISPLAY
DESCRIPTION:Reminder
END:VALARM
END:VEVENT
BEGIN:VEVENT
DTSTART:2011-08-24T01:00:00Z
DTEND:2011-08-24T03:30:00Z
LOCATION:MM8: Marymoor, Field 8
CATEGORIES:Softball,JC Wright Sales,BB/SAA
UID:17D919814B807C4D9588D3C2522086:
DTSTAMP:2026-04-23T11:36:45Z:
SUMMARY:JC Wright Sales at J. Michael's
DESCRIPTION;ENCODING=QUOTED-PRINTABLE:JC Wright Sales at J. Michael's=0D=0A Time: 6:00 PM=0D=0A Location: Marymoor, Field 8
CLASS:PUBLIC
PRIORITY:5
BEGIN:VALARM
TRIGGER:-PT180M
ACTION:DISPLAY
DESCRIPTION:Reminder
END:VALARM
END:VEVENT
BEGIN:VEVENT
DTSTART:2011-08-31T01:00:00Z
DTEND:2011-08-31T03:30:00Z
LOCATION:MM8: Marymoor, Field 8
CATEGORIES:Softball,JC Wright Sales,BB/SAA
UID:F1497F2CB3233A46A41917A36D60D33F:
DTSTAMP:2026-04-23T11:36:45Z:
SUMMARY:Past Our Prime at JC Wright Sales
DESCRIPTION;ENCODING=QUOTED-PRINTABLE:Past Our Prime at JC Wright Sales=0D=0A Time: 6:00 PM=0D=0A Location: Marymoor, Field 8
CLASS:PUBLIC
PRIORITY:5
BEGIN:VALARM
TRIGGER:-PT180M
ACTION:DISPLAY
DESCRIPTION:Reminder
END:VALARM
END:VEVENT
BEGIN:VEVENT
DTSTART:2011-09-07T03:30:00Z
DTEND:2011-09-07T06:00:00Z
LOCATION:HV1: Hidden Valley, Field 1
CATEGORIES:Softball,JC Wright Sales,BB/SAA
UID:5693AFF918DA2740B17DCB4D52B357CE:
DTSTAMP:2026-04-23T11:36:45Z:
SUMMARY:Skyway Neighbors at JC Wright Sales
DESCRIPTION;ENCODING=QUOTED-PRINTABLE:Skyway Neighbors at JC Wright Sales=0D=0A Time: 8:30 PM=0D=0A Location: Hidden Valley, Field 1
CLASS:PUBLIC
PRIORITY:5
BEGIN:VALARM
TRIGGER:-PT330M
ACTION:DISPLAY
DESCRIPTION:Reminder
END:VALARM
END:VEVENT
END:VCALENDAR
