BEGIN:VCALENDAR
PRODID:-//Microsoft Corporation//Outlook 11.0 MIMEDIR//EN
VERSION:2.0
METHOD:PUBLISH
BEGIN:VEVENT
DTSTART:2011-07-14T03:30:00Z
DTEND:2011-07-14T06:00:00Z
LOCATION:MM7: Marymoor, Field 7
CATEGORIES:Softball,J. Michael's,BB/SAA
UID:8E64BAA7EF57164093B450BC6AEA58:
DTSTAMP:2026-04-23T11:37:02Z:
SUMMARY:Rub One Out at J. Michael's
DESCRIPTION;ENCODING=QUOTED-PRINTABLE:Rub One Out at J. Michael's=0D=0A Time: 8:30 PM=0D=0A Location: Marymoor, Field 7
CLASS:PUBLIC
PRIORITY:5
BEGIN:VALARM
TRIGGER:-PT330M
ACTION:DISPLAY
DESCRIPTION:Reminder
END:VALARM
END:VEVENT
BEGIN:VEVENT
DTSTART:2011-07-21T01:00:00Z
DTEND:2011-07-21T03:30:00Z
LOCATION:MM6: Marymoor, Field 6
CATEGORIES:Softball,J. Michael's,BB/SAA
UID:5A4E9F07646B64DBFC68F4789C03C52:
DTSTAMP:2026-04-23T11:37:02Z:
SUMMARY:J. Michael's at Whitcomb Ins./Allstate
DESCRIPTION;ENCODING=QUOTED-PRINTABLE:J. Michael's at Whitcomb Ins./Allstate=0D=0A Time: 6:00 PM=0D=0A Location: Marymoor, Field 6
CLASS:PUBLIC
PRIORITY:5
BEGIN:VALARM
TRIGGER:-PT180M
ACTION:DISPLAY
DESCRIPTION:Reminder
END:VALARM
END:VEVENT
BEGIN:VEVENT
DTSTART:2011-07-28T01:00:00Z
DTEND:2011-07-28T03:30:00Z
LOCATION:MM7: Marymoor, Field 7
CATEGORIES:Softball,J. Michael's,BB/SAA
UID:D060812FD2A5A45A61D9B9490A2ACD1:
DTSTAMP:2026-04-23T11:37:02Z:
SUMMARY:Bellevue Merchants at J. Michael's
DESCRIPTION;ENCODING=QUOTED-PRINTABLE:Bellevue Merchants at J. Michael's=0D=0A Time: 6:00 PM=0D=0A Location: Marymoor, Field 7
CLASS:PUBLIC
PRIORITY:5
BEGIN:VALARM
TRIGGER:-PT180M
ACTION:DISPLAY
DESCRIPTION:Reminder
END:VALARM
END:VEVENT
BEGIN:VEVENT
DTSTART:2011-08-03T01:00:00Z
DTEND:2011-08-03T03:30:00Z
LOCATION:MM8: Marymoor, Field 8
CATEGORIES:Softball,J. Michael's,BB/SAA
UID:684B3DD1929FD428D749583AA32F8A2:
DTSTAMP:2026-04-23T11:37:02Z:
SUMMARY:J. Michael's at Past Our Prime
DESCRIPTION;ENCODING=QUOTED-PRINTABLE:J. Michael's at Past Our Prime=0D=0A Time: 6:00 PM=0D=0A Location: Marymoor, Field 8
CLASS:PUBLIC
PRIORITY:5
BEGIN:VALARM
TRIGGER:-PT180M
ACTION:DISPLAY
DESCRIPTION:Reminder
END:VALARM
END:VEVENT
BEGIN:VEVENT
DTSTART:2011-08-12T03:30:00Z
DTEND:2011-08-12T06:00:00Z
LOCATION:MM7: Marymoor, Field 7
CATEGORIES:Softball,J. Michael's,BB/SAA
UID:DE33B0A25BDC8544A675378F69589630:
DTSTAMP:2026-04-23T11:37:02Z:
SUMMARY:J. Michael's at Skyway Neighbors
DESCRIPTION;ENCODING=QUOTED-PRINTABLE:J. Michael's at Skyway Neighbors=0D=0A Time: 8:30 PM=0D=0A Location: Marymoor, Field 7
CLASS:PUBLIC
PRIORITY:5
BEGIN:VALARM
TRIGGER:-PT330M
ACTION:DISPLAY
DESCRIPTION:Reminder
END:VALARM
END:VEVENT
BEGIN:VEVENT
DTSTART:2011-08-18T01:00:00Z
DTEND:2011-08-18T03:30:00Z
LOCATION:MM7: Marymoor, Field 7
CATEGORIES:Softball,J. Michael's,BB/SAA
UID:8E2F514ACD80D34583A662D7860BD86:
DTSTAMP:2026-04-23T11:37:02Z:
SUMMARY:J. Michael's at Bubs, The
DESCRIPTION;ENCODING=QUOTED-PRINTABLE:J. Michael's at Bubs, The=0D=0A Time: 6:00 PM=0D=0A Location: Marymoor, Field 7
CLASS:PUBLIC
PRIORITY:5
BEGIN:VALARM
TRIGGER:-PT180M
ACTION:DISPLAY
DESCRIPTION:Reminder
END:VALARM
END:VEVENT
BEGIN:VEVENT
DTSTART:2011-08-24T01:00:00Z
DTEND:2011-08-24T03:30:00Z
LOCATION:MM8: Marymoor, Field 8
CATEGORIES:Softball,J. Michael's,BB/SAA
UID:4D2D6DE2E6AF644B94CA9D82A52A8D98:
DTSTAMP:2026-04-23T11:37:02Z:
SUMMARY:JC Wright Sales at J. Michael's
DESCRIPTION;ENCODING=QUOTED-PRINTABLE:JC Wright Sales at J. Michael's=0D=0A Time: 6:00 PM=0D=0A Location: Marymoor, Field 8
CLASS:PUBLIC
PRIORITY:5
BEGIN:VALARM
TRIGGER:-PT180M
ACTION:DISPLAY
DESCRIPTION:Reminder
END:VALARM
END:VEVENT
BEGIN:VEVENT
DTSTART:2011-09-02T03:30:00Z
DTEND:2011-09-02T06:00:00Z
LOCATION:MM8: Marymoor, Field 8
CATEGORIES:Softball,J. Michael's,BB/SAA
UID:83E68D1EC53ADA45901B4A4F76B6A91:
DTSTAMP:2026-04-23T11:37:02Z:
SUMMARY:Rub One Out at J. Michael's
DESCRIPTION;ENCODING=QUOTED-PRINTABLE:Rub One Out at J. Michael's=0D=0A Time: 8:30 PM=0D=0A Location: Marymoor, Field 8
CLASS:PUBLIC
PRIORITY:5
BEGIN:VALARM
TRIGGER:-PT330M
ACTION:DISPLAY
DESCRIPTION:Reminder
END:VALARM
END:VEVENT
BEGIN:VEVENT
DTSTART:2011-09-08T01:00:00Z
DTEND:2011-09-08T03:30:00Z
LOCATION:MM7: Marymoor, Field 7
CATEGORIES:Softball,J. Michael's,BB/SAA
UID:2BAB2D98F8DE2745A0D7BDCCD0867B51:
DTSTAMP:2026-04-23T11:37:02Z:
SUMMARY:Whitcomb Ins./Allstate at J. Michael's
DESCRIPTION;ENCODING=QUOTED-PRINTABLE:Whitcomb Ins./Allstate at J. Michael's=0D=0A Time: 6:00 PM=0D=0A Location: Marymoor, Field 7
CLASS:PUBLIC
PRIORITY:5
BEGIN:VALARM
TRIGGER:-PT180M
ACTION:DISPLAY
DESCRIPTION:Reminder
END:VALARM
END:VEVENT
END:VCALENDAR
