BEGIN:VCALENDAR
PRODID:-//Microsoft Corporation//Outlook 11.0 MIMEDIR//EN
VERSION:2.0
METHOD:PUBLISH
BEGIN:VEVENT
DTSTART:2011-07-14T01:00:00Z
DTEND:2011-07-14T03:30:00Z
LOCATION:HV1: Hidden Valley, Field 1
CATEGORIES:Softball,Bellevue Merchants,BB/SAA
UID:1E19507CFCF954A8113ED95C56F7356:
DTSTAMP:2026-04-23T11:38:52Z:
SUMMARY:Bellevue Merchants at Whitcomb Ins./Allstate
DESCRIPTION;ENCODING=QUOTED-PRINTABLE:Bellevue Merchants at Whitcomb Ins./Allstate=0D=0A Time: 6:00 PM=0D=0A Location: Hidden Valley, Field 1
CLASS:PUBLIC
PRIORITY:5
BEGIN:VALARM
TRIGGER:-PT180M
ACTION:DISPLAY
DESCRIPTION:Reminder
END:VALARM
END:VEVENT
BEGIN:VEVENT
DTSTART:2011-07-21T01:00:00Z
DTEND:2011-07-21T03:30:00Z
LOCATION:MM7: Marymoor, Field 7
CATEGORIES:Softball,Bellevue Merchants,BB/SAA
UID:30BB53AF88EE6E49825949E3CE8E4CC8:
DTSTAMP:2026-04-23T11:38:52Z:
SUMMARY:Bellevue Merchants at Bubs, The
DESCRIPTION;ENCODING=QUOTED-PRINTABLE:Bellevue Merchants at Bubs, The=0D=0A Time: 6:00 PM=0D=0A Location: Marymoor, Field 7
CLASS:PUBLIC
PRIORITY:5
BEGIN:VALARM
TRIGGER:-PT180M
ACTION:DISPLAY
DESCRIPTION:Reminder
END:VALARM
END:VEVENT
BEGIN:VEVENT
DTSTART:2011-07-28T01:00:00Z
DTEND:2011-07-28T03:30:00Z
LOCATION:MM7: Marymoor, Field 7
CATEGORIES:Softball,Bellevue Merchants,BB/SAA
UID:74EBD6A4340BF4A98E06F258DED43C:
DTSTAMP:2026-04-23T11:38:52Z:
SUMMARY:Bellevue Merchants at J. Michael's
DESCRIPTION;ENCODING=QUOTED-PRINTABLE:Bellevue Merchants at J. Michael's=0D=0A Time: 6:00 PM=0D=0A Location: Marymoor, Field 7
CLASS:PUBLIC
PRIORITY:5
BEGIN:VALARM
TRIGGER:-PT180M
ACTION:DISPLAY
DESCRIPTION:Reminder
END:VALARM
END:VEVENT
BEGIN:VEVENT
DTSTART:2011-08-06T01:00:00Z
DTEND:2011-08-06T03:30:00Z
LOCATION:HV1: Hidden Valley, Field 1
CATEGORIES:Softball,Bellevue Merchants,BB/SAA
UID:3929CB2075A3D94F8797BFDDB73A98E:
DTSTAMP:2026-04-23T11:38:52Z:
SUMMARY:JC Wright Sales at Bellevue Merchants
DESCRIPTION;ENCODING=QUOTED-PRINTABLE:JC Wright Sales at Bellevue Merchants=0D=0A Time: 6:00 PM=0D=0A Location: Hidden Valley, Field 1
CLASS:PUBLIC
PRIORITY:5
BEGIN:VALARM
TRIGGER:-PT180M
ACTION:DISPLAY
DESCRIPTION:Reminder
END:VALARM
END:VEVENT
BEGIN:VEVENT
DTSTART:2011-08-11T01:00:00Z
DTEND:2011-08-11T03:30:00Z
LOCATION:MM8: Marymoor, Field 8
CATEGORIES:Softball,Bellevue Merchants,BB/SAA
UID:1EE285198327149A11DB2BAF0A9A112:
DTSTAMP:2026-04-23T11:38:52Z:
SUMMARY:Bellevue Merchants at Past Our Prime
DESCRIPTION;ENCODING=QUOTED-PRINTABLE:Bellevue Merchants at Past Our Prime=0D=0A Time: 6:00 PM=0D=0A Location: Marymoor, Field 8
CLASS:PUBLIC
PRIORITY:5
BEGIN:VALARM
TRIGGER:-PT180M
ACTION:DISPLAY
DESCRIPTION:Reminder
END:VALARM
END:VEVENT
BEGIN:VEVENT
DTSTART:2011-08-18T03:30:00Z
DTEND:2011-08-18T06:00:00Z
LOCATION:MM7: Marymoor, Field 7
CATEGORIES:Softball,Bellevue Merchants,BB/SAA
UID:877138E96982D94F81644294E74742:
DTSTAMP:2026-04-23T11:38:52Z:
SUMMARY:Bellevue Merchants at Rub One Out
DESCRIPTION;ENCODING=QUOTED-PRINTABLE:Bellevue Merchants at Rub One Out=0D=0A Time: 8:30 PM=0D=0A Location: Marymoor, Field 7
CLASS:PUBLIC
PRIORITY:5
BEGIN:VALARM
TRIGGER:-PT330M
ACTION:DISPLAY
DESCRIPTION:Reminder
END:VALARM
END:VEVENT
BEGIN:VEVENT
DTSTART:2011-08-24T03:30:00Z
DTEND:2011-08-24T06:00:00Z
LOCATION:MM8: Marymoor, Field 8
CATEGORIES:Softball,Bellevue Merchants,BB/SAA
UID:23BAB996CE306B46A369FFA12AC3367:
DTSTAMP:2026-04-23T11:38:52Z:
SUMMARY:Skyway Neighbors at Bellevue Merchants
DESCRIPTION;ENCODING=QUOTED-PRINTABLE:Skyway Neighbors at Bellevue Merchants=0D=0A Time: 8:30 PM=0D=0A Location: Marymoor, Field 8
CLASS:PUBLIC
PRIORITY:5
BEGIN:VALARM
TRIGGER:-PT330M
ACTION:DISPLAY
DESCRIPTION:Reminder
END:VALARM
END:VEVENT
BEGIN:VEVENT
DTSTART:2011-09-01T01:00:00Z
DTEND:2011-09-01T03:30:00Z
LOCATION:HV1: Hidden Valley, Field 1
CATEGORIES:Softball,Bellevue Merchants,BB/SAA
UID:14B1552E54CECE4495DD4034284BC76F:
DTSTAMP:2026-04-23T11:38:52Z:
SUMMARY:Whitcomb Ins./Allstate at Bellevue Merchants
DESCRIPTION;ENCODING=QUOTED-PRINTABLE:Whitcomb Ins./Allstate at Bellevue Merchants=0D=0A Time: 6:00 PM=0D=0A Location: Hidden Valley, Field 1
CLASS:PUBLIC
PRIORITY:5
BEGIN:VALARM
TRIGGER:-PT180M
ACTION:DISPLAY
DESCRIPTION:Reminder
END:VALARM
END:VEVENT
BEGIN:VEVENT
DTSTART:2011-09-08T01:00:00Z
DTEND:2011-09-08T03:30:00Z
LOCATION:HV1: Hidden Valley, Field 1
CATEGORIES:Softball,Bellevue Merchants,BB/SAA
UID:D2DD849689B181488365CDB8C74096BA:
DTSTAMP:2026-04-23T11:38:52Z:
SUMMARY:Bubs, The at Bellevue Merchants
DESCRIPTION;ENCODING=QUOTED-PRINTABLE:Bubs, The at Bellevue Merchants=0D=0A Time: 6:00 PM=0D=0A Location: Hidden Valley, Field 1
CLASS:PUBLIC
PRIORITY:5
BEGIN:VALARM
TRIGGER:-PT180M
ACTION:DISPLAY
DESCRIPTION:Reminder
END:VALARM
END:VEVENT
BEGIN:VEVENT
DTSTART:2011-09-15T03:30:00Z
DTEND:2011-09-15T06:00:00Z
LOCATION:HV1: Hidden Valley, Field 1
CATEGORIES:Softball,Bellevue Merchants,BB/SAA
UID:B24819473665644C92EE72146070F256:
DTSTAMP:2026-04-23T11:38:52Z:
SUMMARY:Bellevue Merchants at Rub One Out
DESCRIPTION;ENCODING=QUOTED-PRINTABLE:Bellevue Merchants at Rub One Out=0D=0A Time: 8:30 PM=0D=0A Location: Hidden Valley, Field 1
CLASS:PUBLIC
PRIORITY:5
BEGIN:VALARM
TRIGGER:-PT330M
ACTION:DISPLAY
DESCRIPTION:Reminder
END:VALARM
END:VEVENT
END:VCALENDAR
