BEGIN:VCALENDAR
PRODID:-//Microsoft Corporation//Outlook 11.0 MIMEDIR//EN
VERSION:2.0
METHOD:PUBLISH
BEGIN:VEVENT
DTSTART:2011-07-12T01:00:00Z
DTEND:2011-07-12T03:30:00Z
LOCATION:MM4: Marymoor, Field 4
CATEGORIES:Softball,Pitch Slap,BB/SAA
UID:43847EE6C03F27498732C7E0B73EECB:
DTSTAMP:2026-04-25T12:20:47Z:
SUMMARY:Pitch Slap at ChemPoint
DESCRIPTION;ENCODING=QUOTED-PRINTABLE:Pitch Slap at ChemPoint=0D=0A Time: 6:00 PM=0D=0A Location: Marymoor, Field 4
CLASS:PUBLIC
PRIORITY:5
BEGIN:VALARM
TRIGGER:-PT180M
ACTION:DISPLAY
DESCRIPTION:Reminder
END:VALARM
END:VEVENT
BEGIN:VEVENT
DTSTART:2011-07-19T01:00:00Z
DTEND:2011-07-19T03:30:00Z
LOCATION:MM4: Marymoor, Field 4
CATEGORIES:Softball,Pitch Slap,BB/SAA
UID:BCE1C558D02F1842BC37258FE28B1B9D:
DTSTAMP:2026-04-25T12:20:47Z:
SUMMARY:Fielder's Choice at Pitch Slap
DESCRIPTION;ENCODING=QUOTED-PRINTABLE:Fielder's Choice at Pitch Slap=0D=0A Time: 6:00 PM=0D=0A Location: Marymoor, Field 4
CLASS:PUBLIC
PRIORITY:5
BEGIN:VALARM
TRIGGER:-PT180M
ACTION:DISPLAY
DESCRIPTION:Reminder
END:VALARM
END:VEVENT
BEGIN:VEVENT
DTSTART:2011-07-26T01:00:00Z
DTEND:2011-07-26T03:30:00Z
LOCATION:SAM1: Sammamish High School, Field 1
CATEGORIES:Softball,Pitch Slap,BB/SAA
UID:34A76B343D5F7409922DEC8B81BEFE9:
DTSTAMP:2026-04-25T12:20:47Z:
SUMMARY:Pitch Slap at Kleinfelder Pirates
DESCRIPTION;ENCODING=QUOTED-PRINTABLE:Pitch Slap at Kleinfelder Pirates=0D=0A Time: 6:00 PM=0D=0A Location: Sammamish High School, Field 1
CLASS:PUBLIC
PRIORITY:5
BEGIN:VALARM
TRIGGER:-PT180M
ACTION:DISPLAY
DESCRIPTION:Reminder
END:VALARM
END:VEVENT
BEGIN:VEVENT
DTSTART:2011-08-02T01:00:00Z
DTEND:2011-08-02T03:30:00Z
LOCATION:HV2: Hidden Valley, Field 2
CATEGORIES:Softball,Pitch Slap,BB/SAA
UID:1E1F6F3E9855E449BE7D216C58F8FF9C:
DTSTAMP:2026-04-25T12:20:47Z:
SUMMARY:Triple Play at Pitch Slap
DESCRIPTION;ENCODING=QUOTED-PRINTABLE:Triple Play at Pitch Slap=0D=0A Time: 6:00 PM=0D=0A Location: Hidden Valley, Field 2
CLASS:PUBLIC
PRIORITY:5
BEGIN:VALARM
TRIGGER:-PT180M
ACTION:DISPLAY
DESCRIPTION:Reminder
END:VALARM
END:VEVENT
BEGIN:VEVENT
DTSTART:2011-08-09T03:30:00Z
DTEND:2011-08-09T06:00:00Z
LOCATION:MM7: Marymoor, Field 7
CATEGORIES:Softball,Pitch Slap,BB/SAA
UID:B199E5A131A8E458EE35C9FE2AD96F0:
DTSTAMP:2026-04-25T12:20:47Z:
SUMMARY:Shotguns & Showels at Pitch Slap
DESCRIPTION;ENCODING=QUOTED-PRINTABLE:Shotguns & Showels at Pitch Slap=0D=0A Time: 8:30 PM=0D=0A Location: Marymoor, Field 7
CLASS:PUBLIC
PRIORITY:5
BEGIN:VALARM
TRIGGER:-PT330M
ACTION:DISPLAY
DESCRIPTION:Reminder
END:VALARM
END:VEVENT
BEGIN:VEVENT
DTSTART:2011-08-16T01:00:00Z
DTEND:2011-08-16T03:30:00Z
LOCATION:SAM1: Sammamish High School, Field 1
CATEGORIES:Softball,Pitch Slap,BB/SAA
UID:655041469C326C4FB2BBC2797199087:
DTSTAMP:2026-04-25T12:20:47Z:
SUMMARY:Dreadsox at Pitch Slap
DESCRIPTION;ENCODING=QUOTED-PRINTABLE:Dreadsox at Pitch Slap=0D=0A Time: 6:00 PM=0D=0A Location: Sammamish High School, Field 1
CLASS:PUBLIC
PRIORITY:5
BEGIN:VALARM
TRIGGER:-PT180M
ACTION:DISPLAY
DESCRIPTION:Reminder
END:VALARM
END:VEVENT
BEGIN:VEVENT
DTSTART:2011-08-23T01:00:00Z
DTEND:2011-08-23T03:30:00Z
LOCATION:MM1: Marymoor, Field 1
CATEGORIES:Softball,Pitch Slap,BB/SAA
UID:19F4581A5170F945A0967B778044CEAB:
DTSTAMP:2026-04-25T12:20:47Z:
SUMMARY:Intelius at Pitch Slap
DESCRIPTION;ENCODING=QUOTED-PRINTABLE:Intelius at Pitch Slap=0D=0A Time: 6:00 PM=0D=0A Location: Marymoor, Field 1
CLASS:PUBLIC
PRIORITY:5
BEGIN:VALARM
TRIGGER:-PT180M
ACTION:DISPLAY
DESCRIPTION:Reminder
END:VALARM
END:VEVENT
BEGIN:VEVENT
DTSTART:2011-08-30T01:00:00Z
DTEND:2011-08-30T03:30:00Z
LOCATION:MM6: Marymoor, Field 6
CATEGORIES:Softball,Pitch Slap,BB/SAA
UID:047B3152B84494F9343214CEF5BCF5E:
DTSTAMP:2026-04-25T12:20:47Z:
SUMMARY:Pitch Slap at Brookshire Homes
DESCRIPTION;ENCODING=QUOTED-PRINTABLE:Pitch Slap at Brookshire Homes=0D=0A Time: 6:00 PM=0D=0A Location: Marymoor, Field 6
CLASS:PUBLIC
PRIORITY:5
BEGIN:VALARM
TRIGGER:-PT180M
ACTION:DISPLAY
DESCRIPTION:Reminder
END:VALARM
END:VEVENT
BEGIN:VEVENT
DTSTART:2011-09-13T01:00:00Z
DTEND:2011-09-13T03:30:00Z
LOCATION:MM7: Marymoor, Field 7
CATEGORIES:Softball,Pitch Slap,BB/SAA
UID:5CDF64E2DFC65C46A7B0BB39CCE4BC7E:
DTSTAMP:2026-04-25T12:20:47Z:
SUMMARY:Pitch Slap at Value Village
DESCRIPTION;ENCODING=QUOTED-PRINTABLE:Pitch Slap at Value Village=0D=0A Time: 6:00 PM=0D=0A Location: Marymoor, Field 7
CLASS:PUBLIC
PRIORITY:5
BEGIN:VALARM
TRIGGER:-PT180M
ACTION:DISPLAY
DESCRIPTION:Reminder
END:VALARM
END:VEVENT
BEGIN:VEVENT
DTSTART:2011-09-20T01:00:00Z
DTEND:2011-09-20T03:30:00Z
LOCATION:MM6: Marymoor, Field 6
CATEGORIES:Softball,Pitch Slap,BB/SAA
UID:4CB32138BFA88D428CF1807154E1E4C6:
DTSTAMP:2026-04-25T12:20:47Z:
SUMMARY:Pitch Slap at Kleinfelder Pirates
DESCRIPTION;ENCODING=QUOTED-PRINTABLE:Pitch Slap at Kleinfelder Pirates=0D=0A Time: 6:00 PM=0D=0A Location: Marymoor, Field 6
CLASS:PUBLIC
PRIORITY:5
BEGIN:VALARM
TRIGGER:-PT180M
ACTION:DISPLAY
DESCRIPTION:Reminder
END:VALARM
END:VEVENT
END:VCALENDAR
