BEGIN:VCALENDAR
PRODID:-//Microsoft Corporation//Outlook 11.0 MIMEDIR//EN
VERSION:2.0
METHOD:PUBLISH
BEGIN:VEVENT
DTSTART:2011-07-12T03:30:00Z
DTEND:2011-07-12T06:00:00Z
LOCATION:HV1: Hidden Valley, Field 1
CATEGORIES:Softball,Intelius,BB/SAA
UID:A3645E95FFFC40B74F907874A67BB1:
DTSTAMP:2026-04-25T01:51:13Z:
SUMMARY:Intelius at Fielder's Choice
DESCRIPTION;ENCODING=QUOTED-PRINTABLE:Intelius at Fielder's Choice=0D=0A Time: 8:30 PM=0D=0A Location: Hidden Valley, Field 1
CLASS:PUBLIC
PRIORITY:5
BEGIN:VALARM
TRIGGER:-PT330M
ACTION:DISPLAY
DESCRIPTION:Reminder
END:VALARM
END:VEVENT
BEGIN:VEVENT
DTSTART:2011-07-19T01:00:00Z
DTEND:2011-07-19T03:30:00Z
LOCATION:MM6: Marymoor, Field 6
CATEGORIES:Softball,Intelius,BB/SAA
UID:33D653BC374E5428C4A9527251C4AC7:
DTSTAMP:2026-04-25T01:51:13Z:
SUMMARY:Kleinfelder Pirates at Intelius
DESCRIPTION;ENCODING=QUOTED-PRINTABLE:Kleinfelder Pirates at Intelius=0D=0A Time: 6:00 PM=0D=0A Location: Marymoor, Field 6
CLASS:PUBLIC
PRIORITY:5
BEGIN:VALARM
TRIGGER:-PT180M
ACTION:DISPLAY
DESCRIPTION:Reminder
END:VALARM
END:VEVENT
BEGIN:VEVENT
DTSTART:2011-07-26T01:00:00Z
DTEND:2011-07-26T03:30:00Z
LOCATION:MM6: Marymoor, Field 6
CATEGORIES:Softball,Intelius,BB/SAA
UID:858FF424455B14E89DF988D22DE5B6A:
DTSTAMP:2026-04-25T01:51:13Z:
SUMMARY:Triple Play at Intelius
DESCRIPTION;ENCODING=QUOTED-PRINTABLE:Triple Play at Intelius=0D=0A Time: 6:00 PM=0D=0A Location: Marymoor, Field 6
CLASS:PUBLIC
PRIORITY:5
BEGIN:VALARM
TRIGGER:-PT180M
ACTION:DISPLAY
DESCRIPTION:Reminder
END:VALARM
END:VEVENT
BEGIN:VEVENT
DTSTART:2011-08-02T01:00:00Z
DTEND:2011-08-02T03:30:00Z
LOCATION:MM6: Marymoor, Field 6
CATEGORIES:Softball,Intelius,BB/SAA
UID:633CDBF43ADC154F9D6354F25028F35D:
DTSTAMP:2026-04-25T01:51:13Z:
SUMMARY:Shotguns & Showels at Intelius
DESCRIPTION;ENCODING=QUOTED-PRINTABLE:Shotguns & Showels at Intelius=0D=0A Time: 6:00 PM=0D=0A Location: Marymoor, Field 6
CLASS:PUBLIC
PRIORITY:5
BEGIN:VALARM
TRIGGER:-PT180M
ACTION:DISPLAY
DESCRIPTION:Reminder
END:VALARM
END:VEVENT
BEGIN:VEVENT
DTSTART:2011-08-09T01:00:00Z
DTEND:2011-08-09T03:30:00Z
LOCATION:HV2: Hidden Valley, Field 2
CATEGORIES:Softball,Intelius,BB/SAA
UID:63594FEF8224E4287ACA5DD791928:
DTSTAMP:2026-04-25T01:51:13Z:
SUMMARY:Dreadsox at Intelius
DESCRIPTION;ENCODING=QUOTED-PRINTABLE:Dreadsox at Intelius=0D=0A Time: 6:00 PM=0D=0A Location: Hidden Valley, Field 2
CLASS:PUBLIC
PRIORITY:5
BEGIN:VALARM
TRIGGER:-PT180M
ACTION:DISPLAY
DESCRIPTION:Reminder
END:VALARM
END:VEVENT
BEGIN:VEVENT
DTSTART:2011-08-16T01:00:00Z
DTEND:2011-08-16T03:30:00Z
LOCATION:MM7: Marymoor, Field 7
CATEGORIES:Softball,Intelius,BB/SAA
UID:965DFA2197CC4D47834359308C9C5A27:
DTSTAMP:2026-04-25T01:51:13Z:
SUMMARY:Brookshire Homes at Intelius
DESCRIPTION;ENCODING=QUOTED-PRINTABLE:Brookshire Homes at Intelius=0D=0A Time: 6:00 PM=0D=0A Location: Marymoor, Field 7
CLASS:PUBLIC
PRIORITY:5
BEGIN:VALARM
TRIGGER:-PT180M
ACTION:DISPLAY
DESCRIPTION:Reminder
END:VALARM
END:VEVENT
BEGIN:VEVENT
DTSTART:2011-08-23T01:00:00Z
DTEND:2011-08-23T03:30:00Z
LOCATION:MM1: Marymoor, Field 1
CATEGORIES:Softball,Intelius,BB/SAA
UID:BEC7BFBD3FAE045AE5F93526B5AC121:
DTSTAMP:2026-04-25T01:51:13Z:
SUMMARY:Intelius at Pitch Slap
DESCRIPTION;ENCODING=QUOTED-PRINTABLE:Intelius at Pitch Slap=0D=0A Time: 6:00 PM=0D=0A Location: Marymoor, Field 1
CLASS:PUBLIC
PRIORITY:5
BEGIN:VALARM
TRIGGER:-PT180M
ACTION:DISPLAY
DESCRIPTION:Reminder
END:VALARM
END:VEVENT
BEGIN:VEVENT
DTSTART:2011-08-30T03:30:00Z
DTEND:2011-08-30T06:00:00Z
LOCATION:MM1: Marymoor, Field 1
CATEGORIES:Softball,Intelius,BB/SAA
UID:914FDE6CD8C74E4FBC36A8239747897:
DTSTAMP:2026-04-25T01:51:13Z:
SUMMARY:Intelius at Value Village
DESCRIPTION;ENCODING=QUOTED-PRINTABLE:Intelius at Value Village=0D=0A Time: 8:30 PM=0D=0A Location: Marymoor, Field 1
CLASS:PUBLIC
PRIORITY:5
BEGIN:VALARM
TRIGGER:-PT330M
ACTION:DISPLAY
DESCRIPTION:Reminder
END:VALARM
END:VEVENT
BEGIN:VEVENT
DTSTART:2011-09-13T03:30:00Z
DTEND:2011-09-13T06:00:00Z
LOCATION:MM6: Marymoor, Field 6
CATEGORIES:Softball,Intelius,BB/SAA
UID:78DCB04B6B89EF44AF165EF5399416C:
DTSTAMP:2026-04-25T01:51:13Z:
SUMMARY:Intelius at ChemPoint
DESCRIPTION;ENCODING=QUOTED-PRINTABLE:Intelius at ChemPoint=0D=0A Time: 8:30 PM=0D=0A Location: Marymoor, Field 6
CLASS:PUBLIC
PRIORITY:5
BEGIN:VALARM
TRIGGER:-PT330M
ACTION:DISPLAY
DESCRIPTION:Reminder
END:VALARM
END:VEVENT
BEGIN:VEVENT
DTSTART:2011-09-21T01:00:00Z
DTEND:2011-09-21T03:30:00Z
LOCATION:MM8: Marymoor, Field 8
CATEGORIES:Softball,Intelius,BB/SAA
UID:502FEF8856ED6440B5C51FF6CEBB4DC6:
DTSTAMP:2026-04-25T01:51:13Z:
SUMMARY:Intelius at ChemPoint
DESCRIPTION;ENCODING=QUOTED-PRINTABLE:Intelius at ChemPoint=0D=0A Time: 6:00 PM=0D=0A Location: Marymoor, Field 8
CLASS:PUBLIC
PRIORITY:5
BEGIN:VALARM
TRIGGER:-PT180M
ACTION:DISPLAY
DESCRIPTION:Reminder
END:VALARM
END:VEVENT
END:VCALENDAR
