BEGIN:VCALENDAR
PRODID:-//Microsoft Corporation//Outlook 11.0 MIMEDIR//EN
VERSION:2.0
METHOD:PUBLISH
BEGIN:VEVENT
DTSTART:2011-07-12T01:00:00Z
DTEND:2011-07-12T03:30:00Z
LOCATION:MM4: Marymoor, Field 4
CATEGORIES:Softball,ChemPoint,BB/SAA
UID:E2A0552D1074134DAD7A2070EB76FDE6:
DTSTAMP:2026-04-25T01:56:34Z:
SUMMARY:Pitch Slap at ChemPoint
DESCRIPTION;ENCODING=QUOTED-PRINTABLE:Pitch Slap at ChemPoint=0D=0A Time: 6:00 PM=0D=0A Location: Marymoor, Field 4
CLASS:PUBLIC
PRIORITY:5
BEGIN:VALARM
TRIGGER:-PT180M
ACTION:DISPLAY
DESCRIPTION:Reminder
END:VALARM
END:VEVENT
BEGIN:VEVENT
DTSTART:2011-07-19T03:30:00Z
DTEND:2011-07-19T06:00:00Z
LOCATION:MM6: Marymoor, Field 6
CATEGORIES:Softball,ChemPoint,BB/SAA
UID:9B6A6B46C184734D9BBA4C7348A2E5E9:
DTSTAMP:2026-04-25T01:56:34Z:
SUMMARY:Value Village at ChemPoint
DESCRIPTION;ENCODING=QUOTED-PRINTABLE:Value Village at ChemPoint=0D=0A Time: 8:30 PM=0D=0A Location: Marymoor, Field 6
CLASS:PUBLIC
PRIORITY:5
BEGIN:VALARM
TRIGGER:-PT330M
ACTION:DISPLAY
DESCRIPTION:Reminder
END:VALARM
END:VEVENT
BEGIN:VEVENT
DTSTART:2011-07-26T01:00:00Z
DTEND:2011-07-26T03:30:00Z
LOCATION:HV1: Hidden Valley, Field 1
CATEGORIES:Softball,ChemPoint,BB/SAA
UID:F760991A2A13DF47A2BDE51F8A9BD04F:
DTSTAMP:2026-04-25T01:56:34Z:
SUMMARY:ChemPoint at Brookshire Homes
DESCRIPTION;ENCODING=QUOTED-PRINTABLE:ChemPoint at Brookshire Homes=0D=0A Time: 6:00 PM=0D=0A Location: Hidden Valley, Field 1
CLASS:PUBLIC
PRIORITY:5
BEGIN:VALARM
TRIGGER:-PT180M
ACTION:DISPLAY
DESCRIPTION:Reminder
END:VALARM
END:VEVENT
BEGIN:VEVENT
DTSTART:2011-08-02T01:00:00Z
DTEND:2011-08-02T03:30:00Z
LOCATION:MM7: Marymoor, Field 7
CATEGORIES:Softball,ChemPoint,BB/SAA
UID:6F4F938285E34E4EA396D6CD5136874:
DTSTAMP:2026-04-25T01:56:34Z:
SUMMARY:ChemPoint at Fielder's Choice
DESCRIPTION;ENCODING=QUOTED-PRINTABLE:ChemPoint at Fielder's Choice=0D=0A Time: 6:00 PM=0D=0A Location: Marymoor, Field 7
CLASS:PUBLIC
PRIORITY:5
BEGIN:VALARM
TRIGGER:-PT180M
ACTION:DISPLAY
DESCRIPTION:Reminder
END:VALARM
END:VEVENT
BEGIN:VEVENT
DTSTART:2011-08-09T01:00:00Z
DTEND:2011-08-09T03:30:00Z
LOCATION:MM6: Marymoor, Field 6
CATEGORIES:Softball,ChemPoint,BB/SAA
UID:EEBC9D6A3E18784BA16B40D37674A80:
DTSTAMP:2026-04-25T01:56:34Z:
SUMMARY:ChemPoint at Kleinfelder Pirates
DESCRIPTION;ENCODING=QUOTED-PRINTABLE:ChemPoint at Kleinfelder Pirates=0D=0A Time: 6:00 PM=0D=0A Location: Marymoor, Field 6
CLASS:PUBLIC
PRIORITY:5
BEGIN:VALARM
TRIGGER:-PT180M
ACTION:DISPLAY
DESCRIPTION:Reminder
END:VALARM
END:VEVENT
BEGIN:VEVENT
DTSTART:2011-08-16T01:00:00Z
DTEND:2011-08-16T03:30:00Z
LOCATION:SAM2: Sammamish High School, Field 2
CATEGORIES:Softball,ChemPoint,BB/SAA
UID:50B9F71DCC94E47A73F9AAC010FF70:
DTSTAMP:2026-04-25T01:56:34Z:
SUMMARY:ChemPoint at Triple Play
DESCRIPTION;ENCODING=QUOTED-PRINTABLE:ChemPoint at Triple Play=0D=0A Time: 6:00 PM=0D=0A Location: Sammamish High School, Field 2
CLASS:PUBLIC
PRIORITY:5
BEGIN:VALARM
TRIGGER:-PT180M
ACTION:DISPLAY
DESCRIPTION:Reminder
END:VALARM
END:VEVENT
BEGIN:VEVENT
DTSTART:2011-08-23T03:30:00Z
DTEND:2011-08-23T06:00:00Z
LOCATION:MM6: Marymoor, Field 6
CATEGORIES:Softball,ChemPoint,BB/SAA
UID:693DB95A61743B652395B352FDD57:
DTSTAMP:2026-04-25T01:56:34Z:
SUMMARY:ChemPoint at Shotguns & Showels
DESCRIPTION;ENCODING=QUOTED-PRINTABLE:ChemPoint at Shotguns & Showels=0D=0A Time: 8:30 PM=0D=0A Location: Marymoor, Field 6
CLASS:PUBLIC
PRIORITY:5
BEGIN:VALARM
TRIGGER:-PT330M
ACTION:DISPLAY
DESCRIPTION:Reminder
END:VALARM
END:VEVENT
BEGIN:VEVENT
DTSTART:2011-08-30T03:30:00Z
DTEND:2011-08-30T06:00:00Z
LOCATION:MM6: Marymoor, Field 6
CATEGORIES:Softball,ChemPoint,BB/SAA
UID:C41966C4E1D2244A5786FC7E31B975B:
DTSTAMP:2026-04-25T01:56:34Z:
SUMMARY:Dreadsox at ChemPoint
DESCRIPTION;ENCODING=QUOTED-PRINTABLE:Dreadsox at ChemPoint=0D=0A Time: 8:30 PM=0D=0A Location: Marymoor, Field 6
CLASS:PUBLIC
PRIORITY:5
BEGIN:VALARM
TRIGGER:-PT330M
ACTION:DISPLAY
DESCRIPTION:Reminder
END:VALARM
END:VEVENT
BEGIN:VEVENT
DTSTART:2011-09-13T03:30:00Z
DTEND:2011-09-13T06:00:00Z
LOCATION:MM6: Marymoor, Field 6
CATEGORIES:Softball,ChemPoint,BB/SAA
UID:1A2EE54420DEFD45A8533BEFB3E8CBC6:
DTSTAMP:2026-04-25T01:56:34Z:
SUMMARY:Intelius at ChemPoint
DESCRIPTION;ENCODING=QUOTED-PRINTABLE:Intelius at ChemPoint=0D=0A Time: 8:30 PM=0D=0A Location: Marymoor, Field 6
CLASS:PUBLIC
PRIORITY:5
BEGIN:VALARM
TRIGGER:-PT330M
ACTION:DISPLAY
DESCRIPTION:Reminder
END:VALARM
END:VEVENT
BEGIN:VEVENT
DTSTART:2011-09-20T01:00:00Z
DTEND:2011-09-20T03:30:00Z
LOCATION:HV1: Hidden Valley, Field 1
CATEGORIES:Softball,ChemPoint,BB/SAA
UID:14A8CEA06F16F468036257ED4815E8C:
DTSTAMP:2026-04-25T01:56:34Z:
SUMMARY:ChemPoint at Brookshire Homes
DESCRIPTION;ENCODING=QUOTED-PRINTABLE:ChemPoint at Brookshire Homes=0D=0A Time: 6:00 PM=0D=0A Location: Hidden Valley, Field 1
CLASS:PUBLIC
PRIORITY:5
BEGIN:VALARM
TRIGGER:-PT180M
ACTION:DISPLAY
DESCRIPTION:Reminder
END:VALARM
END:VEVENT
BEGIN:VEVENT
DTSTART:2011-09-21T01:00:00Z
DTEND:2011-09-21T03:30:00Z
LOCATION:MM8: Marymoor, Field 8
CATEGORIES:Softball,ChemPoint,BB/SAA
UID:82D0DFB14361E49873A2A899858CF66:
DTSTAMP:2026-04-25T01:56:34Z:
SUMMARY:Intelius at ChemPoint
DESCRIPTION;ENCODING=QUOTED-PRINTABLE:Intelius at ChemPoint=0D=0A Time: 6:00 PM=0D=0A Location: Marymoor, Field 8
CLASS:PUBLIC
PRIORITY:5
BEGIN:VALARM
TRIGGER:-PT180M
ACTION:DISPLAY
DESCRIPTION:Reminder
END:VALARM
END:VEVENT
END:VCALENDAR
