BEGIN:VCALENDAR
PRODID:-//Microsoft Corporation//Outlook 11.0 MIMEDIR//EN
VERSION:2.0
METHOD:PUBLISH
BEGIN:VEVENT
DTSTART:2011-07-12T01:00:00Z
DTEND:2011-07-12T03:30:00Z
LOCATION:HV1: Hidden Valley, Field 1
CATEGORIES:Softball,Brookshire Homes,BB/SAA
UID:B88978B9374AC340A58ECD1D4E5163D:
DTSTAMP:2026-04-25T12:22:51Z:
SUMMARY:Brookshire Homes at Value Village
DESCRIPTION;ENCODING=QUOTED-PRINTABLE:Brookshire Homes at Value Village=0D=0A Time: 6:00 PM=0D=0A Location: Hidden Valley, Field 1
CLASS:PUBLIC
PRIORITY:5
BEGIN:VALARM
TRIGGER:-PT180M
ACTION:DISPLAY
DESCRIPTION:Reminder
END:VALARM
END:VEVENT
BEGIN:VEVENT
DTSTART:2011-07-19T01:00:00Z
DTEND:2011-07-19T03:30:00Z
LOCATION:MM7: Marymoor, Field 7
CATEGORIES:Softball,Brookshire Homes,BB/SAA
UID:BDDD2C86A6F7434E932A1380F9C92E8:
DTSTAMP:2026-04-25T12:22:51Z:
SUMMARY:Shotguns & Showels at Brookshire Homes
DESCRIPTION;ENCODING=QUOTED-PRINTABLE:Shotguns & Showels at Brookshire Homes=0D=0A Time: 6:00 PM=0D=0A Location: Marymoor, Field 7
CLASS:PUBLIC
PRIORITY:5
BEGIN:VALARM
TRIGGER:-PT180M
ACTION:DISPLAY
DESCRIPTION:Reminder
END:VALARM
END:VEVENT
BEGIN:VEVENT
DTSTART:2011-07-26T01:00:00Z
DTEND:2011-07-26T03:30:00Z
LOCATION:HV1: Hidden Valley, Field 1
CATEGORIES:Softball,Brookshire Homes,BB/SAA
UID:C1FCA68DE055354EBF9CC487B5AC5E10:
DTSTAMP:2026-04-25T12:22:51Z:
SUMMARY:ChemPoint at Brookshire Homes
DESCRIPTION;ENCODING=QUOTED-PRINTABLE:ChemPoint at Brookshire Homes=0D=0A Time: 6:00 PM=0D=0A Location: Hidden Valley, Field 1
CLASS:PUBLIC
PRIORITY:5
BEGIN:VALARM
TRIGGER:-PT180M
ACTION:DISPLAY
DESCRIPTION:Reminder
END:VALARM
END:VEVENT
BEGIN:VEVENT
DTSTART:2011-08-02T03:30:00Z
DTEND:2011-08-02T06:00:00Z
LOCATION:MM7: Marymoor, Field 7
CATEGORIES:Softball,Brookshire Homes,BB/SAA
UID:D74BBF4C2E4B1F4D87696F25282CAFE:
DTSTAMP:2026-04-25T12:22:51Z:
SUMMARY:Brookshire Homes at Dreadsox
DESCRIPTION;ENCODING=QUOTED-PRINTABLE:Brookshire Homes at Dreadsox=0D=0A Time: 8:30 PM=0D=0A Location: Marymoor, Field 7
CLASS:PUBLIC
PRIORITY:5
BEGIN:VALARM
TRIGGER:-PT330M
ACTION:DISPLAY
DESCRIPTION:Reminder
END:VALARM
END:VEVENT
BEGIN:VEVENT
DTSTART:2011-08-09T03:30:00Z
DTEND:2011-08-09T06:00:00Z
LOCATION:HV1: Hidden Valley, Field 1
CATEGORIES:Softball,Brookshire Homes,BB/SAA
UID:9B437DF6C4A7244A4CFA86280113028:
DTSTAMP:2026-04-25T12:22:51Z:
SUMMARY:Brookshire Homes at Fielder's Choice
DESCRIPTION;ENCODING=QUOTED-PRINTABLE:Brookshire Homes at Fielder's Choice=0D=0A Time: 8:30 PM=0D=0A Location: Hidden Valley, Field 1
CLASS:PUBLIC
PRIORITY:5
BEGIN:VALARM
TRIGGER:-PT330M
ACTION:DISPLAY
DESCRIPTION:Reminder
END:VALARM
END:VEVENT
BEGIN:VEVENT
DTSTART:2011-08-16T01:00:00Z
DTEND:2011-08-16T03:30:00Z
LOCATION:MM7: Marymoor, Field 7
CATEGORIES:Softball,Brookshire Homes,BB/SAA
UID:271B67BA3D784AAFF15286695D67A:
DTSTAMP:2026-04-25T12:22:51Z:
SUMMARY:Brookshire Homes at Intelius
DESCRIPTION;ENCODING=QUOTED-PRINTABLE:Brookshire Homes at Intelius=0D=0A Time: 6:00 PM=0D=0A Location: Marymoor, Field 7
CLASS:PUBLIC
PRIORITY:5
BEGIN:VALARM
TRIGGER:-PT180M
ACTION:DISPLAY
DESCRIPTION:Reminder
END:VALARM
END:VEVENT
BEGIN:VEVENT
DTSTART:2011-08-23T03:30:00Z
DTEND:2011-08-23T06:00:00Z
LOCATION:HV1: Hidden Valley, Field 1
CATEGORIES:Softball,Brookshire Homes,BB/SAA
UID:B0C6B041CFA74648AF6D694181AB4215:
DTSTAMP:2026-04-25T12:22:51Z:
SUMMARY:Brookshire Homes at Kleinfelder Pirates
DESCRIPTION;ENCODING=QUOTED-PRINTABLE:Brookshire Homes at Kleinfelder Pirates=0D=0A Time: 8:30 PM=0D=0A Location: Hidden Valley, Field 1
CLASS:PUBLIC
PRIORITY:5
BEGIN:VALARM
TRIGGER:-PT330M
ACTION:DISPLAY
DESCRIPTION:Reminder
END:VALARM
END:VEVENT
BEGIN:VEVENT
DTSTART:2011-08-30T01:00:00Z
DTEND:2011-08-30T03:30:00Z
LOCATION:MM6: Marymoor, Field 6
CATEGORIES:Softball,Brookshire Homes,BB/SAA
UID:3B76164853DDB4E9F678D3117D5AAB7:
DTSTAMP:2026-04-25T12:22:51Z:
SUMMARY:Pitch Slap at Brookshire Homes
DESCRIPTION;ENCODING=QUOTED-PRINTABLE:Pitch Slap at Brookshire Homes=0D=0A Time: 6:00 PM=0D=0A Location: Marymoor, Field 6
CLASS:PUBLIC
PRIORITY:5
BEGIN:VALARM
TRIGGER:-PT180M
ACTION:DISPLAY
DESCRIPTION:Reminder
END:VALARM
END:VEVENT
BEGIN:VEVENT
DTSTART:2011-09-13T01:00:00Z
DTEND:2011-09-13T03:30:00Z
LOCATION:MM6: Marymoor, Field 6
CATEGORIES:Softball,Brookshire Homes,BB/SAA
UID:3ABDAD345B81A14B971FF669DFCFF0B8:
DTSTAMP:2026-04-25T12:22:51Z:
SUMMARY:Triple Play at Brookshire Homes
DESCRIPTION;ENCODING=QUOTED-PRINTABLE:Triple Play at Brookshire Homes=0D=0A Time: 6:00 PM=0D=0A Location: Marymoor, Field 6
CLASS:PUBLIC
PRIORITY:5
BEGIN:VALARM
TRIGGER:-PT180M
ACTION:DISPLAY
DESCRIPTION:Reminder
END:VALARM
END:VEVENT
BEGIN:VEVENT
DTSTART:2011-09-16T01:00:00Z
DTEND:2011-09-16T03:30:00Z
LOCATION:HV1: Hidden Valley, Field 1
CATEGORIES:Softball,Brookshire Homes,BB/SAA
UID:9D10F42E0BBF9489CD7C05E5FA71BFD:
DTSTAMP:2026-04-25T12:22:51Z:
SUMMARY:Brookshire Homes at Kleinfelder Pirates
DESCRIPTION;ENCODING=QUOTED-PRINTABLE:Brookshire Homes at Kleinfelder Pirates=0D=0A Time: 6:00 PM=0D=0A Location: Hidden Valley, Field 1
CLASS:PUBLIC
PRIORITY:5
BEGIN:VALARM
TRIGGER:-PT180M
ACTION:DISPLAY
DESCRIPTION:Reminder
END:VALARM
END:VEVENT
BEGIN:VEVENT
DTSTART:2011-09-20T01:00:00Z
DTEND:2011-09-20T03:30:00Z
LOCATION:HV1: Hidden Valley, Field 1
CATEGORIES:Softball,Brookshire Homes,BB/SAA
UID:44F359E280845B4CA82645DF1CE7716:
DTSTAMP:2026-04-25T12:22:51Z:
SUMMARY:ChemPoint at Brookshire Homes
DESCRIPTION;ENCODING=QUOTED-PRINTABLE:ChemPoint at Brookshire Homes=0D=0A Time: 6:00 PM=0D=0A Location: Hidden Valley, Field 1
CLASS:PUBLIC
PRIORITY:5
BEGIN:VALARM
TRIGGER:-PT180M
ACTION:DISPLAY
DESCRIPTION:Reminder
END:VALARM
END:VEVENT
END:VCALENDAR
