BEGIN:VCALENDAR
PRODID:-//Microsoft Corporation//Outlook 11.0 MIMEDIR//EN
VERSION:2.0
METHOD:PUBLISH
BEGIN:VEVENT
DTSTART:2011-04-23T03:30:00Z
DTEND:2011-04-23T06:00:00Z
LOCATION:HV1: Hidden Valley, Field 1
CATEGORIES:Softball,VMC-Too,BB/SAA
UID:8560795EBA94949B74BF2BF3CE9F467:
DTSTAMP:2026-04-21T05:29:33Z:
SUMMARY:First Presbyterian at VMC-Too
DESCRIPTION;ENCODING=QUOTED-PRINTABLE:First Presbyterian at VMC-Too=0D=0A Time: 8:30 PM=0D=0A Location: Hidden Valley, Field 1
CLASS:PUBLIC
PRIORITY:5
BEGIN:VALARM
TRIGGER:-PT330M
ACTION:DISPLAY
DESCRIPTION:Reminder
END:VALARM
END:VEVENT
BEGIN:VEVENT
DTSTART:2011-04-27T01:00:00Z
DTEND:2011-04-27T03:30:00Z
LOCATION:MM7: Marymoor, Field 7
CATEGORIES:Softball,VMC-Too,BB/SAA
UID:A1BDAB22E6A51B4EB68284C0F427244E:
DTSTAMP:2026-04-21T05:29:33Z:
SUMMARY:Goose Pub 1 at VMC-Too
DESCRIPTION;ENCODING=QUOTED-PRINTABLE:Goose Pub 1 at VMC-Too=0D=0A Time: 6:00 PM=0D=0A Location: Marymoor, Field 7
CLASS:PUBLIC
PRIORITY:5
BEGIN:VALARM
TRIGGER:-PT180M
ACTION:DISPLAY
DESCRIPTION:Reminder
END:VALARM
END:VEVENT
BEGIN:VEVENT
DTSTART:2011-05-04T03:30:00Z
DTEND:2011-05-04T06:00:00Z
LOCATION:MM7: Marymoor, Field 7
CATEGORIES:Softball,VMC-Too,BB/SAA
UID:46B9FCCC53F4CA458D5E65D91F62AE3:
DTSTAMP:2026-04-21T05:29:33Z:
SUMMARY:VMC-Too at IV DinoMo's
DESCRIPTION;ENCODING=QUOTED-PRINTABLE:VMC-Too at IV DinoMo's=0D=0A Time: 8:30 PM=0D=0A Location: Marymoor, Field 7
CLASS:PUBLIC
PRIORITY:5
BEGIN:VALARM
TRIGGER:-PT330M
ACTION:DISPLAY
DESCRIPTION:Reminder
END:VALARM
END:VEVENT
BEGIN:VEVENT
DTSTART:2011-05-11T01:00:00Z
DTEND:2011-05-11T03:30:00Z
LOCATION:MM6: Marymoor, Field 6
CATEGORIES:Softball,VMC-Too,BB/SAA
UID:3091306AD57A94092BB8A2D77DAB13:
DTSTAMP:2026-04-21T05:29:33Z:
SUMMARY:VMC-Too at JC Wright Sales
DESCRIPTION;ENCODING=QUOTED-PRINTABLE:VMC-Too at JC Wright Sales=0D=0A Time: 6:00 PM=0D=0A Location: Marymoor, Field 6
CLASS:PUBLIC
PRIORITY:5
BEGIN:VALARM
TRIGGER:-PT180M
ACTION:DISPLAY
DESCRIPTION:Reminder
END:VALARM
END:VEVENT
BEGIN:VEVENT
DTSTART:2011-05-20T01:00:00Z
DTEND:2011-05-20T03:30:00Z
LOCATION:HV1: Hidden Valley, Field 1
CATEGORIES:Softball,VMC-Too,BB/SAA
UID:5F7E1F3F11E4E439C6C658F4F2CEE0:
DTSTAMP:2026-04-21T05:29:33Z:
SUMMARY:VMC-Too at Mad Dogs
DESCRIPTION;ENCODING=QUOTED-PRINTABLE:VMC-Too at Mad Dogs=0D=0A Time: 6:00 PM=0D=0A Location: Hidden Valley, Field 1
CLASS:PUBLIC
PRIORITY:5
BEGIN:VALARM
TRIGGER:-PT180M
ACTION:DISPLAY
DESCRIPTION:Reminder
END:VALARM
END:VEVENT
BEGIN:VEVENT
DTSTART:2011-05-25T03:30:00Z
DTEND:2011-05-25T06:00:00Z
LOCATION:MM7: Marymoor, Field 7
CATEGORIES:Softball,VMC-Too,BB/SAA
UID:5D16C3844A6EB840A1661888935A785E:
DTSTAMP:2026-04-21T05:29:33Z:
SUMMARY:VMC-Too at Pacer Design
DESCRIPTION;ENCODING=QUOTED-PRINTABLE:VMC-Too at Pacer Design=0D=0A Time: 8:30 PM=0D=0A Location: Marymoor, Field 7
CLASS:PUBLIC
PRIORITY:5
BEGIN:VALARM
TRIGGER:-PT330M
ACTION:DISPLAY
DESCRIPTION:Reminder
END:VALARM
END:VEVENT
BEGIN:VEVENT
DTSTART:2011-06-03T03:30:00Z
DTEND:2011-06-03T06:00:00Z
LOCATION:MM7: Marymoor, Field 7
CATEGORIES:Softball,VMC-Too,BB/SAA
UID:6FD86FA4E8D3F8458CAEB986A822C56D:
DTSTAMP:2026-04-21T05:29:33Z:
SUMMARY:Silver Foxes at VMC-Too
DESCRIPTION;ENCODING=QUOTED-PRINTABLE:Silver Foxes at VMC-Too=0D=0A Time: 8:30 PM=0D=0A Location: Marymoor, Field 7
CLASS:PUBLIC
PRIORITY:5
BEGIN:VALARM
TRIGGER:-PT330M
ACTION:DISPLAY
DESCRIPTION:Reminder
END:VALARM
END:VEVENT
BEGIN:VEVENT
DTSTART:2011-06-08T01:00:00Z
DTEND:2011-06-08T03:30:00Z
LOCATION:MM7: Marymoor, Field 7
CATEGORIES:Softball,VMC-Too,BB/SAA
UID:850EFB84BC69D4CB81532803D52C250:
DTSTAMP:2026-04-21T05:29:33Z:
SUMMARY:Team Shocker at VMC-Too
DESCRIPTION;ENCODING=QUOTED-PRINTABLE:Team Shocker at VMC-Too=0D=0A Time: 6:00 PM=0D=0A Location: Marymoor, Field 7
CLASS:PUBLIC
PRIORITY:5
BEGIN:VALARM
TRIGGER:-PT180M
ACTION:DISPLAY
DESCRIPTION:Reminder
END:VALARM
END:VEVENT
BEGIN:VEVENT
DTSTART:2011-06-17T01:00:00Z
DTEND:2011-06-17T03:30:00Z
LOCATION:HV1: Hidden Valley, Field 1
CATEGORIES:Softball,VMC-Too,BB/SAA
UID:769C5B457C77644904A387E5D175E85:
DTSTAMP:2026-04-21T05:29:33Z:
SUMMARY:VMC-Too at Mad Dogs
DESCRIPTION;ENCODING=QUOTED-PRINTABLE:VMC-Too at Mad Dogs=0D=0A Time: 6:00 PM=0D=0A Location: Hidden Valley, Field 1
CLASS:PUBLIC
PRIORITY:5
BEGIN:VALARM
TRIGGER:-PT180M
ACTION:DISPLAY
DESCRIPTION:Reminder
END:VALARM
END:VEVENT
END:VCALENDAR
