BEGIN:VCALENDAR
PRODID:-//Microsoft Corporation//Outlook 11.0 MIMEDIR//EN
VERSION:2.0
METHOD:PUBLISH
BEGIN:VEVENT
DTSTART:2011-04-13T01:00:00Z
DTEND:2011-04-13T03:30:00Z
LOCATION:HV1: Hidden Valley, Field 1
CATEGORIES:Softball,Silver Foxes,BB/SAA
UID:FBF9BB658FD5814B80312F76BB2FA149:
DTSTAMP:2026-04-21T05:29:15Z:
SUMMARY:Silver Foxes at Goose Pub 1
DESCRIPTION;ENCODING=QUOTED-PRINTABLE:Silver Foxes at Goose Pub 1=0D=0A Time: 6:00 PM=0D=0A Location: Hidden Valley, Field 1
CLASS:PUBLIC
PRIORITY:5
BEGIN:VALARM
TRIGGER:-PT180M
ACTION:DISPLAY
DESCRIPTION:Reminder
END:VALARM
END:VEVENT
BEGIN:VEVENT
DTSTART:2011-04-20T03:30:00Z
DTEND:2011-04-20T06:00:00Z
LOCATION:HV1: Hidden Valley, Field 1
CATEGORIES:Softball,Silver Foxes,BB/SAA
UID:B437BC3BAAB5B646ACEFBAEC4CD8431:
DTSTAMP:2026-04-21T05:29:15Z:
SUMMARY:JC Wright Sales at Silver Foxes
DESCRIPTION;ENCODING=QUOTED-PRINTABLE:JC Wright Sales at Silver Foxes=0D=0A Time: 8:30 PM=0D=0A Location: Hidden Valley, Field 1
CLASS:PUBLIC
PRIORITY:5
BEGIN:VALARM
TRIGGER:-PT330M
ACTION:DISPLAY
DESCRIPTION:Reminder
END:VALARM
END:VEVENT
BEGIN:VEVENT
DTSTART:2011-04-27T03:30:00Z
DTEND:2011-04-27T06:00:00Z
LOCATION:MM6: Marymoor, Field 6
CATEGORIES:Softball,Silver Foxes,BB/SAA
UID:4FC9BDAF256124F893AADD2685C6BB4:
DTSTAMP:2026-04-21T05:29:15Z:
SUMMARY:Silver Foxes at Pacer Design
DESCRIPTION;ENCODING=QUOTED-PRINTABLE:Silver Foxes at Pacer Design=0D=0A Time: 8:30 PM=0D=0A Location: Marymoor, Field 6
CLASS:PUBLIC
PRIORITY:5
BEGIN:VALARM
TRIGGER:-PT330M
ACTION:DISPLAY
DESCRIPTION:Reminder
END:VALARM
END:VEVENT
BEGIN:VEVENT
DTSTART:2011-05-04T01:00:00Z
DTEND:2011-05-04T03:30:00Z
LOCATION:MM7: Marymoor, Field 7
CATEGORIES:Softball,Silver Foxes,BB/SAA
UID:D3CD6845FE8314F8C4B12976372C784:
DTSTAMP:2026-04-21T05:29:15Z:
SUMMARY:Team Shocker at Silver Foxes
DESCRIPTION;ENCODING=QUOTED-PRINTABLE:Team Shocker at Silver Foxes=0D=0A Time: 6:00 PM=0D=0A Location: Marymoor, Field 7
CLASS:PUBLIC
PRIORITY:5
BEGIN:VALARM
TRIGGER:-PT180M
ACTION:DISPLAY
DESCRIPTION:Reminder
END:VALARM
END:VEVENT
BEGIN:VEVENT
DTSTART:2011-05-11T03:30:00Z
DTEND:2011-05-11T06:00:00Z
LOCATION:MM7: Marymoor, Field 7
CATEGORIES:Softball,Silver Foxes,BB/SAA
UID:EC36A416C378384CBE6C1E626CCE3B6C:
DTSTAMP:2026-04-21T05:29:15Z:
SUMMARY:First Presbyterian at Silver Foxes
DESCRIPTION;ENCODING=QUOTED-PRINTABLE:First Presbyterian at Silver Foxes=0D=0A Time: 8:30 PM=0D=0A Location: Marymoor, Field 7
CLASS:PUBLIC
PRIORITY:5
BEGIN:VALARM
TRIGGER:-PT330M
ACTION:DISPLAY
DESCRIPTION:Reminder
END:VALARM
END:VEVENT
BEGIN:VEVENT
DTSTART:2011-05-18T03:30:00Z
DTEND:2011-05-18T06:00:00Z
LOCATION:MM7: Marymoor, Field 7
CATEGORIES:Softball,Silver Foxes,BB/SAA
UID:83D93B17C8BAF4CB7D56868B38B297:
DTSTAMP:2026-04-21T05:29:15Z:
SUMMARY:IV DinoMo's at Silver Foxes
DESCRIPTION;ENCODING=QUOTED-PRINTABLE:IV DinoMo's at Silver Foxes=0D=0A Time: 8:30 PM=0D=0A Location: Marymoor, Field 7
CLASS:PUBLIC
PRIORITY:5
BEGIN:VALARM
TRIGGER:-PT330M
ACTION:DISPLAY
DESCRIPTION:Reminder
END:VALARM
END:VEVENT
BEGIN:VEVENT
DTSTART:2011-05-25T01:00:00Z
DTEND:2011-05-25T03:30:00Z
LOCATION:MM7: Marymoor, Field 7
CATEGORIES:Softball,Silver Foxes,BB/SAA
UID:B2965A3926DF5747BDF2D6A0F593C3B3:
DTSTAMP:2026-04-21T05:29:15Z:
SUMMARY:Mad Dogs at Silver Foxes
DESCRIPTION;ENCODING=QUOTED-PRINTABLE:Mad Dogs at Silver Foxes=0D=0A Time: 6:00 PM=0D=0A Location: Marymoor, Field 7
CLASS:PUBLIC
PRIORITY:5
BEGIN:VALARM
TRIGGER:-PT180M
ACTION:DISPLAY
DESCRIPTION:Reminder
END:VALARM
END:VEVENT
BEGIN:VEVENT
DTSTART:2011-06-03T03:30:00Z
DTEND:2011-06-03T06:00:00Z
LOCATION:MM7: Marymoor, Field 7
CATEGORIES:Softball,Silver Foxes,BB/SAA
UID:96F3CA8041DDF4C9DFA91C668808DA2:
DTSTAMP:2026-04-21T05:29:15Z:
SUMMARY:Silver Foxes at VMC-Too
DESCRIPTION;ENCODING=QUOTED-PRINTABLE:Silver Foxes at VMC-Too=0D=0A Time: 8:30 PM=0D=0A Location: Marymoor, Field 7
CLASS:PUBLIC
PRIORITY:5
BEGIN:VALARM
TRIGGER:-PT330M
ACTION:DISPLAY
DESCRIPTION:Reminder
END:VALARM
END:VEVENT
BEGIN:VEVENT
DTSTART:2011-06-16T01:00:00Z
DTEND:2011-06-16T03:30:00Z
LOCATION:HV1: Hidden Valley, Field 1
CATEGORIES:Softball,Silver Foxes,BB/SAA
UID:F165692CB5B99847BF5E1E924B247090:
DTSTAMP:2026-04-21T05:29:15Z:
SUMMARY:Silver Foxes at Goose Pub 1
DESCRIPTION;ENCODING=QUOTED-PRINTABLE:Silver Foxes at Goose Pub 1=0D=0A Time: 6:00 PM=0D=0A Location: Hidden Valley, Field 1
CLASS:PUBLIC
PRIORITY:5
BEGIN:VALARM
TRIGGER:-PT180M
ACTION:DISPLAY
DESCRIPTION:Reminder
END:VALARM
END:VEVENT
BEGIN:VEVENT
DTSTART:2011-07-06T01:00:00Z
DTEND:2011-07-06T03:30:00Z
LOCATION:MM6: Marymoor, Field 6
CATEGORIES:Softball,Silver Foxes,BB/SAA
UID:49845CEF1C24741AD7F9B8E4E328B5:
DTSTAMP:2026-04-21T05:29:15Z:
SUMMARY:Silver Foxes at Goose Pub 1
DESCRIPTION;ENCODING=QUOTED-PRINTABLE:Silver Foxes at Goose Pub 1=0D=0A Time: 6:00 PM=0D=0A Location: Marymoor, Field 6
CLASS:PUBLIC
PRIORITY:5
BEGIN:VALARM
TRIGGER:-PT180M
ACTION:DISPLAY
DESCRIPTION:Reminder
END:VALARM
END:VEVENT
END:VCALENDAR
