BEGIN:VCALENDAR
PRODID:-//Microsoft Corporation//Outlook 11.0 MIMEDIR//EN
VERSION:2.0
METHOD:PUBLISH
BEGIN:VEVENT
DTSTART:2011-04-14T01:00:00Z
DTEND:2011-04-14T03:30:00Z
LOCATION:MM7: Marymoor, Field 7
CATEGORIES:Softball,Team Shocker,BB/SAA
UID:1342F42A659984BA9D1F5F0622F244:
DTSTAMP:2026-04-21T06:59:12Z:
SUMMARY:Team Shocker at First Presbyterian
DESCRIPTION;ENCODING=QUOTED-PRINTABLE:Team Shocker at First Presbyterian=0D=0A Time: 6:00 PM=0D=0A Location: Marymoor, Field 7
CLASS:PUBLIC
PRIORITY:5
BEGIN:VALARM
TRIGGER:-PT180M
ACTION:DISPLAY
DESCRIPTION:Reminder
END:VALARM
END:VEVENT
BEGIN:VEVENT
DTSTART:2011-04-20T03:30:00Z
DTEND:2011-04-20T06:00:00Z
LOCATION:MM7: Marymoor, Field 7
CATEGORIES:Softball,Team Shocker,BB/SAA
UID:85BD11784B5B344906B1D84B8383C7E:
DTSTAMP:2026-04-21T06:59:12Z:
SUMMARY:IV DinoMo's at Team Shocker
DESCRIPTION;ENCODING=QUOTED-PRINTABLE:IV DinoMo's at Team Shocker=0D=0A Time: 8:30 PM=0D=0A Location: Marymoor, Field 7
CLASS:PUBLIC
PRIORITY:5
BEGIN:VALARM
TRIGGER:-PT330M
ACTION:DISPLAY
DESCRIPTION:Reminder
END:VALARM
END:VEVENT
BEGIN:VEVENT
DTSTART:2011-04-29T03:30:00Z
DTEND:2011-04-29T06:00:00Z
LOCATION:MM7: Marymoor, Field 7
CATEGORIES:Softball,Team Shocker,BB/SAA
UID:C0D0236EB7C30449F69AA5CE9A524A6:
DTSTAMP:2026-04-21T06:59:12Z:
SUMMARY:Team Shocker at Mad Dogs
DESCRIPTION;ENCODING=QUOTED-PRINTABLE:Team Shocker at Mad Dogs=0D=0A Time: 8:30 PM=0D=0A Location: Marymoor, Field 7
CLASS:PUBLIC
PRIORITY:5
BEGIN:VALARM
TRIGGER:-PT330M
ACTION:DISPLAY
DESCRIPTION:Reminder
END:VALARM
END:VEVENT
BEGIN:VEVENT
DTSTART:2011-05-04T01:00:00Z
DTEND:2011-05-04T03:30:00Z
LOCATION:MM7: Marymoor, Field 7
CATEGORIES:Softball,Team Shocker,BB/SAA
UID:636C86FE2CAB6D418C387759DDEAEC40:
DTSTAMP:2026-04-21T06:59:12Z:
SUMMARY:Team Shocker at Silver Foxes
DESCRIPTION;ENCODING=QUOTED-PRINTABLE:Team Shocker at Silver Foxes=0D=0A Time: 6:00 PM=0D=0A Location: Marymoor, Field 7
CLASS:PUBLIC
PRIORITY:5
BEGIN:VALARM
TRIGGER:-PT180M
ACTION:DISPLAY
DESCRIPTION:Reminder
END:VALARM
END:VEVENT
BEGIN:VEVENT
DTSTART:2011-05-21T01:00:00Z
DTEND:2011-05-21T03:30:00Z
LOCATION:HV1: Hidden Valley, Field 1
CATEGORIES:Softball,Team Shocker,BB/SAA
UID:EBB1CEC02CC48F46A74345884ADE17DF:
DTSTAMP:2026-04-21T06:59:12Z:
SUMMARY:Goose Pub 1 at Team Shocker
DESCRIPTION;ENCODING=QUOTED-PRINTABLE:Goose Pub 1 at Team Shocker=0D=0A Time: 6:00 PM=0D=0A Location: Hidden Valley, Field 1
CLASS:PUBLIC
PRIORITY:5
BEGIN:VALARM
TRIGGER:-PT180M
ACTION:DISPLAY
DESCRIPTION:Reminder
END:VALARM
END:VEVENT
BEGIN:VEVENT
DTSTART:2011-05-26T03:30:00Z
DTEND:2011-05-26T06:00:00Z
LOCATION:MM7: Marymoor, Field 7
CATEGORIES:Softball,Team Shocker,BB/SAA
UID:F7346D946D1CB149A69844468422ECF:
DTSTAMP:2026-04-21T06:59:12Z:
SUMMARY:JC Wright Sales at Team Shocker
DESCRIPTION;ENCODING=QUOTED-PRINTABLE:JC Wright Sales at Team Shocker=0D=0A Time: 8:30 PM=0D=0A Location: Marymoor, Field 7
CLASS:PUBLIC
PRIORITY:5
BEGIN:VALARM
TRIGGER:-PT330M
ACTION:DISPLAY
DESCRIPTION:Reminder
END:VALARM
END:VEVENT
BEGIN:VEVENT
DTSTART:2011-06-02T03:30:00Z
DTEND:2011-06-02T06:00:00Z
LOCATION:HV1: Hidden Valley, Field 1
CATEGORIES:Softball,Team Shocker,BB/SAA
UID:C98516F229F364991BE18DDD5FCBD8D:
DTSTAMP:2026-04-21T06:59:12Z:
SUMMARY:Pacer Design at Team Shocker
DESCRIPTION;ENCODING=QUOTED-PRINTABLE:Pacer Design at Team Shocker=0D=0A Time: 8:30 PM=0D=0A Location: Hidden Valley, Field 1
CLASS:PUBLIC
PRIORITY:5
BEGIN:VALARM
TRIGGER:-PT330M
ACTION:DISPLAY
DESCRIPTION:Reminder
END:VALARM
END:VEVENT
BEGIN:VEVENT
DTSTART:2011-06-08T01:00:00Z
DTEND:2011-06-08T03:30:00Z
LOCATION:MM7: Marymoor, Field 7
CATEGORIES:Softball,Team Shocker,BB/SAA
UID:55393476E7C7384F9F1F4E177292F089:
DTSTAMP:2026-04-21T06:59:12Z:
SUMMARY:Team Shocker at VMC-Too
DESCRIPTION;ENCODING=QUOTED-PRINTABLE:Team Shocker at VMC-Too=0D=0A Time: 6:00 PM=0D=0A Location: Marymoor, Field 7
CLASS:PUBLIC
PRIORITY:5
BEGIN:VALARM
TRIGGER:-PT180M
ACTION:DISPLAY
DESCRIPTION:Reminder
END:VALARM
END:VEVENT
BEGIN:VEVENT
DTSTART:2011-06-16T03:30:00Z
DTEND:2011-06-16T06:00:00Z
LOCATION:HV1: Hidden Valley, Field 1
CATEGORIES:Softball,Team Shocker,BB/SAA
UID:9174351C35E6B488782BBA23C657566:
DTSTAMP:2026-04-21T06:59:12Z:
SUMMARY:Team Shocker at First Presbyterian
DESCRIPTION;ENCODING=QUOTED-PRINTABLE:Team Shocker at First Presbyterian=0D=0A Time: 8:30 PM=0D=0A Location: Hidden Valley, Field 1
CLASS:PUBLIC
PRIORITY:5
BEGIN:VALARM
TRIGGER:-PT330M
ACTION:DISPLAY
DESCRIPTION:Reminder
END:VALARM
END:VEVENT
BEGIN:VEVENT
DTSTART:2011-06-22T03:30:00Z
DTEND:2011-06-22T06:00:00Z
LOCATION:HV1: Hidden Valley, Field 1
CATEGORIES:Softball,Team Shocker,BB/SAA
UID:3734F67D314D347A413D80A6642FFD:
DTSTAMP:2026-04-21T06:59:12Z:
SUMMARY:JC Wright Sales at Team Shocker
DESCRIPTION;ENCODING=QUOTED-PRINTABLE:JC Wright Sales at Team Shocker=0D=0A Time: 8:30 PM=0D=0A Location: Hidden Valley, Field 1
CLASS:PUBLIC
PRIORITY:5
BEGIN:VALARM
TRIGGER:-PT330M
ACTION:DISPLAY
DESCRIPTION:Reminder
END:VALARM
END:VEVENT
BEGIN:VEVENT
DTSTART:2011-06-24T03:30:00Z
DTEND:2011-06-24T06:00:00Z
LOCATION:HV1: Hidden Valley, Field 1
CATEGORIES:Softball,Team Shocker,BB/SAA
UID:C3BF9C2F4284E04EA6A89518D4FD2A16:
DTSTAMP:2026-04-21T06:59:12Z:
SUMMARY:Pacer Design at Team Shocker
DESCRIPTION;ENCODING=QUOTED-PRINTABLE:Pacer Design at Team Shocker=0D=0A Time: 8:30 PM=0D=0A Location: Hidden Valley, Field 1
CLASS:PUBLIC
PRIORITY:5
BEGIN:VALARM
TRIGGER:-PT330M
ACTION:DISPLAY
DESCRIPTION:Reminder
END:VALARM
END:VEVENT
BEGIN:VEVENT
DTSTART:2011-07-06T03:30:00Z
DTEND:2011-07-06T06:00:00Z
LOCATION:MM6: Marymoor, Field 6
CATEGORIES:Softball,Team Shocker,BB/SAA
UID:1DA4AFB2DF5CC47BE4AFDD5919A35E0:
DTSTAMP:2026-04-21T06:59:12Z:
SUMMARY:Team Shocker at First Presbyterian
DESCRIPTION;ENCODING=QUOTED-PRINTABLE:Team Shocker at First Presbyterian=0D=0A Time: 8:30 PM=0D=0A Location: Marymoor, Field 6
CLASS:PUBLIC
PRIORITY:5
BEGIN:VALARM
TRIGGER:-PT330M
ACTION:DISPLAY
DESCRIPTION:Reminder
END:VALARM
END:VEVENT
END:VCALENDAR
