BEGIN:VCALENDAR
PRODID:-//Microsoft Corporation//Outlook 11.0 MIMEDIR//EN
VERSION:2.0
METHOD:PUBLISH
BEGIN:VEVENT
DTSTART:2011-04-13T03:30:00Z
DTEND:2011-04-13T06:00:00Z
LOCATION:HV1: Hidden Valley, Field 1
CATEGORIES:Softball,JC Wright Sales,BB/SAA
UID:42743F926B70B743BEC975A0196BB73D:
DTSTAMP:2026-04-21T05:29:08Z:
SUMMARY:Mad Dogs at JC Wright Sales
DESCRIPTION;ENCODING=QUOTED-PRINTABLE:Mad Dogs at JC Wright Sales=0D=0A Time: 8:30 PM=0D=0A Location: Hidden Valley, Field 1
CLASS:PUBLIC
PRIORITY:5
BEGIN:VALARM
TRIGGER:-PT330M
ACTION:DISPLAY
DESCRIPTION:Reminder
END:VALARM
END:VEVENT
BEGIN:VEVENT
DTSTART:2011-04-20T03:30:00Z
DTEND:2011-04-20T06:00:00Z
LOCATION:HV1: Hidden Valley, Field 1
CATEGORIES:Softball,JC Wright Sales,BB/SAA
UID:FAD4F862AFB2A048A313569EE5BFA4F9:
DTSTAMP:2026-04-21T05:29:08Z:
SUMMARY:JC Wright Sales at Silver Foxes
DESCRIPTION;ENCODING=QUOTED-PRINTABLE:JC Wright Sales at Silver Foxes=0D=0A Time: 8:30 PM=0D=0A Location: Hidden Valley, Field 1
CLASS:PUBLIC
PRIORITY:5
BEGIN:VALARM
TRIGGER:-PT330M
ACTION:DISPLAY
DESCRIPTION:Reminder
END:VALARM
END:VEVENT
BEGIN:VEVENT
DTSTART:2011-05-04T01:00:00Z
DTEND:2011-05-04T03:30:00Z
LOCATION:HV1: Hidden Valley, Field 1
CATEGORIES:Softball,JC Wright Sales,BB/SAA
UID:982761CFAEB84D9CD67F7D308075F:
DTSTAMP:2026-04-21T05:29:08Z:
SUMMARY:Goose Pub 1 at JC Wright Sales
DESCRIPTION;ENCODING=QUOTED-PRINTABLE:Goose Pub 1 at JC Wright Sales=0D=0A Time: 6:00 PM=0D=0A Location: Hidden Valley, Field 1
CLASS:PUBLIC
PRIORITY:5
BEGIN:VALARM
TRIGGER:-PT180M
ACTION:DISPLAY
DESCRIPTION:Reminder
END:VALARM
END:VEVENT
BEGIN:VEVENT
DTSTART:2011-05-11T01:00:00Z
DTEND:2011-05-11T03:30:00Z
LOCATION:MM6: Marymoor, Field 6
CATEGORIES:Softball,JC Wright Sales,BB/SAA
UID:961F6D2C5691DE4BA84037388C9183B7:
DTSTAMP:2026-04-21T05:29:08Z:
SUMMARY:VMC-Too at JC Wright Sales
DESCRIPTION;ENCODING=QUOTED-PRINTABLE:VMC-Too at JC Wright Sales=0D=0A Time: 6:00 PM=0D=0A Location: Marymoor, Field 6
CLASS:PUBLIC
PRIORITY:5
BEGIN:VALARM
TRIGGER:-PT180M
ACTION:DISPLAY
DESCRIPTION:Reminder
END:VALARM
END:VEVENT
BEGIN:VEVENT
DTSTART:2011-05-19T01:00:00Z
DTEND:2011-05-19T03:30:00Z
LOCATION:HV1: Hidden Valley, Field 1
CATEGORIES:Softball,JC Wright Sales,BB/SAA
UID:F7CC9AF5C97A64F846B3DA270983B4A:
DTSTAMP:2026-04-21T05:29:08Z:
SUMMARY:JC Wright Sales at Pacer Design
DESCRIPTION;ENCODING=QUOTED-PRINTABLE:JC Wright Sales at Pacer Design=0D=0A Time: 6:00 PM=0D=0A Location: Hidden Valley, Field 1
CLASS:PUBLIC
PRIORITY:5
BEGIN:VALARM
TRIGGER:-PT180M
ACTION:DISPLAY
DESCRIPTION:Reminder
END:VALARM
END:VEVENT
BEGIN:VEVENT
DTSTART:2011-05-26T03:30:00Z
DTEND:2011-05-26T06:00:00Z
LOCATION:MM7: Marymoor, Field 7
CATEGORIES:Softball,JC Wright Sales,BB/SAA
UID:518D91AA1B9AF4499B1DEABB1D3EFAA7:
DTSTAMP:2026-04-21T05:29:08Z:
SUMMARY:JC Wright Sales at Team Shocker
DESCRIPTION;ENCODING=QUOTED-PRINTABLE:JC Wright Sales at Team Shocker=0D=0A Time: 8:30 PM=0D=0A Location: Marymoor, Field 7
CLASS:PUBLIC
PRIORITY:5
BEGIN:VALARM
TRIGGER:-PT330M
ACTION:DISPLAY
DESCRIPTION:Reminder
END:VALARM
END:VEVENT
BEGIN:VEVENT
DTSTART:2011-06-02T01:00:00Z
DTEND:2011-06-02T03:30:00Z
LOCATION:HV1: Hidden Valley, Field 1
CATEGORIES:Softball,JC Wright Sales,BB/SAA
UID:F096A7B9412EFC49AD9CEAB35C894E88:
DTSTAMP:2026-04-21T05:29:08Z:
SUMMARY:JC Wright Sales at First Presbyterian
DESCRIPTION;ENCODING=QUOTED-PRINTABLE:JC Wright Sales at First Presbyterian=0D=0A Time: 6:00 PM=0D=0A Location: Hidden Valley, Field 1
CLASS:PUBLIC
PRIORITY:5
BEGIN:VALARM
TRIGGER:-PT180M
ACTION:DISPLAY
DESCRIPTION:Reminder
END:VALARM
END:VEVENT
BEGIN:VEVENT
DTSTART:2011-06-08T03:30:00Z
DTEND:2011-06-08T06:00:00Z
LOCATION:HV1: Hidden Valley, Field 1
CATEGORIES:Softball,JC Wright Sales,BB/SAA
UID:73EFD1E3831F34F93ED231BA2F1D8B:
DTSTAMP:2026-04-21T05:29:08Z:
SUMMARY:JC Wright Sales at IV DinoMo's
DESCRIPTION;ENCODING=QUOTED-PRINTABLE:JC Wright Sales at IV DinoMo's=0D=0A Time: 8:30 PM=0D=0A Location: Hidden Valley, Field 1
CLASS:PUBLIC
PRIORITY:5
BEGIN:VALARM
TRIGGER:-PT330M
ACTION:DISPLAY
DESCRIPTION:Reminder
END:VALARM
END:VEVENT
BEGIN:VEVENT
DTSTART:2011-06-15T01:00:00Z
DTEND:2011-06-15T03:30:00Z
LOCATION:HV1: Hidden Valley, Field 1
CATEGORIES:Softball,JC Wright Sales,BB/SAA
UID:1B44C96D3AF1904BB7A9CFC17E65D88C:
DTSTAMP:2026-04-21T05:29:08Z:
SUMMARY:Mad Dogs at JC Wright Sales
DESCRIPTION;ENCODING=QUOTED-PRINTABLE:Mad Dogs at JC Wright Sales=0D=0A Time: 6:00 PM=0D=0A Location: Hidden Valley, Field 1
CLASS:PUBLIC
PRIORITY:5
BEGIN:VALARM
TRIGGER:-PT180M
ACTION:DISPLAY
DESCRIPTION:Reminder
END:VALARM
END:VEVENT
BEGIN:VEVENT
DTSTART:2011-06-22T03:30:00Z
DTEND:2011-06-22T06:00:00Z
LOCATION:HV1: Hidden Valley, Field 1
CATEGORIES:Softball,JC Wright Sales,BB/SAA
UID:D3B7D04C15C99C47837734764C106138:
DTSTAMP:2026-04-21T05:29:08Z:
SUMMARY:JC Wright Sales at Team Shocker
DESCRIPTION;ENCODING=QUOTED-PRINTABLE:JC Wright Sales at Team Shocker=0D=0A Time: 8:30 PM=0D=0A Location: Hidden Valley, Field 1
CLASS:PUBLIC
PRIORITY:5
BEGIN:VALARM
TRIGGER:-PT330M
ACTION:DISPLAY
DESCRIPTION:Reminder
END:VALARM
END:VEVENT
BEGIN:VEVENT
DTSTART:2011-06-24T01:00:00Z
DTEND:2011-06-24T03:30:00Z
LOCATION:HV1: Hidden Valley, Field 1
CATEGORIES:Softball,JC Wright Sales,BB/SAA
UID:8F181ECF7E5D342BDA0DBD34E8373C2:
DTSTAMP:2026-04-21T05:29:08Z:
SUMMARY:JC Wright Sales at First Presbyterian
DESCRIPTION;ENCODING=QUOTED-PRINTABLE:JC Wright Sales at First Presbyterian=0D=0A Time: 6:00 PM=0D=0A Location: Hidden Valley, Field 1
CLASS:PUBLIC
PRIORITY:5
BEGIN:VALARM
TRIGGER:-PT180M
ACTION:DISPLAY
DESCRIPTION:Reminder
END:VALARM
END:VEVENT
END:VCALENDAR
