BEGIN:VCALENDAR
PRODID:-//Microsoft Corporation//Outlook 11.0 MIMEDIR//EN
VERSION:2.0
METHOD:PUBLISH
BEGIN:VEVENT
DTSTART:2011-04-15T01:00:00Z
DTEND:2011-04-15T03:30:00Z
LOCATION:HV1: Hidden Valley, Field 1
CATEGORIES:Softball,Overlake Christian,BB/SAA
UID:B1CC48A7762F84789AFEF2597F37990:
DTSTAMP:2026-04-23T11:35:53Z:
SUMMARY:Dawgystyle - Men at Overlake Christian
DESCRIPTION;ENCODING=QUOTED-PRINTABLE:Dawgystyle - Men at Overlake Christian=0D=0A Time: 6:00 PM=0D=0A Location: Hidden Valley, Field 1
CLASS:PUBLIC
PRIORITY:5
BEGIN:VALARM
TRIGGER:-PT180M
ACTION:DISPLAY
DESCRIPTION:Reminder
END:VALARM
END:VEVENT
BEGIN:VEVENT
DTSTART:2011-04-22T01:00:00Z
DTEND:2011-04-22T03:30:00Z
LOCATION:HV1: Hidden Valley, Field 1
CATEGORIES:Softball,Overlake Christian,BB/SAA
UID:61B76E86E737F4EB770884DE4A046F:
DTSTAMP:2026-04-23T11:35:53Z:
SUMMARY:Overlake Christian at RBI
DESCRIPTION;ENCODING=QUOTED-PRINTABLE:Overlake Christian at RBI=0D=0A Time: 6:00 PM=0D=0A Location: Hidden Valley, Field 1
CLASS:PUBLIC
PRIORITY:5
BEGIN:VALARM
TRIGGER:-PT180M
ACTION:DISPLAY
DESCRIPTION:Reminder
END:VALARM
END:VEVENT
BEGIN:VEVENT
DTSTART:2011-04-29T03:30:00Z
DTEND:2011-04-29T06:00:00Z
LOCATION:HV1: Hidden Valley, Field 1
CATEGORIES:Softball,Overlake Christian,BB/SAA
UID:81EC4C64BA2B6347A4D94AD0A55E2E:
DTSTAMP:2026-04-23T11:35:53Z:
SUMMARY:Carpet To Go at Overlake Christian
DESCRIPTION;ENCODING=QUOTED-PRINTABLE:Carpet To Go at Overlake Christian=0D=0A Time: 8:30 PM=0D=0A Location: Hidden Valley, Field 1
CLASS:PUBLIC
PRIORITY:5
BEGIN:VALARM
TRIGGER:-PT330M
ACTION:DISPLAY
DESCRIPTION:Reminder
END:VALARM
END:VEVENT
BEGIN:VEVENT
DTSTART:2011-05-05T03:30:00Z
DTEND:2011-05-05T06:00:00Z
LOCATION:MM6: Marymoor, Field 6
CATEGORIES:Softball,Overlake Christian,BB/SAA
UID:B878F265BC81448DD19AE367238753:
DTSTAMP:2026-04-23T11:35:53Z:
SUMMARY:Overlake Christian at Dukes
DESCRIPTION;ENCODING=QUOTED-PRINTABLE:Overlake Christian at Dukes=0D=0A Time: 8:30 PM=0D=0A Location: Marymoor, Field 6
CLASS:PUBLIC
PRIORITY:5
BEGIN:VALARM
TRIGGER:-PT330M
ACTION:DISPLAY
DESCRIPTION:Reminder
END:VALARM
END:VEVENT
BEGIN:VEVENT
DTSTART:2011-05-13T03:00:00Z
DTEND:2011-05-13T05:30:00Z
LOCATION:MM8: Marymoor, Field 8
CATEGORIES:Softball,Overlake Christian,BB/SAA
UID:3F9CC711C199478925216EA8C87565:
DTSTAMP:2026-04-23T11:35:53Z:
SUMMARY:I'd Hit It at Overlake Christian
DESCRIPTION;ENCODING=QUOTED-PRINTABLE:I'd Hit It at Overlake Christian=0D=0A Time: 8:00 PM=0D=0A Location: Marymoor, Field 8
CLASS:PUBLIC
PRIORITY:5
BEGIN:VALARM
TRIGGER:-PT300M
ACTION:DISPLAY
DESCRIPTION:Reminder
END:VALARM
END:VEVENT
BEGIN:VEVENT
DTSTART:2011-05-20T01:00:00Z
DTEND:2011-05-20T03:30:00Z
LOCATION:MM7: Marymoor, Field 7
CATEGORIES:Softball,Overlake Christian,BB/SAA
UID:15988EB531974CBD92F6663D359E3D:
DTSTAMP:2026-04-23T11:35:53Z:
SUMMARY:Overlake Christian at Dawgystyle - Men
DESCRIPTION;ENCODING=QUOTED-PRINTABLE:Overlake Christian at Dawgystyle - Men=0D=0A Time: 6:00 PM=0D=0A Location: Marymoor, Field 7
CLASS:PUBLIC
PRIORITY:5
BEGIN:VALARM
TRIGGER:-PT180M
ACTION:DISPLAY
DESCRIPTION:Reminder
END:VALARM
END:VEVENT
BEGIN:VEVENT
DTSTART:2011-05-27T01:00:00Z
DTEND:2011-05-27T03:30:00Z
LOCATION:HV1: Hidden Valley, Field 1
CATEGORIES:Softball,Overlake Christian,BB/SAA
UID:39BCD288042844A8B36D037397A364:
DTSTAMP:2026-04-23T11:35:53Z:
SUMMARY:RBI at Overlake Christian
DESCRIPTION;ENCODING=QUOTED-PRINTABLE:RBI at Overlake Christian=0D=0A Time: 6:00 PM=0D=0A Location: Hidden Valley, Field 1
CLASS:PUBLIC
PRIORITY:5
BEGIN:VALARM
TRIGGER:-PT180M
ACTION:DISPLAY
DESCRIPTION:Reminder
END:VALARM
END:VEVENT
BEGIN:VEVENT
DTSTART:2011-06-03T03:30:00Z
DTEND:2011-06-03T06:00:00Z
LOCATION:HV1: Hidden Valley, Field 1
CATEGORIES:Softball,Overlake Christian,BB/SAA
UID:A6A7726243F8C438D45E5962052EA:
DTSTAMP:2026-04-23T11:35:53Z:
SUMMARY:Overlake Christian at Carpet To Go
DESCRIPTION;ENCODING=QUOTED-PRINTABLE:Overlake Christian at Carpet To Go=0D=0A Time: 8:30 PM=0D=0A Location: Hidden Valley, Field 1
CLASS:PUBLIC
PRIORITY:5
BEGIN:VALARM
TRIGGER:-PT330M
ACTION:DISPLAY
DESCRIPTION:Reminder
END:VALARM
END:VEVENT
BEGIN:VEVENT
DTSTART:2011-06-09T03:30:00Z
DTEND:2011-06-09T06:00:00Z
LOCATION:HV1: Hidden Valley, Field 1
CATEGORIES:Softball,Overlake Christian,BB/SAA
UID:1AA801B644C4B4DB830952F8994D37:
DTSTAMP:2026-04-23T11:35:53Z:
SUMMARY:Dukes at Overlake Christian
DESCRIPTION;ENCODING=QUOTED-PRINTABLE:Dukes at Overlake Christian=0D=0A Time: 8:30 PM=0D=0A Location: Hidden Valley, Field 1
CLASS:PUBLIC
PRIORITY:5
BEGIN:VALARM
TRIGGER:-PT330M
ACTION:DISPLAY
DESCRIPTION:Reminder
END:VALARM
END:VEVENT
BEGIN:VEVENT
DTSTART:2011-06-17T01:00:00Z
DTEND:2011-06-17T03:30:00Z
LOCATION:MM7: Marymoor, Field 7
CATEGORIES:Softball,Overlake Christian,BB/SAA
UID:F6B3CE2FD8E9D747868AE93D3A338E1:
DTSTAMP:2026-04-23T11:35:53Z:
SUMMARY:Dawgystyle - Men at Overlake Christian
DESCRIPTION;ENCODING=QUOTED-PRINTABLE:Dawgystyle - Men at Overlake Christian=0D=0A Time: 6:00 PM=0D=0A Location: Marymoor, Field 7
CLASS:PUBLIC
PRIORITY:5
BEGIN:VALARM
TRIGGER:-PT180M
ACTION:DISPLAY
DESCRIPTION:Reminder
END:VALARM
END:VEVENT
END:VCALENDAR
