BEGIN:VCALENDAR
PRODID:-//Microsoft Corporation//Outlook 11.0 MIMEDIR//EN
VERSION:2.0
METHOD:PUBLISH
BEGIN:VEVENT
DTSTART:2011-04-15T03:30:00Z
DTEND:2011-04-15T06:00:00Z
LOCATION:HV1: Hidden Valley, Field 1
CATEGORIES:Softball,I'd Hit It,BB/SAA
UID:3BA2E6255CFFB441A5142E9C687DD8B3:
DTSTAMP:2026-04-23T11:36:09Z:
SUMMARY:I'd Hit It at RBI
DESCRIPTION;ENCODING=QUOTED-PRINTABLE:I'd Hit It at RBI=0D=0A Time: 8:30 PM=0D=0A Location: Hidden Valley, Field 1
CLASS:PUBLIC
PRIORITY:5
BEGIN:VALARM
TRIGGER:-PT330M
ACTION:DISPLAY
DESCRIPTION:Reminder
END:VALARM
END:VEVENT
BEGIN:VEVENT
DTSTART:2011-04-21T03:30:00Z
DTEND:2011-04-21T06:00:00Z
LOCATION:MM7: Marymoor, Field 7
CATEGORIES:Softball,I'd Hit It,BB/SAA
UID:BE25C9B3D62DF9488541B646B56F8E5:
DTSTAMP:2026-04-23T11:36:09Z:
SUMMARY:I'd Hit It at Dukes
DESCRIPTION;ENCODING=QUOTED-PRINTABLE:I'd Hit It at Dukes=0D=0A Time: 8:30 PM=0D=0A Location: Marymoor, Field 7
CLASS:PUBLIC
PRIORITY:5
BEGIN:VALARM
TRIGGER:-PT330M
ACTION:DISPLAY
DESCRIPTION:Reminder
END:VALARM
END:VEVENT
BEGIN:VEVENT
DTSTART:2011-04-29T01:00:00Z
DTEND:2011-04-29T03:30:00Z
LOCATION:HV1: Hidden Valley, Field 1
CATEGORIES:Softball,I'd Hit It,BB/SAA
UID:E1D030F61437894E9E6C5060B1828487:
DTSTAMP:2026-04-23T11:36:09Z:
SUMMARY:Dawgystyle - Men at I'd Hit It
DESCRIPTION;ENCODING=QUOTED-PRINTABLE:Dawgystyle - Men at I'd Hit It=0D=0A Time: 6:00 PM=0D=0A Location: Hidden Valley, Field 1
CLASS:PUBLIC
PRIORITY:5
BEGIN:VALARM
TRIGGER:-PT180M
ACTION:DISPLAY
DESCRIPTION:Reminder
END:VALARM
END:VEVENT
BEGIN:VEVENT
DTSTART:2011-05-06T03:30:00Z
DTEND:2011-05-06T06:00:00Z
LOCATION:HV1: Hidden Valley, Field 1
CATEGORIES:Softball,I'd Hit It,BB/SAA
UID:403D3C28C3FAC64199B6CC35E183BDFB:
DTSTAMP:2026-04-23T11:36:09Z:
SUMMARY:Carpet To Go at I'd Hit It
DESCRIPTION;ENCODING=QUOTED-PRINTABLE:Carpet To Go at I'd Hit It=0D=0A Time: 8:30 PM=0D=0A Location: Hidden Valley, Field 1
CLASS:PUBLIC
PRIORITY:5
BEGIN:VALARM
TRIGGER:-PT330M
ACTION:DISPLAY
DESCRIPTION:Reminder
END:VALARM
END:VEVENT
BEGIN:VEVENT
DTSTART:2011-05-13T03:00:00Z
DTEND:2011-05-13T05:30:00Z
LOCATION:MM8: Marymoor, Field 8
CATEGORIES:Softball,I'd Hit It,BB/SAA
UID:B0276B2484823547A38123E794118E9:
DTSTAMP:2026-04-23T11:36:09Z:
SUMMARY:I'd Hit It at Overlake Christian
DESCRIPTION;ENCODING=QUOTED-PRINTABLE:I'd Hit It at Overlake Christian=0D=0A Time: 8:00 PM=0D=0A Location: Marymoor, Field 8
CLASS:PUBLIC
PRIORITY:5
BEGIN:VALARM
TRIGGER:-PT300M
ACTION:DISPLAY
DESCRIPTION:Reminder
END:VALARM
END:VEVENT
BEGIN:VEVENT
DTSTART:2011-05-20T03:30:00Z
DTEND:2011-05-20T06:00:00Z
LOCATION:MM7: Marymoor, Field 7
CATEGORIES:Softball,I'd Hit It,BB/SAA
UID:2D3F64FBE11C414D9610A610EA5B16F9:
DTSTAMP:2026-04-23T11:36:09Z:
SUMMARY:I'd Hit It at RBI
DESCRIPTION;ENCODING=QUOTED-PRINTABLE:I'd Hit It at RBI=0D=0A Time: 8:30 PM=0D=0A Location: Marymoor, Field 7
CLASS:PUBLIC
PRIORITY:5
BEGIN:VALARM
TRIGGER:-PT330M
ACTION:DISPLAY
DESCRIPTION:Reminder
END:VALARM
END:VEVENT
BEGIN:VEVENT
DTSTART:2011-05-26T01:00:00Z
DTEND:2011-05-26T03:30:00Z
LOCATION:MM6: Marymoor, Field 6
CATEGORIES:Softball,I'd Hit It,BB/SAA
UID:BEAC27B45CAB24D8BDFE4E470BA2E:
DTSTAMP:2026-04-23T11:36:09Z:
SUMMARY:I'd Hit It at Dukes
DESCRIPTION;ENCODING=QUOTED-PRINTABLE:I'd Hit It at Dukes=0D=0A Time: 6:00 PM=0D=0A Location: Marymoor, Field 6
CLASS:PUBLIC
PRIORITY:5
BEGIN:VALARM
TRIGGER:-PT180M
ACTION:DISPLAY
DESCRIPTION:Reminder
END:VALARM
END:VEVENT
BEGIN:VEVENT
DTSTART:2011-06-03T01:00:00Z
DTEND:2011-06-03T03:30:00Z
LOCATION:HV1: Hidden Valley, Field 1
CATEGORIES:Softball,I'd Hit It,BB/SAA
UID:DA1E119C571A504184CA5A276535E58:
DTSTAMP:2026-04-23T11:36:09Z:
SUMMARY:Dawgystyle - Men at I'd Hit It
DESCRIPTION;ENCODING=QUOTED-PRINTABLE:Dawgystyle - Men at I'd Hit It=0D=0A Time: 6:00 PM=0D=0A Location: Hidden Valley, Field 1
CLASS:PUBLIC
PRIORITY:5
BEGIN:VALARM
TRIGGER:-PT180M
ACTION:DISPLAY
DESCRIPTION:Reminder
END:VALARM
END:VEVENT
BEGIN:VEVENT
DTSTART:2011-06-10T03:30:00Z
DTEND:2011-06-10T06:00:00Z
LOCATION:HV1: Hidden Valley, Field 1
CATEGORIES:Softball,I'd Hit It,BB/SAA
UID:68B422816477DD4A99DC5FADC949269:
DTSTAMP:2026-04-23T11:36:09Z:
SUMMARY:Carpet To Go at I'd Hit It
DESCRIPTION;ENCODING=QUOTED-PRINTABLE:Carpet To Go at I'd Hit It=0D=0A Time: 8:30 PM=0D=0A Location: Hidden Valley, Field 1
CLASS:PUBLIC
PRIORITY:5
BEGIN:VALARM
TRIGGER:-PT330M
ACTION:DISPLAY
DESCRIPTION:Reminder
END:VALARM
END:VEVENT
BEGIN:VEVENT
DTSTART:2011-06-17T03:30:00Z
DTEND:2011-06-17T06:00:00Z
LOCATION:HV1: Hidden Valley, Field 1
CATEGORIES:Softball,I'd Hit It,BB/SAA
UID:E30EF6B8B5C5D4F9F4B1ACB632E34B6:
DTSTAMP:2026-04-23T11:36:09Z:
SUMMARY:I'd Hit It at RBI
DESCRIPTION;ENCODING=QUOTED-PRINTABLE:I'd Hit It at RBI=0D=0A Time: 8:30 PM=0D=0A Location: Hidden Valley, Field 1
CLASS:PUBLIC
PRIORITY:5
BEGIN:VALARM
TRIGGER:-PT330M
ACTION:DISPLAY
DESCRIPTION:Reminder
END:VALARM
END:VEVENT
BEGIN:VEVENT
DTSTART:2011-06-18T06:30:00Z
DTEND:2011-06-18T09:00:00Z
LOCATION:HV1: Hidden Valley, Field 1
CATEGORIES:Softball,I'd Hit It,BB/SAA
UID:CA8899CA3AE8B740BBAF891646D722EB:
DTSTAMP:2026-04-23T11:36:09Z:
SUMMARY:I'd Hit It at Dukes
DESCRIPTION;ENCODING=QUOTED-PRINTABLE:I'd Hit It at Dukes=0D=0A Time: 11:30 AM=0D=0A Location: Hidden Valley, Field 1
CLASS:PUBLIC
PRIORITY:5
BEGIN:VALARM
TRIGGER:-PT1230M
ACTION:DISPLAY
DESCRIPTION:Reminder
END:VALARM
END:VEVENT
END:VCALENDAR
