BEGIN:VCALENDAR
PRODID:-//Microsoft Corporation//Outlook 11.0 MIMEDIR//EN
VERSION:2.0
METHOD:PUBLISH
BEGIN:VEVENT
DTSTART:2011-04-14T03:30:00Z
DTEND:2011-04-14T06:00:00Z
LOCATION:HV1: Hidden Valley, Field 1
CATEGORIES:Softball,Dukes,BB/SAA
UID:574455AB29CDCB43BE4AC895BDFCC33:
DTSTAMP:2026-04-23T11:35:30Z:
SUMMARY:Dukes at Carpet To Go
DESCRIPTION;ENCODING=QUOTED-PRINTABLE:Dukes at Carpet To Go=0D=0A Time: 8:30 PM=0D=0A Location: Hidden Valley, Field 1
CLASS:PUBLIC
PRIORITY:5
BEGIN:VALARM
TRIGGER:-PT330M
ACTION:DISPLAY
DESCRIPTION:Reminder
END:VALARM
END:VEVENT
BEGIN:VEVENT
DTSTART:2011-04-21T03:30:00Z
DTEND:2011-04-21T06:00:00Z
LOCATION:MM7: Marymoor, Field 7
CATEGORIES:Softball,Dukes,BB/SAA
UID:DAC3FE41A833D34DBA37975D1E763326:
DTSTAMP:2026-04-23T11:35:30Z:
SUMMARY:I'd Hit It at Dukes
DESCRIPTION;ENCODING=QUOTED-PRINTABLE:I'd Hit It at Dukes=0D=0A Time: 8:30 PM=0D=0A Location: Marymoor, Field 7
CLASS:PUBLIC
PRIORITY:5
BEGIN:VALARM
TRIGGER:-PT330M
ACTION:DISPLAY
DESCRIPTION:Reminder
END:VALARM
END:VEVENT
BEGIN:VEVENT
DTSTART:2011-04-28T01:00:00Z
DTEND:2011-04-28T03:30:00Z
LOCATION:MM6: Marymoor, Field 6
CATEGORIES:Softball,Dukes,BB/SAA
UID:99A0957A43DF1647B576A3181A2B1A50:
DTSTAMP:2026-04-23T11:35:30Z:
SUMMARY:RBI at Dukes
DESCRIPTION;ENCODING=QUOTED-PRINTABLE:RBI at Dukes=0D=0A Time: 6:00 PM=0D=0A Location: Marymoor, Field 6
CLASS:PUBLIC
PRIORITY:5
BEGIN:VALARM
TRIGGER:-PT180M
ACTION:DISPLAY
DESCRIPTION:Reminder
END:VALARM
END:VEVENT
BEGIN:VEVENT
DTSTART:2011-05-05T03:30:00Z
DTEND:2011-05-05T06:00:00Z
LOCATION:MM6: Marymoor, Field 6
CATEGORIES:Softball,Dukes,BB/SAA
UID:5061ABCFB8D27A43A88F12DB2B59281:
DTSTAMP:2026-04-23T11:35:30Z:
SUMMARY:Overlake Christian at Dukes
DESCRIPTION;ENCODING=QUOTED-PRINTABLE:Overlake Christian at Dukes=0D=0A Time: 8:30 PM=0D=0A Location: Marymoor, Field 6
CLASS:PUBLIC
PRIORITY:5
BEGIN:VALARM
TRIGGER:-PT330M
ACTION:DISPLAY
DESCRIPTION:Reminder
END:VALARM
END:VEVENT
BEGIN:VEVENT
DTSTART:2011-05-12T01:00:00Z
DTEND:2011-05-12T03:30:00Z
LOCATION:HV1: Hidden Valley, Field 1
CATEGORIES:Softball,Dukes,BB/SAA
UID:BC5D2C67306A1842A5264572743131A3:
DTSTAMP:2026-04-23T11:35:30Z:
SUMMARY:Dukes at Dawgystyle - Men
DESCRIPTION;ENCODING=QUOTED-PRINTABLE:Dukes at Dawgystyle - Men=0D=0A Time: 6:00 PM=0D=0A Location: Hidden Valley, Field 1
CLASS:PUBLIC
PRIORITY:5
BEGIN:VALARM
TRIGGER:-PT180M
ACTION:DISPLAY
DESCRIPTION:Reminder
END:VALARM
END:VEVENT
BEGIN:VEVENT
DTSTART:2011-05-19T03:30:00Z
DTEND:2011-05-19T06:00:00Z
LOCATION:HV1: Hidden Valley, Field 1
CATEGORIES:Softball,Dukes,BB/SAA
UID:F05997F63EE9F04FACB5E42178C329BD:
DTSTAMP:2026-04-23T11:35:30Z:
SUMMARY:Dukes at Carpet To Go
DESCRIPTION;ENCODING=QUOTED-PRINTABLE:Dukes at Carpet To Go=0D=0A Time: 8:30 PM=0D=0A Location: Hidden Valley, Field 1
CLASS:PUBLIC
PRIORITY:5
BEGIN:VALARM
TRIGGER:-PT330M
ACTION:DISPLAY
DESCRIPTION:Reminder
END:VALARM
END:VEVENT
BEGIN:VEVENT
DTSTART:2011-05-26T01:00:00Z
DTEND:2011-05-26T03:30:00Z
LOCATION:MM6: Marymoor, Field 6
CATEGORIES:Softball,Dukes,BB/SAA
UID:E68143F6D855544BA393E9C5716B5932:
DTSTAMP:2026-04-23T11:35:30Z:
SUMMARY:I'd Hit It at Dukes
DESCRIPTION;ENCODING=QUOTED-PRINTABLE:I'd Hit It at Dukes=0D=0A Time: 6:00 PM=0D=0A Location: Marymoor, Field 6
CLASS:PUBLIC
PRIORITY:5
BEGIN:VALARM
TRIGGER:-PT180M
ACTION:DISPLAY
DESCRIPTION:Reminder
END:VALARM
END:VEVENT
BEGIN:VEVENT
DTSTART:2011-06-02T03:30:00Z
DTEND:2011-06-02T06:00:00Z
LOCATION:MM6: Marymoor, Field 6
CATEGORIES:Softball,Dukes,BB/SAA
UID:B41BC48D4151D648A4B578A39F1EB1E:
DTSTAMP:2026-04-23T11:35:30Z:
SUMMARY:RBI at Dukes
DESCRIPTION;ENCODING=QUOTED-PRINTABLE:RBI at Dukes=0D=0A Time: 8:30 PM=0D=0A Location: Marymoor, Field 6
CLASS:PUBLIC
PRIORITY:5
BEGIN:VALARM
TRIGGER:-PT330M
ACTION:DISPLAY
DESCRIPTION:Reminder
END:VALARM
END:VEVENT
BEGIN:VEVENT
DTSTART:2011-06-09T03:30:00Z
DTEND:2011-06-09T06:00:00Z
LOCATION:HV1: Hidden Valley, Field 1
CATEGORIES:Softball,Dukes,BB/SAA
UID:8E986B30B0ED314B9A6EA9350908870:
DTSTAMP:2026-04-23T11:35:30Z:
SUMMARY:Dukes at Overlake Christian
DESCRIPTION;ENCODING=QUOTED-PRINTABLE:Dukes at Overlake Christian=0D=0A Time: 8:30 PM=0D=0A Location: Hidden Valley, Field 1
CLASS:PUBLIC
PRIORITY:5
BEGIN:VALARM
TRIGGER:-PT330M
ACTION:DISPLAY
DESCRIPTION:Reminder
END:VALARM
END:VEVENT
BEGIN:VEVENT
DTSTART:2011-06-15T01:00:00Z
DTEND:2011-06-15T03:30:00Z
LOCATION:MM7: Marymoor, Field 7
CATEGORIES:Softball,Dukes,BB/SAA
UID:3F63E04921A98D40A3117119569EAC5:
DTSTAMP:2026-04-23T11:35:30Z:
SUMMARY:RBI at Dukes
DESCRIPTION;ENCODING=QUOTED-PRINTABLE:RBI at Dukes=0D=0A Time: 6:00 PM=0D=0A Location: Marymoor, Field 7
CLASS:PUBLIC
PRIORITY:5
BEGIN:VALARM
TRIGGER:-PT180M
ACTION:DISPLAY
DESCRIPTION:Reminder
END:VALARM
END:VEVENT
BEGIN:VEVENT
DTSTART:2011-06-18T06:30:00Z
DTEND:2011-06-18T09:00:00Z
LOCATION:HV1: Hidden Valley, Field 1
CATEGORIES:Softball,Dukes,BB/SAA
UID:2B3D1F6E6975459ACC4C5AD14E8196:
DTSTAMP:2026-04-23T11:35:30Z:
SUMMARY:I'd Hit It at Dukes
DESCRIPTION;ENCODING=QUOTED-PRINTABLE:I'd Hit It at Dukes=0D=0A Time: 11:30 AM=0D=0A Location: Hidden Valley, Field 1
CLASS:PUBLIC
PRIORITY:5
BEGIN:VALARM
TRIGGER:-PT1230M
ACTION:DISPLAY
DESCRIPTION:Reminder
END:VALARM
END:VEVENT
BEGIN:VEVENT
DTSTART:2011-06-22T01:00:00Z
DTEND:2011-06-22T03:30:00Z
LOCATION:MM7: Marymoor, Field 7
CATEGORIES:Softball,Dukes,BB/SAA
UID:2CA3BD531699564DA8D4A29D5B4C96A:
DTSTAMP:2026-04-23T11:35:30Z:
SUMMARY:RBI at Dukes
DESCRIPTION;ENCODING=QUOTED-PRINTABLE:RBI at Dukes=0D=0A Time: 6:00 PM=0D=0A Location: Marymoor, Field 7
CLASS:PUBLIC
PRIORITY:5
BEGIN:VALARM
TRIGGER:-PT180M
ACTION:DISPLAY
DESCRIPTION:Reminder
END:VALARM
END:VEVENT
BEGIN:VEVENT
DTSTART:2011-06-24T01:00:00Z
DTEND:2011-06-24T03:30:00Z
LOCATION:MM7: Marymoor, Field 7
CATEGORIES:Softball,Dukes,BB/SAA
UID:EA5ADD8C2A3D04783622CC6573BA62:
DTSTAMP:2026-04-23T11:35:30Z:
SUMMARY:Dukes at Dawgystyle - Men
DESCRIPTION;ENCODING=QUOTED-PRINTABLE:Dukes at Dawgystyle - Men=0D=0A Time: 6:00 PM=0D=0A Location: Marymoor, Field 7
CLASS:PUBLIC
PRIORITY:5
BEGIN:VALARM
TRIGGER:-PT180M
ACTION:DISPLAY
DESCRIPTION:Reminder
END:VALARM
END:VEVENT
END:VCALENDAR
