BEGIN:VCALENDAR
PRODID:-//Microsoft Corporation//Outlook 11.0 MIMEDIR//EN
VERSION:2.0
METHOD:PUBLISH
BEGIN:VEVENT
DTSTART:2011-04-12T03:30:00Z
DTEND:2011-04-12T06:00:00Z
LOCATION:HV1: Hidden Valley, Field 1
CATEGORIES:Softball,RIM Ninja Llamas,BB/SAA
UID:B9D559AB88571E438F1DD298926C26CC:
DTSTAMP:2026-04-25T01:52:04Z:
SUMMARY:RIM Ninja Llamas at Fielder's Choice
DESCRIPTION;ENCODING=QUOTED-PRINTABLE:RIM Ninja Llamas at Fielder's Choice=0D=0A Time: 8:30 PM=0D=0A Location: Hidden Valley, Field 1
CLASS:PUBLIC
PRIORITY:5
BEGIN:VALARM
TRIGGER:-PT330M
ACTION:DISPLAY
DESCRIPTION:Reminder
END:VALARM
END:VEVENT
BEGIN:VEVENT
DTSTART:2011-04-19T03:30:00Z
DTEND:2011-04-19T06:00:00Z
LOCATION:MM7: Marymoor, Field 7
CATEGORIES:Softball,RIM Ninja Llamas,BB/SAA
UID:7D73A866E4C534387454975392AEB97:
DTSTAMP:2026-04-25T01:52:04Z:
SUMMARY:RIM Ninja Llamas at Super Sluggers
DESCRIPTION;ENCODING=QUOTED-PRINTABLE:RIM Ninja Llamas at Super Sluggers=0D=0A Time: 8:30 PM=0D=0A Location: Marymoor, Field 7
CLASS:PUBLIC
PRIORITY:5
BEGIN:VALARM
TRIGGER:-PT330M
ACTION:DISPLAY
DESCRIPTION:Reminder
END:VALARM
END:VEVENT
BEGIN:VEVENT
DTSTART:2011-04-26T01:00:00Z
DTEND:2011-04-26T03:30:00Z
LOCATION:HV1: Hidden Valley, Field 1
CATEGORIES:Softball,RIM Ninja Llamas,BB/SAA
UID:7C50CA20FF24804491C3D78430FE9EF5:
DTSTAMP:2026-04-25T01:52:04Z:
SUMMARY:Babes & Babe Magnets at RIM Ninja Llamas
DESCRIPTION;ENCODING=QUOTED-PRINTABLE:Babes & Babe Magnets at RIM Ninja Llamas=0D=0A Time: 6:00 PM=0D=0A Location: Hidden Valley, Field 1
CLASS:PUBLIC
PRIORITY:5
BEGIN:VALARM
TRIGGER:-PT180M
ACTION:DISPLAY
DESCRIPTION:Reminder
END:VALARM
END:VEVENT
BEGIN:VEVENT
DTSTART:2011-05-03T03:30:00Z
DTEND:2011-05-03T06:00:00Z
LOCATION:MM7: Marymoor, Field 7
CATEGORIES:Softball,RIM Ninja Llamas,BB/SAA
UID:29DF4AE7402B904FBBF04CED900AAAF:
DTSTAMP:2026-04-25T01:52:04Z:
SUMMARY:RIM Ninja Llamas at Combine, The
DESCRIPTION;ENCODING=QUOTED-PRINTABLE:RIM Ninja Llamas at Combine, The=0D=0A Time: 8:30 PM=0D=0A Location: Marymoor, Field 7
CLASS:PUBLIC
PRIORITY:5
BEGIN:VALARM
TRIGGER:-PT330M
ACTION:DISPLAY
DESCRIPTION:Reminder
END:VALARM
END:VEVENT
BEGIN:VEVENT
DTSTART:2011-05-10T03:30:00Z
DTEND:2011-05-10T06:00:00Z
LOCATION:HV1: Hidden Valley, Field 1
CATEGORIES:Softball,RIM Ninja Llamas,BB/SAA
UID:D484ABE5C81B41BEB9942D5321477:
DTSTAMP:2026-04-25T01:52:04Z:
SUMMARY:Dreadsox at RIM Ninja Llamas
DESCRIPTION;ENCODING=QUOTED-PRINTABLE:Dreadsox at RIM Ninja Llamas=0D=0A Time: 8:30 PM=0D=0A Location: Hidden Valley, Field 1
CLASS:PUBLIC
PRIORITY:5
BEGIN:VALARM
TRIGGER:-PT330M
ACTION:DISPLAY
DESCRIPTION:Reminder
END:VALARM
END:VEVENT
BEGIN:VEVENT
DTSTART:2011-05-17T01:00:00Z
DTEND:2011-05-17T03:30:00Z
LOCATION:HV1: Hidden Valley, Field 1
CATEGORIES:Softball,RIM Ninja Llamas,BB/SAA
UID:26C73370C8ABA44B9C48459AEE994F0:
DTSTAMP:2026-04-25T01:52:04Z:
SUMMARY:RIM Ninja Llamas at Flexi Warriors
DESCRIPTION;ENCODING=QUOTED-PRINTABLE:RIM Ninja Llamas at Flexi Warriors=0D=0A Time: 6:00 PM=0D=0A Location: Hidden Valley, Field 1
CLASS:PUBLIC
PRIORITY:5
BEGIN:VALARM
TRIGGER:-PT180M
ACTION:DISPLAY
DESCRIPTION:Reminder
END:VALARM
END:VEVENT
BEGIN:VEVENT
DTSTART:2011-05-19T01:00:00Z
DTEND:2011-05-19T03:30:00Z
LOCATION:MM6: Marymoor, Field 6
CATEGORIES:Softball,RIM Ninja Llamas,BB/SAA
UID:A82FA3C9D617D04C83C937B4AA616F3:
DTSTAMP:2026-04-25T01:52:04Z:
SUMMARY:RIM Ninja Llamas at Super Sluggers
DESCRIPTION;ENCODING=QUOTED-PRINTABLE:RIM Ninja Llamas at Super Sluggers=0D=0A Time: 6:00 PM=0D=0A Location: Marymoor, Field 6
CLASS:PUBLIC
PRIORITY:5
BEGIN:VALARM
TRIGGER:-PT180M
ACTION:DISPLAY
DESCRIPTION:Reminder
END:VALARM
END:VEVENT
BEGIN:VEVENT
DTSTART:2011-05-24T03:30:00Z
DTEND:2011-05-24T06:00:00Z
LOCATION:HV1: Hidden Valley, Field 1
CATEGORIES:Softball,RIM Ninja Llamas,BB/SAA
UID:F56E577628C364FB6603CACC1FAFCA7:
DTSTAMP:2026-04-25T01:52:04Z:
SUMMARY:Combine, The at RIM Ninja Llamas
DESCRIPTION;ENCODING=QUOTED-PRINTABLE:Combine, The at RIM Ninja Llamas=0D=0A Time: 8:30 PM=0D=0A Location: Hidden Valley, Field 1
CLASS:PUBLIC
PRIORITY:5
BEGIN:VALARM
TRIGGER:-PT330M
ACTION:DISPLAY
DESCRIPTION:Reminder
END:VALARM
END:VEVENT
BEGIN:VEVENT
DTSTART:2011-06-03T01:00:00Z
DTEND:2011-06-03T03:30:00Z
LOCATION:SAM1: Sammamish High School, Field 1
CATEGORIES:Softball,RIM Ninja Llamas,BB/SAA
UID:F2444A72106AAC43A3E0D85CE6B818DC:
DTSTAMP:2026-04-25T01:52:04Z:
SUMMARY:Babes & Babe Magnets at RIM Ninja Llamas
DESCRIPTION;ENCODING=QUOTED-PRINTABLE:Babes & Babe Magnets at RIM Ninja Llamas=0D=0A Time: 6:00 PM=0D=0A Location: Sammamish High School, Field 1
CLASS:PUBLIC
PRIORITY:5
BEGIN:VALARM
TRIGGER:-PT180M
ACTION:DISPLAY
DESCRIPTION:Reminder
END:VALARM
END:VEVENT
BEGIN:VEVENT
DTSTART:2011-06-07T03:30:00Z
DTEND:2011-06-07T06:00:00Z
LOCATION:HV1: Hidden Valley, Field 1
CATEGORIES:Softball,RIM Ninja Llamas,BB/SAA
UID:4FC6E9790F138498A3BE365D3649:
DTSTAMP:2026-04-25T01:52:04Z:
SUMMARY:RIM Ninja Llamas at Dreadsox
DESCRIPTION;ENCODING=QUOTED-PRINTABLE:RIM Ninja Llamas at Dreadsox=0D=0A Time: 8:30 PM=0D=0A Location: Hidden Valley, Field 1
CLASS:PUBLIC
PRIORITY:5
BEGIN:VALARM
TRIGGER:-PT330M
ACTION:DISPLAY
DESCRIPTION:Reminder
END:VALARM
END:VEVENT
BEGIN:VEVENT
DTSTART:2011-06-14T01:00:00Z
DTEND:2011-06-14T03:30:00Z
LOCATION:MM6: Marymoor, Field 6
CATEGORIES:Softball,RIM Ninja Llamas,BB/SAA
UID:C8DB84CE4BB61C43AA42FADB11A2EDD:
DTSTAMP:2026-04-25T01:52:04Z:
SUMMARY:RIM Ninja Llamas at Flexi Warriors
DESCRIPTION;ENCODING=QUOTED-PRINTABLE:RIM Ninja Llamas at Flexi Warriors=0D=0A Time: 6:00 PM=0D=0A Location: Marymoor, Field 6
CLASS:PUBLIC
PRIORITY:5
BEGIN:VALARM
TRIGGER:-PT180M
ACTION:DISPLAY
DESCRIPTION:Reminder
END:VALARM
END:VEVENT
BEGIN:VEVENT
DTSTART:2011-06-16T01:00:00Z
DTEND:2011-06-16T03:30:00Z
LOCATION:SAM1: Sammamish High School, Field 1
CATEGORIES:Softball,RIM Ninja Llamas,BB/SAA
UID:12F91A75AB8A546B2CDCABC495A27:
DTSTAMP:2026-04-25T01:52:04Z:
SUMMARY:RIM Ninja Llamas at Combine, The
DESCRIPTION;ENCODING=QUOTED-PRINTABLE:RIM Ninja Llamas at Combine, The=0D=0A Time: 6:00 PM=0D=0A Location: Sammamish High School, Field 1
CLASS:PUBLIC
PRIORITY:5
BEGIN:VALARM
TRIGGER:-PT180M
ACTION:DISPLAY
DESCRIPTION:Reminder
END:VALARM
END:VEVENT
BEGIN:VEVENT
DTSTART:2011-06-25T01:00:00Z
DTEND:2011-06-25T03:30:00Z
LOCATION:MM7: Marymoor, Field 7
CATEGORIES:Softball,RIM Ninja Llamas,BB/SAA
UID:E5E8D6CF9AEAFC4E8B4B4B3A691E8111:
DTSTAMP:2026-04-25T01:52:04Z:
SUMMARY:RIM Ninja Llamas at Flexi Warriors
DESCRIPTION;ENCODING=QUOTED-PRINTABLE:RIM Ninja Llamas at Flexi Warriors=0D=0A Time: 6:00 PM=0D=0A Location: Marymoor, Field 7
CLASS:PUBLIC
PRIORITY:5
BEGIN:VALARM
TRIGGER:-PT180M
ACTION:DISPLAY
DESCRIPTION:Reminder
END:VALARM
END:VEVENT
END:VCALENDAR
