BEGIN:VCALENDAR
PRODID:-//Microsoft Corporation//Outlook 11.0 MIMEDIR//EN
VERSION:2.0
METHOD:PUBLISH
BEGIN:VEVENT
DTSTART:2011-04-12T03:30:00Z
DTEND:2011-04-12T06:00:00Z
LOCATION:MM6: Marymoor, Field 6
CATEGORIES:Softball,Flexi Warriors,BB/SAA
UID:4737301FF31B604A804BE5889B4C8A28:
DTSTAMP:2026-04-25T01:52:36Z:
SUMMARY:Kleinfelder Pirates at Flexi Warriors
DESCRIPTION;ENCODING=QUOTED-PRINTABLE:Kleinfelder Pirates at Flexi Warriors=0D=0A Time: 8:30 PM=0D=0A Location: Marymoor, Field 6
CLASS:PUBLIC
PRIORITY:5
BEGIN:VALARM
TRIGGER:-PT330M
ACTION:DISPLAY
DESCRIPTION:Reminder
END:VALARM
END:VEVENT
BEGIN:VEVENT
DTSTART:2011-04-19T01:00:00Z
DTEND:2011-04-19T03:30:00Z
LOCATION:MM6: Marymoor, Field 6
CATEGORIES:Softball,Flexi Warriors,BB/SAA
UID:83E86BDCD4E5F7408F74D96BBA5F4330:
DTSTAMP:2026-04-25T01:52:36Z:
SUMMARY:Combine, The at Flexi Warriors
DESCRIPTION;ENCODING=QUOTED-PRINTABLE:Combine, The at Flexi Warriors=0D=0A Time: 6:00 PM=0D=0A Location: Marymoor, Field 6
CLASS:PUBLIC
PRIORITY:5
BEGIN:VALARM
TRIGGER:-PT180M
ACTION:DISPLAY
DESCRIPTION:Reminder
END:VALARM
END:VEVENT
BEGIN:VEVENT
DTSTART:2011-04-26T01:00:00Z
DTEND:2011-04-26T03:30:00Z
LOCATION:MM7: Marymoor, Field 7
CATEGORIES:Softball,Flexi Warriors,BB/SAA
UID:DF14AE4EBC5CB4AA5537F359FB19510:
DTSTAMP:2026-04-25T01:52:36Z:
SUMMARY:Flexi Warriors at Dreadsox
DESCRIPTION;ENCODING=QUOTED-PRINTABLE:Flexi Warriors at Dreadsox=0D=0A Time: 6:00 PM=0D=0A Location: Marymoor, Field 7
CLASS:PUBLIC
PRIORITY:5
BEGIN:VALARM
TRIGGER:-PT180M
ACTION:DISPLAY
DESCRIPTION:Reminder
END:VALARM
END:VEVENT
BEGIN:VEVENT
DTSTART:2011-05-03T01:00:00Z
DTEND:2011-05-03T03:30:00Z
LOCATION:HV1: Hidden Valley, Field 1
CATEGORIES:Softball,Flexi Warriors,BB/SAA
UID:ED987833317C9D4E876F1961F64C750:
DTSTAMP:2026-04-25T01:52:36Z:
SUMMARY:Super Sluggers at Flexi Warriors
DESCRIPTION;ENCODING=QUOTED-PRINTABLE:Super Sluggers at Flexi Warriors=0D=0A Time: 6:00 PM=0D=0A Location: Hidden Valley, Field 1
CLASS:PUBLIC
PRIORITY:5
BEGIN:VALARM
TRIGGER:-PT180M
ACTION:DISPLAY
DESCRIPTION:Reminder
END:VALARM
END:VEVENT
BEGIN:VEVENT
DTSTART:2011-05-10T01:00:00Z
DTEND:2011-05-10T03:30:00Z
LOCATION:HV1: Hidden Valley, Field 1
CATEGORIES:Softball,Flexi Warriors,BB/SAA
UID:BE943198D4174F409738A8731BC888D:
DTSTAMP:2026-04-25T01:52:36Z:
SUMMARY:Fielder's Choice at Flexi Warriors
DESCRIPTION;ENCODING=QUOTED-PRINTABLE:Fielder's Choice at Flexi Warriors=0D=0A Time: 6:00 PM=0D=0A Location: Hidden Valley, Field 1
CLASS:PUBLIC
PRIORITY:5
BEGIN:VALARM
TRIGGER:-PT180M
ACTION:DISPLAY
DESCRIPTION:Reminder
END:VALARM
END:VEVENT
BEGIN:VEVENT
DTSTART:2011-05-17T01:00:00Z
DTEND:2011-05-17T03:30:00Z
LOCATION:HV1: Hidden Valley, Field 1
CATEGORIES:Softball,Flexi Warriors,BB/SAA
UID:AD8555BC85C2D42BC47BAB7AC375AF:
DTSTAMP:2026-04-25T01:52:36Z:
SUMMARY:RIM Ninja Llamas at Flexi Warriors
DESCRIPTION;ENCODING=QUOTED-PRINTABLE:RIM Ninja Llamas at Flexi Warriors=0D=0A Time: 6:00 PM=0D=0A Location: Hidden Valley, Field 1
CLASS:PUBLIC
PRIORITY:5
BEGIN:VALARM
TRIGGER:-PT180M
ACTION:DISPLAY
DESCRIPTION:Reminder
END:VALARM
END:VEVENT
BEGIN:VEVENT
DTSTART:2011-05-24T01:00:00Z
DTEND:2011-05-24T03:30:00Z
LOCATION:HV1: Hidden Valley, Field 1
CATEGORIES:Softball,Flexi Warriors,BB/SAA
UID:8F7B6C6E19ED1749BE398244A5823671:
DTSTAMP:2026-04-25T01:52:36Z:
SUMMARY:Flexi Warriors at Babes & Babe Magnets
DESCRIPTION;ENCODING=QUOTED-PRINTABLE:Flexi Warriors at Babes & Babe Magnets=0D=0A Time: 6:00 PM=0D=0A Location: Hidden Valley, Field 1
CLASS:PUBLIC
PRIORITY:5
BEGIN:VALARM
TRIGGER:-PT180M
ACTION:DISPLAY
DESCRIPTION:Reminder
END:VALARM
END:VEVENT
BEGIN:VEVENT
DTSTART:2011-06-07T01:00:00Z
DTEND:2011-06-07T03:30:00Z
LOCATION:MM7: Marymoor, Field 7
CATEGORIES:Softball,Flexi Warriors,BB/SAA
UID:D0E0B694EAB5DD4293FAE26B552559EA:
DTSTAMP:2026-04-25T01:52:36Z:
SUMMARY:Flexi Warriors at Combine, The
DESCRIPTION;ENCODING=QUOTED-PRINTABLE:Flexi Warriors at Combine, The=0D=0A Time: 6:00 PM=0D=0A Location: Marymoor, Field 7
CLASS:PUBLIC
PRIORITY:5
BEGIN:VALARM
TRIGGER:-PT180M
ACTION:DISPLAY
DESCRIPTION:Reminder
END:VALARM
END:VEVENT
BEGIN:VEVENT
DTSTART:2011-06-09T01:00:00Z
DTEND:2011-06-09T03:30:00Z
LOCATION:SAM1: Sammamish High School, Field 1
CATEGORIES:Softball,Flexi Warriors,BB/SAA
UID:F884E7C132348743B3D62C62A5383B75:
DTSTAMP:2026-04-25T01:52:36Z:
SUMMARY:Super Sluggers at Flexi Warriors
DESCRIPTION;ENCODING=QUOTED-PRINTABLE:Super Sluggers at Flexi Warriors=0D=0A Time: 6:00 PM=0D=0A Location: Sammamish High School, Field 1
CLASS:PUBLIC
PRIORITY:5
BEGIN:VALARM
TRIGGER:-PT180M
ACTION:DISPLAY
DESCRIPTION:Reminder
END:VALARM
END:VEVENT
BEGIN:VEVENT
DTSTART:2011-06-14T01:00:00Z
DTEND:2011-06-14T03:30:00Z
LOCATION:MM6: Marymoor, Field 6
CATEGORIES:Softball,Flexi Warriors,BB/SAA
UID:C4499D961E9A14EB72ADC268E94B3A1:
DTSTAMP:2026-04-25T01:52:36Z:
SUMMARY:RIM Ninja Llamas at Flexi Warriors
DESCRIPTION;ENCODING=QUOTED-PRINTABLE:RIM Ninja Llamas at Flexi Warriors=0D=0A Time: 6:00 PM=0D=0A Location: Marymoor, Field 6
CLASS:PUBLIC
PRIORITY:5
BEGIN:VALARM
TRIGGER:-PT180M
ACTION:DISPLAY
DESCRIPTION:Reminder
END:VALARM
END:VEVENT
BEGIN:VEVENT
DTSTART:2011-06-21T01:00:00Z
DTEND:2011-06-21T03:30:00Z
LOCATION:MM7: Marymoor, Field 7
CATEGORIES:Softball,Flexi Warriors,BB/SAA
UID:7C3EA90B2E8FD4C8BB2BC4ABE706F1E:
DTSTAMP:2026-04-25T01:52:36Z:
SUMMARY:Flexi Warriors at Dreadsox
DESCRIPTION;ENCODING=QUOTED-PRINTABLE:Flexi Warriors at Dreadsox=0D=0A Time: 6:00 PM=0D=0A Location: Marymoor, Field 7
CLASS:PUBLIC
PRIORITY:5
BEGIN:VALARM
TRIGGER:-PT180M
ACTION:DISPLAY
DESCRIPTION:Reminder
END:VALARM
END:VEVENT
BEGIN:VEVENT
DTSTART:2011-06-23T01:00:00Z
DTEND:2011-06-23T03:30:00Z
LOCATION:HV1: Hidden Valley, Field 1
CATEGORIES:Softball,Flexi Warriors,BB/SAA
UID:A81F195CBA74854AA8BC7866F1CFD1CD:
DTSTAMP:2026-04-25T01:52:36Z:
SUMMARY:Combine, The at Flexi Warriors
DESCRIPTION;ENCODING=QUOTED-PRINTABLE:Combine, The at Flexi Warriors=0D=0A Time: 6:00 PM=0D=0A Location: Hidden Valley, Field 1
CLASS:PUBLIC
PRIORITY:5
BEGIN:VALARM
TRIGGER:-PT180M
ACTION:DISPLAY
DESCRIPTION:Reminder
END:VALARM
END:VEVENT
BEGIN:VEVENT
DTSTART:2011-06-25T01:00:00Z
DTEND:2011-06-25T03:30:00Z
LOCATION:MM7: Marymoor, Field 7
CATEGORIES:Softball,Flexi Warriors,BB/SAA
UID:81B85E0C332DF4DB26C06EAB3B23C8:
DTSTAMP:2026-04-25T01:52:36Z:
SUMMARY:RIM Ninja Llamas at Flexi Warriors
DESCRIPTION;ENCODING=QUOTED-PRINTABLE:RIM Ninja Llamas at Flexi Warriors=0D=0A Time: 6:00 PM=0D=0A Location: Marymoor, Field 7
CLASS:PUBLIC
PRIORITY:5
BEGIN:VALARM
TRIGGER:-PT180M
ACTION:DISPLAY
DESCRIPTION:Reminder
END:VALARM
END:VEVENT
END:VCALENDAR
