BEGIN:VCALENDAR
PRODID:-//Microsoft Corporation//Outlook 11.0 MIMEDIR//EN
VERSION:2.0
METHOD:PUBLISH
BEGIN:VEVENT
DTSTART:2011-04-12T03:30:00Z
DTEND:2011-04-12T06:00:00Z
LOCATION:MM6: Marymoor, Field 6
CATEGORIES:Softball,Kleinfelder Pirates,BB/SAA
UID:BAB48273226CB4592B573E94B8ABBDF:
DTSTAMP:2026-04-25T01:52:10Z:
SUMMARY:Kleinfelder Pirates at Flexi Warriors
DESCRIPTION;ENCODING=QUOTED-PRINTABLE:Kleinfelder Pirates at Flexi Warriors=0D=0A Time: 8:30 PM=0D=0A Location: Marymoor, Field 6
CLASS:PUBLIC
PRIORITY:5
BEGIN:VALARM
TRIGGER:-PT330M
ACTION:DISPLAY
DESCRIPTION:Reminder
END:VALARM
END:VEVENT
BEGIN:VEVENT
DTSTART:2011-04-19T03:30:00Z
DTEND:2011-04-19T06:00:00Z
LOCATION:HV1: Hidden Valley, Field 1
CATEGORIES:Softball,Kleinfelder Pirates,BB/SAA
UID:6EAFD133D27254B93E2AA0F5749ED5:
DTSTAMP:2026-04-25T01:52:10Z:
SUMMARY:Dreadsox at Kleinfelder Pirates
DESCRIPTION;ENCODING=QUOTED-PRINTABLE:Dreadsox at Kleinfelder Pirates=0D=0A Time: 8:30 PM=0D=0A Location: Hidden Valley, Field 1
CLASS:PUBLIC
PRIORITY:5
BEGIN:VALARM
TRIGGER:-PT330M
ACTION:DISPLAY
DESCRIPTION:Reminder
END:VALARM
END:VEVENT
BEGIN:VEVENT
DTSTART:2011-04-26T01:00:00Z
DTEND:2011-04-26T03:30:00Z
LOCATION:MM6: Marymoor, Field 6
CATEGORIES:Softball,Kleinfelder Pirates,BB/SAA
UID:BF737889EFD2424A83BB64E7F0C48BB:
DTSTAMP:2026-04-25T01:52:10Z:
SUMMARY:Triple Play at Kleinfelder Pirates
DESCRIPTION;ENCODING=QUOTED-PRINTABLE:Triple Play at Kleinfelder Pirates=0D=0A Time: 6:00 PM=0D=0A Location: Marymoor, Field 6
CLASS:PUBLIC
PRIORITY:5
BEGIN:VALARM
TRIGGER:-PT180M
ACTION:DISPLAY
DESCRIPTION:Reminder
END:VALARM
END:VEVENT
BEGIN:VEVENT
DTSTART:2011-05-03T03:30:00Z
DTEND:2011-05-03T06:00:00Z
LOCATION:HV1: Hidden Valley, Field 1
CATEGORIES:Softball,Kleinfelder Pirates,BB/SAA
UID:3DFDF501A5CA64B827F66BD698633E:
DTSTAMP:2026-04-25T01:52:10Z:
SUMMARY:Kleinfelder Pirates at Brookshire Homes
DESCRIPTION;ENCODING=QUOTED-PRINTABLE:Kleinfelder Pirates at Brookshire Homes=0D=0A Time: 8:30 PM=0D=0A Location: Hidden Valley, Field 1
CLASS:PUBLIC
PRIORITY:5
BEGIN:VALARM
TRIGGER:-PT330M
ACTION:DISPLAY
DESCRIPTION:Reminder
END:VALARM
END:VEVENT
BEGIN:VEVENT
DTSTART:2011-05-10T01:00:00Z
DTEND:2011-05-10T03:30:00Z
LOCATION:MM7: Marymoor, Field 7
CATEGORIES:Softball,Kleinfelder Pirates,BB/SAA
UID:8EA2A55F1E742141AF6E0BCBC97C795:
DTSTAMP:2026-04-25T01:52:10Z:
SUMMARY:Kleinfelder Pirates at Combine, The
DESCRIPTION;ENCODING=QUOTED-PRINTABLE:Kleinfelder Pirates at Combine, The=0D=0A Time: 6:00 PM=0D=0A Location: Marymoor, Field 7
CLASS:PUBLIC
PRIORITY:5
BEGIN:VALARM
TRIGGER:-PT180M
ACTION:DISPLAY
DESCRIPTION:Reminder
END:VALARM
END:VEVENT
BEGIN:VEVENT
DTSTART:2011-05-17T01:00:00Z
DTEND:2011-05-17T03:30:00Z
LOCATION:MM7: Marymoor, Field 7
CATEGORIES:Softball,Kleinfelder Pirates,BB/SAA
UID:4DAFB37544FE9478336177062DBC0DB:
DTSTAMP:2026-04-25T01:52:10Z:
SUMMARY:Kleinfelder Pirates at Fielder's Choice
DESCRIPTION;ENCODING=QUOTED-PRINTABLE:Kleinfelder Pirates at Fielder's Choice=0D=0A Time: 6:00 PM=0D=0A Location: Marymoor, Field 7
CLASS:PUBLIC
PRIORITY:5
BEGIN:VALARM
TRIGGER:-PT180M
ACTION:DISPLAY
DESCRIPTION:Reminder
END:VALARM
END:VEVENT
BEGIN:VEVENT
DTSTART:2011-05-24T01:00:00Z
DTEND:2011-05-24T03:30:00Z
LOCATION:MM6: Marymoor, Field 6
CATEGORIES:Softball,Kleinfelder Pirates,BB/SAA
UID:EF3CC94BC348BA44AA79D079AC2ABDDE:
DTSTAMP:2026-04-25T01:52:10Z:
SUMMARY:Super Sluggers at Kleinfelder Pirates
DESCRIPTION;ENCODING=QUOTED-PRINTABLE:Super Sluggers at Kleinfelder Pirates=0D=0A Time: 6:00 PM=0D=0A Location: Marymoor, Field 6
CLASS:PUBLIC
PRIORITY:5
BEGIN:VALARM
TRIGGER:-PT180M
ACTION:DISPLAY
DESCRIPTION:Reminder
END:VALARM
END:VEVENT
BEGIN:VEVENT
DTSTART:2011-06-02T01:00:00Z
DTEND:2011-06-02T03:30:00Z
LOCATION:SAM1: Sammamish High School, Field 1
CATEGORIES:Softball,Kleinfelder Pirates,BB/SAA
UID:EAC46C1ED66F954591162B34A7CD6055:
DTSTAMP:2026-04-25T01:52:10Z:
SUMMARY:Triple Play at Kleinfelder Pirates
DESCRIPTION;ENCODING=QUOTED-PRINTABLE:Triple Play at Kleinfelder Pirates=0D=0A Time: 6:00 PM=0D=0A Location: Sammamish High School, Field 1
CLASS:PUBLIC
PRIORITY:5
BEGIN:VALARM
TRIGGER:-PT180M
ACTION:DISPLAY
DESCRIPTION:Reminder
END:VALARM
END:VEVENT
BEGIN:VEVENT
DTSTART:2011-06-07T03:30:00Z
DTEND:2011-06-07T06:00:00Z
LOCATION:MM6: Marymoor, Field 6
CATEGORIES:Softball,Kleinfelder Pirates,BB/SAA
UID:B43B425B64ADE489619B6A447821AB0:
DTSTAMP:2026-04-25T01:52:10Z:
SUMMARY:Babes & Babe Magnets at Kleinfelder Pirates
DESCRIPTION;ENCODING=QUOTED-PRINTABLE:Babes & Babe Magnets at Kleinfelder Pirates=0D=0A Time: 8:30 PM=0D=0A Location: Marymoor, Field 6
CLASS:PUBLIC
PRIORITY:5
BEGIN:VALARM
TRIGGER:-PT330M
ACTION:DISPLAY
DESCRIPTION:Reminder
END:VALARM
END:VEVENT
BEGIN:VEVENT
DTSTART:2011-06-14T01:00:00Z
DTEND:2011-06-14T03:30:00Z
LOCATION:MM7: Marymoor, Field 7
CATEGORIES:Softball,Kleinfelder Pirates,BB/SAA
UID:9B10159B82CD404897F616E9788942CA:
DTSTAMP:2026-04-25T01:52:10Z:
SUMMARY:Kleinfelder Pirates at Brookshire Homes
DESCRIPTION;ENCODING=QUOTED-PRINTABLE:Kleinfelder Pirates at Brookshire Homes=0D=0A Time: 6:00 PM=0D=0A Location: Marymoor, Field 7
CLASS:PUBLIC
PRIORITY:5
BEGIN:VALARM
TRIGGER:-PT180M
ACTION:DISPLAY
DESCRIPTION:Reminder
END:VALARM
END:VEVENT
BEGIN:VEVENT
DTSTART:2011-06-21T03:30:00Z
DTEND:2011-06-21T06:00:00Z
LOCATION:MM6: Marymoor, Field 6
CATEGORIES:Softball,Kleinfelder Pirates,BB/SAA
UID:E2AA15336A9474995837C83F3E41FE4:
DTSTAMP:2026-04-25T01:52:10Z:
SUMMARY:Kleinfelder Pirates at Brookshire Homes
DESCRIPTION;ENCODING=QUOTED-PRINTABLE:Kleinfelder Pirates at Brookshire Homes=0D=0A Time: 8:30 PM=0D=0A Location: Marymoor, Field 6
CLASS:PUBLIC
PRIORITY:5
BEGIN:VALARM
TRIGGER:-PT330M
ACTION:DISPLAY
DESCRIPTION:Reminder
END:VALARM
END:VEVENT
BEGIN:VEVENT
DTSTART:2011-06-23T01:00:00Z
DTEND:2011-06-23T03:30:00Z
LOCATION:MM7: Marymoor, Field 7
CATEGORIES:Softball,Kleinfelder Pirates,BB/SAA
UID:85602285C759A0478EF1F2DB9031613C:
DTSTAMP:2026-04-25T01:52:10Z:
SUMMARY:Triple Play at Kleinfelder Pirates
DESCRIPTION;ENCODING=QUOTED-PRINTABLE:Triple Play at Kleinfelder Pirates=0D=0A Time: 6:00 PM=0D=0A Location: Marymoor, Field 7
CLASS:PUBLIC
PRIORITY:5
BEGIN:VALARM
TRIGGER:-PT180M
ACTION:DISPLAY
DESCRIPTION:Reminder
END:VALARM
END:VEVENT
END:VCALENDAR
