BEGIN:VCALENDAR
PRODID:-//Microsoft Corporation//Outlook 11.0 MIMEDIR//EN
VERSION:2.0
METHOD:PUBLISH
BEGIN:VEVENT
DTSTART:2011-04-12T03:30:00Z
DTEND:2011-04-12T06:00:00Z
LOCATION:HV1: Hidden Valley, Field 1
CATEGORIES:Softball,Fielder's Choice,BB/SAA
UID:7D541663DCC71043BD87D8E627A6DCBE:
DTSTAMP:2026-04-25T03:30:53Z:
SUMMARY:RIM Ninja Llamas at Fielder's Choice
DESCRIPTION;ENCODING=QUOTED-PRINTABLE:RIM Ninja Llamas at Fielder's Choice=0D=0A Time: 8:30 PM=0D=0A Location: Hidden Valley, Field 1
CLASS:PUBLIC
PRIORITY:5
BEGIN:VALARM
TRIGGER:-PT330M
ACTION:DISPLAY
DESCRIPTION:Reminder
END:VALARM
END:VEVENT
BEGIN:VEVENT
DTSTART:2011-04-19T01:00:00Z
DTEND:2011-04-19T03:30:00Z
LOCATION:HV1: Hidden Valley, Field 1
CATEGORIES:Softball,Fielder's Choice,BB/SAA
UID:8663B4745EDE4887332398B3A48C9:
DTSTAMP:2026-04-25T03:30:53Z:
SUMMARY:Fielder's Choice at Triple Play
DESCRIPTION;ENCODING=QUOTED-PRINTABLE:Fielder's Choice at Triple Play=0D=0A Time: 6:00 PM=0D=0A Location: Hidden Valley, Field 1
CLASS:PUBLIC
PRIORITY:5
BEGIN:VALARM
TRIGGER:-PT180M
ACTION:DISPLAY
DESCRIPTION:Reminder
END:VALARM
END:VEVENT
BEGIN:VEVENT
DTSTART:2011-04-26T03:30:00Z
DTEND:2011-04-26T06:00:00Z
LOCATION:MM7: Marymoor, Field 7
CATEGORIES:Softball,Fielder's Choice,BB/SAA
UID:EB999A68167D3489C4067D0A3AF7EA:
DTSTAMP:2026-04-25T03:30:53Z:
SUMMARY:Combine, The at Fielder's Choice
DESCRIPTION;ENCODING=QUOTED-PRINTABLE:Combine, The at Fielder's Choice=0D=0A Time: 8:30 PM=0D=0A Location: Marymoor, Field 7
CLASS:PUBLIC
PRIORITY:5
BEGIN:VALARM
TRIGGER:-PT330M
ACTION:DISPLAY
DESCRIPTION:Reminder
END:VALARM
END:VEVENT
BEGIN:VEVENT
DTSTART:2011-05-03T01:00:00Z
DTEND:2011-05-03T03:30:00Z
LOCATION:MM6: Marymoor, Field 6
CATEGORIES:Softball,Fielder's Choice,BB/SAA
UID:6EE46D5D9F6894AA4CB22625A11B43:
DTSTAMP:2026-04-25T03:30:53Z:
SUMMARY:Fielder's Choice at Dreadsox
DESCRIPTION;ENCODING=QUOTED-PRINTABLE:Fielder's Choice at Dreadsox=0D=0A Time: 6:00 PM=0D=0A Location: Marymoor, Field 6
CLASS:PUBLIC
PRIORITY:5
BEGIN:VALARM
TRIGGER:-PT180M
ACTION:DISPLAY
DESCRIPTION:Reminder
END:VALARM
END:VEVENT
BEGIN:VEVENT
DTSTART:2011-05-10T01:00:00Z
DTEND:2011-05-10T03:30:00Z
LOCATION:HV1: Hidden Valley, Field 1
CATEGORIES:Softball,Fielder's Choice,BB/SAA
UID:CB562F9173494AA22D89DE3EDE31E:
DTSTAMP:2026-04-25T03:30:53Z:
SUMMARY:Fielder's Choice at Flexi Warriors
DESCRIPTION;ENCODING=QUOTED-PRINTABLE:Fielder's Choice at Flexi Warriors=0D=0A Time: 6:00 PM=0D=0A Location: Hidden Valley, Field 1
CLASS:PUBLIC
PRIORITY:5
BEGIN:VALARM
TRIGGER:-PT180M
ACTION:DISPLAY
DESCRIPTION:Reminder
END:VALARM
END:VEVENT
BEGIN:VEVENT
DTSTART:2011-05-17T01:00:00Z
DTEND:2011-05-17T03:30:00Z
LOCATION:MM7: Marymoor, Field 7
CATEGORIES:Softball,Fielder's Choice,BB/SAA
UID:15833DEE5444B47BBBDFD62EDEFFA60:
DTSTAMP:2026-04-25T03:30:53Z:
SUMMARY:Kleinfelder Pirates at Fielder's Choice
DESCRIPTION;ENCODING=QUOTED-PRINTABLE:Kleinfelder Pirates at Fielder's Choice=0D=0A Time: 6:00 PM=0D=0A Location: Marymoor, Field 7
CLASS:PUBLIC
PRIORITY:5
BEGIN:VALARM
TRIGGER:-PT180M
ACTION:DISPLAY
DESCRIPTION:Reminder
END:VALARM
END:VEVENT
BEGIN:VEVENT
DTSTART:2011-05-24T03:30:00Z
DTEND:2011-05-24T06:00:00Z
LOCATION:MM6: Marymoor, Field 6
CATEGORIES:Softball,Fielder's Choice,BB/SAA
UID:AC9D47F0CA37C74CA598F7A851F7E156:
DTSTAMP:2026-04-25T03:30:53Z:
SUMMARY:Brookshire Homes at Fielder's Choice
DESCRIPTION;ENCODING=QUOTED-PRINTABLE:Brookshire Homes at Fielder's Choice=0D=0A Time: 8:30 PM=0D=0A Location: Marymoor, Field 6
CLASS:PUBLIC
PRIORITY:5
BEGIN:VALARM
TRIGGER:-PT330M
ACTION:DISPLAY
DESCRIPTION:Reminder
END:VALARM
END:VEVENT
BEGIN:VEVENT
DTSTART:2011-06-04T01:00:00Z
DTEND:2011-06-04T03:30:00Z
LOCATION:HV1: Hidden Valley, Field 1
CATEGORIES:Softball,Fielder's Choice,BB/SAA
UID:82DB38278B8A545B3B2BA489AB9FC97:
DTSTAMP:2026-04-25T03:30:53Z:
SUMMARY:Fielder's Choice at Dreadsox
DESCRIPTION;ENCODING=QUOTED-PRINTABLE:Fielder's Choice at Dreadsox=0D=0A Time: 6:00 PM=0D=0A Location: Hidden Valley, Field 1
CLASS:PUBLIC
PRIORITY:5
BEGIN:VALARM
TRIGGER:-PT180M
ACTION:DISPLAY
DESCRIPTION:Reminder
END:VALARM
END:VEVENT
BEGIN:VEVENT
DTSTART:2011-06-07T01:00:00Z
DTEND:2011-06-07T03:30:00Z
LOCATION:HV1: Hidden Valley, Field 1
CATEGORIES:Softball,Fielder's Choice,BB/SAA
UID:5AADCC7ECB1644BA52D1EEE32C9A077:
DTSTAMP:2026-04-25T03:30:53Z:
SUMMARY:Fielder's Choice at Super Sluggers
DESCRIPTION;ENCODING=QUOTED-PRINTABLE:Fielder's Choice at Super Sluggers=0D=0A Time: 6:00 PM=0D=0A Location: Hidden Valley, Field 1
CLASS:PUBLIC
PRIORITY:5
BEGIN:VALARM
TRIGGER:-PT180M
ACTION:DISPLAY
DESCRIPTION:Reminder
END:VALARM
END:VEVENT
BEGIN:VEVENT
DTSTART:2011-06-14T01:00:00Z
DTEND:2011-06-14T03:30:00Z
LOCATION:HV1: Hidden Valley, Field 1
CATEGORIES:Softball,Fielder's Choice,BB/SAA
UID:B13880D7FACE6C49B0D01D88A2994392:
DTSTAMP:2026-04-25T03:30:53Z:
SUMMARY:Fielder's Choice at Triple Play
DESCRIPTION;ENCODING=QUOTED-PRINTABLE:Fielder's Choice at Triple Play=0D=0A Time: 6:00 PM=0D=0A Location: Hidden Valley, Field 1
CLASS:PUBLIC
PRIORITY:5
BEGIN:VALARM
TRIGGER:-PT180M
ACTION:DISPLAY
DESCRIPTION:Reminder
END:VALARM
END:VEVENT
BEGIN:VEVENT
DTSTART:2011-06-14T03:30:00Z
DTEND:2011-06-14T06:00:00Z
LOCATION:HV1: Hidden Valley, Field 1
CATEGORIES:Softball,Fielder's Choice,BB/SAA
UID:12A5882A01A5244B247A51AD9D8FA8C:
DTSTAMP:2026-04-25T03:30:53Z:
SUMMARY:Babes & Babe Magnets at Fielder's Choice
DESCRIPTION;ENCODING=QUOTED-PRINTABLE:Babes & Babe Magnets at Fielder's Choice=0D=0A Time: 8:30 PM=0D=0A Location: Hidden Valley, Field 1
CLASS:PUBLIC
PRIORITY:5
BEGIN:VALARM
TRIGGER:-PT330M
ACTION:DISPLAY
DESCRIPTION:Reminder
END:VALARM
END:VEVENT
BEGIN:VEVENT
DTSTART:2011-06-21T03:30:00Z
DTEND:2011-06-21T06:00:00Z
LOCATION:MM7: Marymoor, Field 7
CATEGORIES:Softball,Fielder's Choice,BB/SAA
UID:DE496E63D1741D4B8F945D426AA734C:
DTSTAMP:2026-04-25T03:30:53Z:
SUMMARY:Combine, The at Fielder's Choice
DESCRIPTION;ENCODING=QUOTED-PRINTABLE:Combine, The at Fielder's Choice=0D=0A Time: 8:30 PM=0D=0A Location: Marymoor, Field 7
CLASS:PUBLIC
PRIORITY:5
BEGIN:VALARM
TRIGGER:-PT330M
ACTION:DISPLAY
DESCRIPTION:Reminder
END:VALARM
END:VEVENT
END:VCALENDAR
