BEGIN:VCALENDAR
PRODID:-//Microsoft Corporation//Outlook 11.0 MIMEDIR//EN
VERSION:2.0
METHOD:PUBLISH
BEGIN:VEVENT
DTSTART:2011-04-12T03:30:00Z
DTEND:2011-04-12T06:00:00Z
LOCATION:MM7: Marymoor, Field 7
CATEGORIES:Softball,Ruckus,BB/SAA
UID:60AB8567052A46B13AE5BCF819CEB:
DTSTAMP:2026-04-25T12:20:36Z:
SUMMARY:Ruckus at Shotguns and Showels
DESCRIPTION;ENCODING=QUOTED-PRINTABLE:Ruckus at Shotguns and Showels=0D=0A Time: 8:30 PM=0D=0A Location: Marymoor, Field 7
CLASS:PUBLIC
PRIORITY:5
BEGIN:VALARM
TRIGGER:-PT330M
ACTION:DISPLAY
DESCRIPTION:Reminder
END:VALARM
END:VEVENT
BEGIN:VEVENT
DTSTART:2011-04-19T01:00:00Z
DTEND:2011-04-19T03:30:00Z
LOCATION:MM7: Marymoor, Field 7
CATEGORIES:Softball,Ruckus,BB/SAA
UID:C660993268A2740A7A297D136E2F94:
DTSTAMP:2026-04-25T12:20:36Z:
SUMMARY:Dawgystyle - Co-ed at Ruckus
DESCRIPTION;ENCODING=QUOTED-PRINTABLE:Dawgystyle - Co-ed at Ruckus=0D=0A Time: 6:00 PM=0D=0A Location: Marymoor, Field 7
CLASS:PUBLIC
PRIORITY:5
BEGIN:VALARM
TRIGGER:-PT180M
ACTION:DISPLAY
DESCRIPTION:Reminder
END:VALARM
END:VEVENT
BEGIN:VEVENT
DTSTART:2011-04-27T01:00:00Z
DTEND:2011-04-27T03:30:00Z
LOCATION:HV1: Hidden Valley, Field 1
CATEGORIES:Softball,Ruckus,BB/SAA
UID:74E0259F730BC4CA45786A5541DFC98:
DTSTAMP:2026-04-25T12:20:36Z:
SUMMARY:Ruckus at Scared Hit-Less
DESCRIPTION;ENCODING=QUOTED-PRINTABLE:Ruckus at Scared Hit-Less=0D=0A Time: 6:00 PM=0D=0A Location: Hidden Valley, Field 1
CLASS:PUBLIC
PRIORITY:5
BEGIN:VALARM
TRIGGER:-PT180M
ACTION:DISPLAY
DESCRIPTION:Reminder
END:VALARM
END:VEVENT
BEGIN:VEVENT
DTSTART:2011-05-03T03:30:00Z
DTEND:2011-05-03T06:00:00Z
LOCATION:MM6: Marymoor, Field 6
CATEGORIES:Softball,Ruckus,BB/SAA
UID:9220B013AA17C46A888A61727288F6:
DTSTAMP:2026-04-25T12:20:36Z:
SUMMARY:Shotguns and Showels at Ruckus
DESCRIPTION;ENCODING=QUOTED-PRINTABLE:Shotguns and Showels at Ruckus=0D=0A Time: 8:30 PM=0D=0A Location: Marymoor, Field 6
CLASS:PUBLIC
PRIORITY:5
BEGIN:VALARM
TRIGGER:-PT330M
ACTION:DISPLAY
DESCRIPTION:Reminder
END:VALARM
END:VEVENT
BEGIN:VEVENT
DTSTART:2011-05-10T03:30:00Z
DTEND:2011-05-10T06:00:00Z
LOCATION:MM7: Marymoor, Field 7
CATEGORIES:Softball,Ruckus,BB/SAA
UID:73495B73E28F6740A2D95CC1C4691D7:
DTSTAMP:2026-04-25T12:20:36Z:
SUMMARY:Dawgystyle - Co-ed at Ruckus
DESCRIPTION;ENCODING=QUOTED-PRINTABLE:Dawgystyle - Co-ed at Ruckus=0D=0A Time: 8:30 PM=0D=0A Location: Marymoor, Field 7
CLASS:PUBLIC
PRIORITY:5
BEGIN:VALARM
TRIGGER:-PT330M
ACTION:DISPLAY
DESCRIPTION:Reminder
END:VALARM
END:VEVENT
BEGIN:VEVENT
DTSTART:2011-05-17T03:30:00Z
DTEND:2011-05-17T06:00:00Z
LOCATION:MM6: Marymoor, Field 6
CATEGORIES:Softball,Ruckus,BB/SAA
UID:7C3A3EB050BFFC4498B5E0ADE97AE60:
DTSTAMP:2026-04-25T12:20:36Z:
SUMMARY:Triple Play at Ruckus
DESCRIPTION;ENCODING=QUOTED-PRINTABLE:Triple Play at Ruckus=0D=0A Time: 8:30 PM=0D=0A Location: Marymoor, Field 6
CLASS:PUBLIC
PRIORITY:5
BEGIN:VALARM
TRIGGER:-PT330M
ACTION:DISPLAY
DESCRIPTION:Reminder
END:VALARM
END:VEVENT
BEGIN:VEVENT
DTSTART:2011-05-25T03:30:00Z
DTEND:2011-05-25T06:00:00Z
LOCATION:HV1: Hidden Valley, Field 1
CATEGORIES:Softball,Ruckus,BB/SAA
UID:1CAC48D7CD3764DB7582EE3DDFB1FD2:
DTSTAMP:2026-04-25T12:20:36Z:
SUMMARY:Ruckus at Shotguns and Showels
DESCRIPTION;ENCODING=QUOTED-PRINTABLE:Ruckus at Shotguns and Showels=0D=0A Time: 8:30 PM=0D=0A Location: Hidden Valley, Field 1
CLASS:PUBLIC
PRIORITY:5
BEGIN:VALARM
TRIGGER:-PT330M
ACTION:DISPLAY
DESCRIPTION:Reminder
END:VALARM
END:VEVENT
BEGIN:VEVENT
DTSTART:2011-06-01T01:00:00Z
DTEND:2011-06-01T03:30:00Z
LOCATION:HV1: Hidden Valley, Field 1
CATEGORIES:Softball,Ruckus,BB/SAA
UID:7A55C18DA88AE546BDC1DDD2A287877:
DTSTAMP:2026-04-25T12:20:36Z:
SUMMARY:Ruckus at Scared Hit-Less
DESCRIPTION;ENCODING=QUOTED-PRINTABLE:Ruckus at Scared Hit-Less=0D=0A Time: 6:00 PM=0D=0A Location: Hidden Valley, Field 1
CLASS:PUBLIC
PRIORITY:5
BEGIN:VALARM
TRIGGER:-PT180M
ACTION:DISPLAY
DESCRIPTION:Reminder
END:VALARM
END:VEVENT
BEGIN:VEVENT
DTSTART:2011-06-07T01:00:00Z
DTEND:2011-06-07T03:30:00Z
LOCATION:SAM1: Sammamish High School, Field 1
CATEGORIES:Softball,Ruckus,BB/SAA
UID:3F4D46B2E64D9449CB75EF09C3ED37B:
DTSTAMP:2026-04-25T12:20:36Z:
SUMMARY:Ruckus at Scared Hit-Less
DESCRIPTION;ENCODING=QUOTED-PRINTABLE:Ruckus at Scared Hit-Less=0D=0A Time: 6:00 PM=0D=0A Location: Sammamish High School, Field 1
CLASS:PUBLIC
PRIORITY:5
BEGIN:VALARM
TRIGGER:-PT180M
ACTION:DISPLAY
DESCRIPTION:Reminder
END:VALARM
END:VEVENT
BEGIN:VEVENT
DTSTART:2011-06-14T01:00:00Z
DTEND:2011-06-14T03:30:00Z
LOCATION:SAM1: Sammamish High School, Field 1
CATEGORIES:Softball,Ruckus,BB/SAA
UID:603BE9CB12E5A645A92D3A4F3D4AF67B:
DTSTAMP:2026-04-25T12:20:36Z:
SUMMARY:Dawgystyle - Co-ed at Ruckus
DESCRIPTION;ENCODING=QUOTED-PRINTABLE:Dawgystyle - Co-ed at Ruckus=0D=0A Time: 6:00 PM=0D=0A Location: Sammamish High School, Field 1
CLASS:PUBLIC
PRIORITY:5
BEGIN:VALARM
TRIGGER:-PT180M
ACTION:DISPLAY
DESCRIPTION:Reminder
END:VALARM
END:VEVENT
BEGIN:VEVENT
DTSTART:2011-06-21T01:00:00Z
DTEND:2011-06-21T03:30:00Z
LOCATION:SAM2: Sammamish High School, Field 2
CATEGORIES:Softball,Ruckus,BB/SAA
UID:DC527F479FC2B6439EBFB12250B7620:
DTSTAMP:2026-04-25T12:20:36Z:
SUMMARY:Shotguns and Showels at Ruckus
DESCRIPTION;ENCODING=QUOTED-PRINTABLE:Shotguns and Showels at Ruckus=0D=0A Time: 6:00 PM=0D=0A Location: Sammamish High School, Field 2
CLASS:PUBLIC
PRIORITY:5
BEGIN:VALARM
TRIGGER:-PT180M
ACTION:DISPLAY
DESCRIPTION:Reminder
END:VALARM
END:VEVENT
END:VCALENDAR
