BEGIN:VCALENDAR
PRODID:-//Microsoft Corporation//Outlook 11.0 MIMEDIR//EN
VERSION:2.0
METHOD:PUBLISH
BEGIN:VEVENT
DTSTART:2011-04-13T01:00:00Z
DTEND:2011-04-13T03:30:00Z
LOCATION:MM6: Marymoor, Field 6
CATEGORIES:Softball,Scared Hit-Less,BB/SAA
UID:8AFAF3D3DA8DE469B5CCCBBFDC811BE:
DTSTAMP:2026-04-25T12:22:09Z:
SUMMARY:Scared Hit-Less at Dawgystyle - Co-ed
DESCRIPTION;ENCODING=QUOTED-PRINTABLE:Scared Hit-Less at Dawgystyle - Co-ed=0D=0A Time: 6:00 PM=0D=0A Location: Marymoor, Field 6
CLASS:PUBLIC
PRIORITY:5
BEGIN:VALARM
TRIGGER:-PT180M
ACTION:DISPLAY
DESCRIPTION:Reminder
END:VALARM
END:VEVENT
BEGIN:VEVENT
DTSTART:2011-04-20T01:00:00Z
DTEND:2011-04-20T03:30:00Z
LOCATION:MM7: Marymoor, Field 7
CATEGORIES:Softball,Scared Hit-Less,BB/SAA
UID:7DBB4CFDB9F64199202C67F14C4383:
DTSTAMP:2026-04-25T12:22:09Z:
SUMMARY:Babes & Babe Magnets at Scared Hit-Less
DESCRIPTION;ENCODING=QUOTED-PRINTABLE:Babes & Babe Magnets at Scared Hit-Less=0D=0A Time: 6:00 PM=0D=0A Location: Marymoor, Field 7
CLASS:PUBLIC
PRIORITY:5
BEGIN:VALARM
TRIGGER:-PT180M
ACTION:DISPLAY
DESCRIPTION:Reminder
END:VALARM
END:VEVENT
BEGIN:VEVENT
DTSTART:2011-04-27T01:00:00Z
DTEND:2011-04-27T03:30:00Z
LOCATION:HV1: Hidden Valley, Field 1
CATEGORIES:Softball,Scared Hit-Less,BB/SAA
UID:69D6E8914197A47A51ABB30982B43E:
DTSTAMP:2026-04-25T12:22:09Z:
SUMMARY:Ruckus at Scared Hit-Less
DESCRIPTION;ENCODING=QUOTED-PRINTABLE:Ruckus at Scared Hit-Less=0D=0A Time: 6:00 PM=0D=0A Location: Hidden Valley, Field 1
CLASS:PUBLIC
PRIORITY:5
BEGIN:VALARM
TRIGGER:-PT180M
ACTION:DISPLAY
DESCRIPTION:Reminder
END:VALARM
END:VEVENT
BEGIN:VEVENT
DTSTART:2011-05-04T03:30:00Z
DTEND:2011-05-04T06:00:00Z
LOCATION:HV1: Hidden Valley, Field 1
CATEGORIES:Softball,Scared Hit-Less,BB/SAA
UID:D29926C962A7614FB1E98077102DB8AD:
DTSTAMP:2026-04-25T12:22:09Z:
SUMMARY:Scared Hit-Less at Dawgystyle - Co-ed
DESCRIPTION;ENCODING=QUOTED-PRINTABLE:Scared Hit-Less at Dawgystyle - Co-ed=0D=0A Time: 8:30 PM=0D=0A Location: Hidden Valley, Field 1
CLASS:PUBLIC
PRIORITY:5
BEGIN:VALARM
TRIGGER:-PT330M
ACTION:DISPLAY
DESCRIPTION:Reminder
END:VALARM
END:VEVENT
BEGIN:VEVENT
DTSTART:2011-05-11T01:00:00Z
DTEND:2011-05-11T03:30:00Z
LOCATION:HV1: Hidden Valley, Field 1
CATEGORIES:Softball,Scared Hit-Less,BB/SAA
UID:8A1187A19C55847B6CE7BBFD4C73868:
DTSTAMP:2026-04-25T12:22:09Z:
SUMMARY:Scared Hit-Less at Shotguns and Showels
DESCRIPTION;ENCODING=QUOTED-PRINTABLE:Scared Hit-Less at Shotguns and Showels=0D=0A Time: 6:00 PM=0D=0A Location: Hidden Valley, Field 1
CLASS:PUBLIC
PRIORITY:5
BEGIN:VALARM
TRIGGER:-PT180M
ACTION:DISPLAY
DESCRIPTION:Reminder
END:VALARM
END:VEVENT
BEGIN:VEVENT
DTSTART:2011-05-18T01:00:00Z
DTEND:2011-05-18T03:30:00Z
LOCATION:HV1: Hidden Valley, Field 1
CATEGORIES:Softball,Scared Hit-Less,BB/SAA
UID:96716CA677B977478254C3BEACAC61A:
DTSTAMP:2026-04-25T12:22:09Z:
SUMMARY:Shotguns and Showels at Scared Hit-Less
DESCRIPTION;ENCODING=QUOTED-PRINTABLE:Shotguns and Showels at Scared Hit-Less=0D=0A Time: 6:00 PM=0D=0A Location: Hidden Valley, Field 1
CLASS:PUBLIC
PRIORITY:5
BEGIN:VALARM
TRIGGER:-PT180M
ACTION:DISPLAY
DESCRIPTION:Reminder
END:VALARM
END:VEVENT
BEGIN:VEVENT
DTSTART:2011-05-25T01:00:00Z
DTEND:2011-05-25T03:30:00Z
LOCATION:HV1: Hidden Valley, Field 1
CATEGORIES:Softball,Scared Hit-Less,BB/SAA
UID:8BC67D33F1AFB428196E6B1FF1324E7:
DTSTAMP:2026-04-25T12:22:09Z:
SUMMARY:Scared Hit-Less at Dawgystyle - Co-ed
DESCRIPTION;ENCODING=QUOTED-PRINTABLE:Scared Hit-Less at Dawgystyle - Co-ed=0D=0A Time: 6:00 PM=0D=0A Location: Hidden Valley, Field 1
CLASS:PUBLIC
PRIORITY:5
BEGIN:VALARM
TRIGGER:-PT180M
ACTION:DISPLAY
DESCRIPTION:Reminder
END:VALARM
END:VEVENT
BEGIN:VEVENT
DTSTART:2011-06-01T01:00:00Z
DTEND:2011-06-01T03:30:00Z
LOCATION:HV1: Hidden Valley, Field 1
CATEGORIES:Softball,Scared Hit-Less,BB/SAA
UID:CF75A3F4FBEB994C87F23E1D7E5C427B:
DTSTAMP:2026-04-25T12:22:09Z:
SUMMARY:Ruckus at Scared Hit-Less
DESCRIPTION;ENCODING=QUOTED-PRINTABLE:Ruckus at Scared Hit-Less=0D=0A Time: 6:00 PM=0D=0A Location: Hidden Valley, Field 1
CLASS:PUBLIC
PRIORITY:5
BEGIN:VALARM
TRIGGER:-PT180M
ACTION:DISPLAY
DESCRIPTION:Reminder
END:VALARM
END:VEVENT
BEGIN:VEVENT
DTSTART:2011-06-07T01:00:00Z
DTEND:2011-06-07T03:30:00Z
LOCATION:SAM1: Sammamish High School, Field 1
CATEGORIES:Softball,Scared Hit-Less,BB/SAA
UID:7C91825099DE9438794D529FCC5BE30:
DTSTAMP:2026-04-25T12:22:09Z:
SUMMARY:Ruckus at Scared Hit-Less
DESCRIPTION;ENCODING=QUOTED-PRINTABLE:Ruckus at Scared Hit-Less=0D=0A Time: 6:00 PM=0D=0A Location: Sammamish High School, Field 1
CLASS:PUBLIC
PRIORITY:5
BEGIN:VALARM
TRIGGER:-PT180M
ACTION:DISPLAY
DESCRIPTION:Reminder
END:VALARM
END:VEVENT
END:VCALENDAR
