BEGIN:VCALENDAR
PRODID:-//Microsoft Corporation//Outlook 11.0 MIMEDIR//EN
VERSION:2.0
METHOD:PUBLISH
BEGIN:VEVENT
DTSTART:2009-07-12T04:00:00Z
DTEND:2009-07-12T06:30:00Z
LOCATION:HV1: Hidden Valley, Field 1
CATEGORIES:Softball,Ten Spots,BB/SAA
UID:46A1904570663D40B010672C7C42D465:
DTSTAMP:2026-04-23T11:58:51Z:
SUMMARY:Ten Spots at Bellevue Bulldogs
DESCRIPTION;ENCODING=QUOTED-PRINTABLE:Ten Spots at Bellevue Bulldogs=0D=0A Time: 9:00 AM=0D=0A Location: Hidden Valley, Field 1
CLASS:PUBLIC
PRIORITY:5
BEGIN:VALARM
TRIGGER:-PT2520M
ACTION:DISPLAY
DESCRIPTION:Reminder
END:VALARM
END:VEVENT
BEGIN:VEVENT
DTSTART:2009-07-19T04:00:00Z
DTEND:2009-07-19T06:30:00Z
LOCATION:HV1: Hidden Valley, Field 1
CATEGORIES:Softball,Ten Spots,BB/SAA
UID:9D62D7FAEA2BF4CA7A5FA819684D367:
DTSTAMP:2026-04-23T11:58:51Z:
SUMMARY:Fog, The at Ten Spots
DESCRIPTION;ENCODING=QUOTED-PRINTABLE:Fog, The at Ten Spots=0D=0A Time: 9:00 AM=0D=0A Location: Hidden Valley, Field 1
CLASS:PUBLIC
PRIORITY:5
BEGIN:VALARM
TRIGGER:-PT2520M
ACTION:DISPLAY
DESCRIPTION:Reminder
END:VALARM
END:VEVENT
BEGIN:VEVENT
DTSTART:2009-07-26T04:00:00Z
DTEND:2009-07-26T06:30:00Z
LOCATION:HV1: Hidden Valley, Field 1
CATEGORIES:Softball,Ten Spots,BB/SAA
UID:FED03EF63B292545AF45AEA1334FBD54:
DTSTAMP:2026-04-23T11:58:51Z:
SUMMARY:Ten Spots at Rally Killers
DESCRIPTION;ENCODING=QUOTED-PRINTABLE:Ten Spots at Rally Killers=0D=0A Time: 9:00 AM=0D=0A Location: Hidden Valley, Field 1
CLASS:PUBLIC
PRIORITY:5
BEGIN:VALARM
TRIGGER:-PT2520M
ACTION:DISPLAY
DESCRIPTION:Reminder
END:VALARM
END:VEVENT
BEGIN:VEVENT
DTSTART:2009-08-03T01:00:00Z
DTEND:2009-08-03T03:30:00Z
LOCATION:HV1: Hidden Valley, Field 1
CATEGORIES:Softball,Ten Spots,BB/SAA
UID:F3411F14D14886489FC9F731ABBDCCCB:
DTSTAMP:2026-04-23T11:58:51Z:
SUMMARY:Carpet To Go - Sunday at Ten Spots
DESCRIPTION;ENCODING=QUOTED-PRINTABLE:Carpet To Go - Sunday at Ten Spots=0D=0A Time: 6:00 PM=0D=0A Location: Hidden Valley, Field 1
CLASS:PUBLIC
PRIORITY:5
BEGIN:VALARM
TRIGGER:-PT3060M
ACTION:DISPLAY
DESCRIPTION:Reminder
END:VALARM
END:VEVENT
BEGIN:VEVENT
DTSTART:2009-08-09T04:00:00Z
DTEND:2009-08-09T06:30:00Z
LOCATION:HV1: Hidden Valley, Field 1
CATEGORIES:Softball,Ten Spots,BB/SAA
UID:FD95197030DA46B8F6CFCCC4C3F392:
DTSTAMP:2026-04-23T11:58:51Z:
SUMMARY:Goose Pub Kings at Ten Spots
DESCRIPTION;ENCODING=QUOTED-PRINTABLE:Goose Pub Kings at Ten Spots=0D=0A Time: 9:00 AM=0D=0A Location: Hidden Valley, Field 1
CLASS:PUBLIC
PRIORITY:5
BEGIN:VALARM
TRIGGER:-PT2520M
ACTION:DISPLAY
DESCRIPTION:Reminder
END:VALARM
END:VEVENT
BEGIN:VEVENT
DTSTART:2009-08-16T04:00:00Z
DTEND:2009-08-16T06:30:00Z
LOCATION:HV1: Hidden Valley, Field 1
CATEGORIES:Softball,Ten Spots,BB/SAA
UID:6D71CF28D0101F44819B95C68EA28161:
DTSTAMP:2026-04-23T11:58:51Z:
SUMMARY:Goose Pub Kings at Ten Spots
DESCRIPTION;ENCODING=QUOTED-PRINTABLE:Goose Pub Kings at Ten Spots=0D=0A Time: 9:00 AM=0D=0A Location: Hidden Valley, Field 1
CLASS:PUBLIC
PRIORITY:5
BEGIN:VALARM
TRIGGER:-PT2520M
ACTION:DISPLAY
DESCRIPTION:Reminder
END:VALARM
END:VEVENT
BEGIN:VEVENT
DTSTART:2009-08-23T04:00:00Z
DTEND:2009-08-23T06:30:00Z
LOCATION:HV1: Hidden Valley, Field 1
CATEGORIES:Softball,Ten Spots,BB/SAA
UID:A33619F5676D342947277381210418:
DTSTAMP:2026-04-23T11:58:51Z:
SUMMARY:Ten Spots at Fog, The
DESCRIPTION;ENCODING=QUOTED-PRINTABLE:Ten Spots at Fog, The=0D=0A Time: 9:00 AM=0D=0A Location: Hidden Valley, Field 1
CLASS:PUBLIC
PRIORITY:5
BEGIN:VALARM
TRIGGER:-PT2520M
ACTION:DISPLAY
DESCRIPTION:Reminder
END:VALARM
END:VEVENT
BEGIN:VEVENT
DTSTART:2009-08-30T04:00:00Z
DTEND:2009-08-30T06:30:00Z
LOCATION:HV1: Hidden Valley, Field 1
CATEGORIES:Softball,Ten Spots,BB/SAA
UID:B9B0D69BF911364F93963636B42D2AC6:
DTSTAMP:2026-04-23T11:58:51Z:
SUMMARY:Ten Spots at Rally Killers
DESCRIPTION;ENCODING=QUOTED-PRINTABLE:Ten Spots at Rally Killers=0D=0A Time: 9:00 AM=0D=0A Location: Hidden Valley, Field 1
CLASS:PUBLIC
PRIORITY:5
BEGIN:VALARM
TRIGGER:-PT2520M
ACTION:DISPLAY
DESCRIPTION:Reminder
END:VALARM
END:VEVENT
END:VCALENDAR
