BEGIN:VCALENDAR
PRODID:-//Microsoft Corporation//Outlook 11.0 MIMEDIR//EN
VERSION:2.0
METHOD:PUBLISH
BEGIN:VEVENT
DTSTART:2009-07-12T06:30:00Z
DTEND:2009-07-12T09:00:00Z
LOCATION:HV1: Hidden Valley, Field 1
CATEGORIES:Softball,Goose Pub Kings,BB/SAA
UID:95F89CFEC6759B4C86EE14EDC2181B0:
DTSTAMP:2026-04-23T11:53:28Z:
SUMMARY:Goose Pub Kings at Fog, The
DESCRIPTION;ENCODING=QUOTED-PRINTABLE:Goose Pub Kings at Fog, The=0D=0A Time: 11:30 AM=0D=0A Location: Hidden Valley, Field 1
CLASS:PUBLIC
PRIORITY:5
BEGIN:VALARM
TRIGGER:-PT2670M
ACTION:DISPLAY
DESCRIPTION:Reminder
END:VALARM
END:VEVENT
BEGIN:VEVENT
DTSTART:2009-07-19T06:30:00Z
DTEND:2009-07-19T09:00:00Z
LOCATION:HV1: Hidden Valley, Field 1
CATEGORIES:Softball,Goose Pub Kings,BB/SAA
UID:336EE057295AF54ABBBFEAEC9E55904C:
DTSTAMP:2026-04-23T11:53:28Z:
SUMMARY:Rally Killers at Goose Pub Kings
DESCRIPTION;ENCODING=QUOTED-PRINTABLE:Rally Killers at Goose Pub Kings=0D=0A Time: 11:30 AM=0D=0A Location: Hidden Valley, Field 1
CLASS:PUBLIC
PRIORITY:5
BEGIN:VALARM
TRIGGER:-PT2670M
ACTION:DISPLAY
DESCRIPTION:Reminder
END:VALARM
END:VEVENT
BEGIN:VEVENT
DTSTART:2009-07-27T01:00:00Z
DTEND:2009-07-27T03:30:00Z
LOCATION:HV1: Hidden Valley, Field 1
CATEGORIES:Softball,Goose Pub Kings,BB/SAA
UID:31EF7931781E1E479C67BB4956BC44C4:
DTSTAMP:2026-04-23T11:53:28Z:
SUMMARY:Carpet To Go - Sunday at Goose Pub Kings
DESCRIPTION;ENCODING=QUOTED-PRINTABLE:Carpet To Go - Sunday at Goose Pub Kings=0D=0A Time: 6:00 PM=0D=0A Location: Hidden Valley, Field 1
CLASS:PUBLIC
PRIORITY:5
BEGIN:VALARM
TRIGGER:-PT3060M
ACTION:DISPLAY
DESCRIPTION:Reminder
END:VALARM
END:VEVENT
BEGIN:VEVENT
DTSTART:2009-08-02T04:00:00Z
DTEND:2009-08-02T06:30:00Z
LOCATION:HV1: Hidden Valley, Field 1
CATEGORIES:Softball,Goose Pub Kings,BB/SAA
UID:1CFEFEA751DBDB42BE19879A728E85DC:
DTSTAMP:2026-04-23T11:53:28Z:
SUMMARY:Bellevue Bulldogs at Goose Pub Kings
DESCRIPTION;ENCODING=QUOTED-PRINTABLE:Bellevue Bulldogs at Goose Pub Kings=0D=0A Time: 9:00 AM=0D=0A Location: Hidden Valley, Field 1
CLASS:PUBLIC
PRIORITY:5
BEGIN:VALARM
TRIGGER:-PT2520M
ACTION:DISPLAY
DESCRIPTION:Reminder
END:VALARM
END:VEVENT
BEGIN:VEVENT
DTSTART:2009-08-09T04:00:00Z
DTEND:2009-08-09T06:30:00Z
LOCATION:HV1: Hidden Valley, Field 1
CATEGORIES:Softball,Goose Pub Kings,BB/SAA
UID:4CEF762D8C2CA499318FF38D21137C7:
DTSTAMP:2026-04-23T11:53:28Z:
SUMMARY:Goose Pub Kings at Ten Spots
DESCRIPTION;ENCODING=QUOTED-PRINTABLE:Goose Pub Kings at Ten Spots=0D=0A Time: 9:00 AM=0D=0A Location: Hidden Valley, Field 1
CLASS:PUBLIC
PRIORITY:5
BEGIN:VALARM
TRIGGER:-PT2520M
ACTION:DISPLAY
DESCRIPTION:Reminder
END:VALARM
END:VEVENT
BEGIN:VEVENT
DTSTART:2009-08-16T04:00:00Z
DTEND:2009-08-16T06:30:00Z
LOCATION:HV1: Hidden Valley, Field 1
CATEGORIES:Softball,Goose Pub Kings,BB/SAA
UID:CB4F22E21B3BD54894BE97186D6A51B:
DTSTAMP:2026-04-23T11:53:28Z:
SUMMARY:Goose Pub Kings at Ten Spots
DESCRIPTION;ENCODING=QUOTED-PRINTABLE:Goose Pub Kings at Ten Spots=0D=0A Time: 9:00 AM=0D=0A Location: Hidden Valley, Field 1
CLASS:PUBLIC
PRIORITY:5
BEGIN:VALARM
TRIGGER:-PT2520M
ACTION:DISPLAY
DESCRIPTION:Reminder
END:VALARM
END:VEVENT
BEGIN:VEVENT
DTSTART:2009-08-23T06:30:00Z
DTEND:2009-08-23T09:00:00Z
LOCATION:HV1: Hidden Valley, Field 1
CATEGORIES:Softball,Goose Pub Kings,BB/SAA
UID:8E197833D2DEF248B969FE5B701EB72:
DTSTAMP:2026-04-23T11:53:28Z:
SUMMARY:Goose Pub Kings at Rally Killers
DESCRIPTION;ENCODING=QUOTED-PRINTABLE:Goose Pub Kings at Rally Killers=0D=0A Time: 11:30 AM=0D=0A Location: Hidden Valley, Field 1
CLASS:PUBLIC
PRIORITY:5
BEGIN:VALARM
TRIGGER:-PT2670M
ACTION:DISPLAY
DESCRIPTION:Reminder
END:VALARM
END:VEVENT
BEGIN:VEVENT
DTSTART:2009-08-30T06:30:00Z
DTEND:2009-08-30T09:00:00Z
LOCATION:HV1: Hidden Valley, Field 1
CATEGORIES:Softball,Goose Pub Kings,BB/SAA
UID:55EE83670F4314A9077420ADB85CAA:
DTSTAMP:2026-04-23T11:53:28Z:
SUMMARY:Bellevue Bulldogs at Goose Pub Kings
DESCRIPTION;ENCODING=QUOTED-PRINTABLE:Bellevue Bulldogs at Goose Pub Kings=0D=0A Time: 11:30 AM=0D=0A Location: Hidden Valley, Field 1
CLASS:PUBLIC
PRIORITY:5
BEGIN:VALARM
TRIGGER:-PT2670M
ACTION:DISPLAY
DESCRIPTION:Reminder
END:VALARM
END:VEVENT
END:VCALENDAR
