BEGIN:VCALENDAR
PRODID:-//Microsoft Corporation//Outlook 11.0 MIMEDIR//EN
VERSION:2.0
METHOD:PUBLISH
BEGIN:VEVENT
DTSTART:2009-07-12T04:00:00Z
DTEND:2009-07-12T06:30:00Z
LOCATION:HV1: Hidden Valley, Field 1
CATEGORIES:Softball,Bellevue Bulldogs,BB/SAA
UID:341F01A74F4FC418A2108A144A811F:
DTSTAMP:2026-04-23T11:57:37Z:
SUMMARY:Ten Spots at Bellevue Bulldogs
DESCRIPTION;ENCODING=QUOTED-PRINTABLE:Ten Spots at Bellevue Bulldogs=0D=0A Time: 9:00 AM=0D=0A Location: Hidden Valley, Field 1
CLASS:PUBLIC
PRIORITY:5
BEGIN:VALARM
TRIGGER:-PT2520M
ACTION:DISPLAY
DESCRIPTION:Reminder
END:VALARM
END:VEVENT
BEGIN:VEVENT
DTSTART:2009-07-20T01:00:00Z
DTEND:2009-07-20T03:30:00Z
LOCATION:HV1: Hidden Valley, Field 1
CATEGORIES:Softball,Bellevue Bulldogs,BB/SAA
UID:E07635C3F9FDC4D9D9F32972E787211:
DTSTAMP:2026-04-23T11:57:37Z:
SUMMARY:Bellevue Bulldogs at Carpet To Go - Sunday
DESCRIPTION;ENCODING=QUOTED-PRINTABLE:Bellevue Bulldogs at Carpet To Go - Sunday=0D=0A Time: 6:00 PM=0D=0A Location: Hidden Valley, Field 1
CLASS:PUBLIC
PRIORITY:5
BEGIN:VALARM
TRIGGER:-PT3060M
ACTION:DISPLAY
DESCRIPTION:Reminder
END:VALARM
END:VEVENT
BEGIN:VEVENT
DTSTART:2009-07-26T06:30:00Z
DTEND:2009-07-26T09:00:00Z
LOCATION:HV1: Hidden Valley, Field 1
CATEGORIES:Softball,Bellevue Bulldogs,BB/SAA
UID:8FAC2A56EB813F449BC778A2D748A8AD:
DTSTAMP:2026-04-23T11:57:37Z:
SUMMARY:Fog, The at Bellevue Bulldogs
DESCRIPTION;ENCODING=QUOTED-PRINTABLE:Fog, The at Bellevue Bulldogs=0D=0A Time: 11:30 AM=0D=0A Location: Hidden Valley, Field 1
CLASS:PUBLIC
PRIORITY:5
BEGIN:VALARM
TRIGGER:-PT2670M
ACTION:DISPLAY
DESCRIPTION:Reminder
END:VALARM
END:VEVENT
BEGIN:VEVENT
DTSTART:2009-08-02T04:00:00Z
DTEND:2009-08-02T06:30:00Z
LOCATION:HV1: Hidden Valley, Field 1
CATEGORIES:Softball,Bellevue Bulldogs,BB/SAA
UID:3D8D61AA19ACEB4BA85D5DA713BCEB:
DTSTAMP:2026-04-23T11:57:37Z:
SUMMARY:Bellevue Bulldogs at Goose Pub Kings
DESCRIPTION;ENCODING=QUOTED-PRINTABLE:Bellevue Bulldogs at Goose Pub Kings=0D=0A Time: 9:00 AM=0D=0A Location: Hidden Valley, Field 1
CLASS:PUBLIC
PRIORITY:5
BEGIN:VALARM
TRIGGER:-PT2520M
ACTION:DISPLAY
DESCRIPTION:Reminder
END:VALARM
END:VEVENT
BEGIN:VEVENT
DTSTART:2009-08-09T06:30:00Z
DTEND:2009-08-09T09:00:00Z
LOCATION:HV1: Hidden Valley, Field 1
CATEGORIES:Softball,Bellevue Bulldogs,BB/SAA
UID:357DE01514772F42B959ACC946F8259E:
DTSTAMP:2026-04-23T11:57:37Z:
SUMMARY:Rally Killers at Bellevue Bulldogs
DESCRIPTION;ENCODING=QUOTED-PRINTABLE:Rally Killers at Bellevue Bulldogs=0D=0A Time: 11:30 AM=0D=0A Location: Hidden Valley, Field 1
CLASS:PUBLIC
PRIORITY:5
BEGIN:VALARM
TRIGGER:-PT2670M
ACTION:DISPLAY
DESCRIPTION:Reminder
END:VALARM
END:VEVENT
BEGIN:VEVENT
DTSTART:2009-08-16T06:30:00Z
DTEND:2009-08-16T09:00:00Z
LOCATION:HV1: Hidden Valley, Field 1
CATEGORIES:Softball,Bellevue Bulldogs,BB/SAA
UID:D2CE1F1C6E2CCC42B532DFE56B90451E:
DTSTAMP:2026-04-23T11:57:37Z:
SUMMARY:Bellevue Bulldogs at Fog, The
DESCRIPTION;ENCODING=QUOTED-PRINTABLE:Bellevue Bulldogs at Fog, The=0D=0A Time: 11:30 AM=0D=0A Location: Hidden Valley, Field 1
CLASS:PUBLIC
PRIORITY:5
BEGIN:VALARM
TRIGGER:-PT2670M
ACTION:DISPLAY
DESCRIPTION:Reminder
END:VALARM
END:VEVENT
BEGIN:VEVENT
DTSTART:2009-08-24T01:00:00Z
DTEND:2009-08-24T03:30:00Z
LOCATION:HV1: Hidden Valley, Field 1
CATEGORIES:Softball,Bellevue Bulldogs,BB/SAA
UID:631718E32E21C24AA669C170D3E0EE3D:
DTSTAMP:2026-04-23T11:57:37Z:
SUMMARY:Carpet To Go - Sunday at Bellevue Bulldogs
DESCRIPTION;ENCODING=QUOTED-PRINTABLE:Carpet To Go - Sunday at Bellevue Bulldogs=0D=0A Time: 6:00 PM=0D=0A Location: Hidden Valley, Field 1
CLASS:PUBLIC
PRIORITY:5
BEGIN:VALARM
TRIGGER:-PT3060M
ACTION:DISPLAY
DESCRIPTION:Reminder
END:VALARM
END:VEVENT
BEGIN:VEVENT
DTSTART:2009-08-30T06:30:00Z
DTEND:2009-08-30T09:00:00Z
LOCATION:HV1: Hidden Valley, Field 1
CATEGORIES:Softball,Bellevue Bulldogs,BB/SAA
UID:E15A5115578BBB4D927981C223F13F71:
DTSTAMP:2026-04-23T11:57:37Z:
SUMMARY:Bellevue Bulldogs at Goose Pub Kings
DESCRIPTION;ENCODING=QUOTED-PRINTABLE:Bellevue Bulldogs at Goose Pub Kings=0D=0A Time: 11:30 AM=0D=0A Location: Hidden Valley, Field 1
CLASS:PUBLIC
PRIORITY:5
BEGIN:VALARM
TRIGGER:-PT2670M
ACTION:DISPLAY
DESCRIPTION:Reminder
END:VALARM
END:VEVENT
END:VCALENDAR
