BEGIN:VCALENDAR
PRODID:-//Microsoft Corporation//Outlook 11.0 MIMEDIR//EN
VERSION:2.0
METHOD:PUBLISH
BEGIN:VEVENT
DTSTART:2009-07-18T01:00:00Z
DTEND:2009-07-18T03:30:00Z
LOCATION:HV1: Hidden Valley, Field 1
CATEGORIES:Softball,Taters,BB/SAA
UID:ABFAC6F42D61942AC8FDACD525676ED:
DTSTAMP:2026-04-23T08:43:52Z:
SUMMARY:Taters at All Saints
DESCRIPTION;ENCODING=QUOTED-PRINTABLE:Taters at All Saints=0D=0A Time: 6:00 PM=0D=0A Location: Hidden Valley, Field 1
CLASS:PUBLIC
PRIORITY:5
BEGIN:VALARM
TRIGGER:-PT180M
ACTION:DISPLAY
DESCRIPTION:Reminder
END:VALARM
END:VEVENT
BEGIN:VEVENT
DTSTART:2009-07-25T03:30:00Z
DTEND:2009-07-25T06:00:00Z
LOCATION:HV1: Hidden Valley, Field 1
CATEGORIES:Softball,Taters,BB/SAA
UID:5A562B15E2DDCA40851EAEB527B42198:
DTSTAMP:2026-04-23T08:43:52Z:
SUMMARY:Goose Pub Wingmen at Taters
DESCRIPTION;ENCODING=QUOTED-PRINTABLE:Goose Pub Wingmen at Taters=0D=0A Time: 8:30 PM=0D=0A Location: Hidden Valley, Field 1
CLASS:PUBLIC
PRIORITY:5
BEGIN:VALARM
TRIGGER:-PT330M
ACTION:DISPLAY
DESCRIPTION:Reminder
END:VALARM
END:VEVENT
BEGIN:VEVENT
DTSTART:2009-08-01T01:00:00Z
DTEND:2009-08-01T03:30:00Z
LOCATION:HV1: Hidden Valley, Field 1
CATEGORIES:Softball,Taters,BB/SAA
UID:EB3781ADD88E84B87E8DC37872791CA:
DTSTAMP:2026-04-23T08:43:52Z:
SUMMARY:Taters at J. Michael's
DESCRIPTION;ENCODING=QUOTED-PRINTABLE:Taters at J. Michael's=0D=0A Time: 6:00 PM=0D=0A Location: Hidden Valley, Field 1
CLASS:PUBLIC
PRIORITY:5
BEGIN:VALARM
TRIGGER:-PT180M
ACTION:DISPLAY
DESCRIPTION:Reminder
END:VALARM
END:VEVENT
BEGIN:VEVENT
DTSTART:2009-08-05T01:00:00Z
DTEND:2009-08-05T03:30:00Z
LOCATION:MM6: Marymoor, Field 6
CATEGORIES:Softball,Taters,BB/SAA
UID:7423B2D0E495CC4A9147FCA5299BFF49:
DTSTAMP:2026-04-23T08:43:52Z:
SUMMARY:Taters at Eastside Eagles
DESCRIPTION;ENCODING=QUOTED-PRINTABLE:Taters at Eastside Eagles=0D=0A Time: 6:00 PM=0D=0A Location: Marymoor, Field 6
CLASS:PUBLIC
PRIORITY:5
BEGIN:VALARM
TRIGGER:-PT180M
ACTION:DISPLAY
DESCRIPTION:Reminder
END:VALARM
END:VEVENT
BEGIN:VEVENT
DTSTART:2009-08-08T03:30:00Z
DTEND:2009-08-08T06:00:00Z
LOCATION:HV1: Hidden Valley, Field 1
CATEGORIES:Softball,Taters,BB/SAA
UID:BA46321B97A7E24F8948B59C1BB0A2FD:
DTSTAMP:2026-04-23T08:43:52Z:
SUMMARY:JC Wright Sales at Taters
DESCRIPTION;ENCODING=QUOTED-PRINTABLE:JC Wright Sales at Taters=0D=0A Time: 8:30 PM=0D=0A Location: Hidden Valley, Field 1
CLASS:PUBLIC
PRIORITY:5
BEGIN:VALARM
TRIGGER:-PT330M
ACTION:DISPLAY
DESCRIPTION:Reminder
END:VALARM
END:VEVENT
BEGIN:VEVENT
DTSTART:2009-08-15T01:00:00Z
DTEND:2009-08-15T03:30:00Z
LOCATION:HV1: Hidden Valley, Field 1
CATEGORIES:Softball,Taters,BB/SAA
UID:98F9AA9EFE4C348805965617D67846:
DTSTAMP:2026-04-23T08:43:52Z:
SUMMARY:Coaches, The at Taters
DESCRIPTION;ENCODING=QUOTED-PRINTABLE:Coaches, The at Taters=0D=0A Time: 6:00 PM=0D=0A Location: Hidden Valley, Field 1
CLASS:PUBLIC
PRIORITY:5
BEGIN:VALARM
TRIGGER:-PT180M
ACTION:DISPLAY
DESCRIPTION:Reminder
END:VALARM
END:VEVENT
BEGIN:VEVENT
DTSTART:2009-08-22T03:30:00Z
DTEND:2009-08-22T06:00:00Z
LOCATION:HV1: Hidden Valley, Field 1
CATEGORIES:Softball,Taters,BB/SAA
UID:16E7DA26A2DB18458AFC4DE4C395676:
DTSTAMP:2026-04-23T08:43:52Z:
SUMMARY:Balls Deep at Taters
DESCRIPTION;ENCODING=QUOTED-PRINTABLE:Balls Deep at Taters=0D=0A Time: 8:30 PM=0D=0A Location: Hidden Valley, Field 1
CLASS:PUBLIC
PRIORITY:5
BEGIN:VALARM
TRIGGER:-PT330M
ACTION:DISPLAY
DESCRIPTION:Reminder
END:VALARM
END:VEVENT
BEGIN:VEVENT
DTSTART:2009-08-29T01:00:00Z
DTEND:2009-08-29T03:30:00Z
LOCATION:HV1: Hidden Valley, Field 1
CATEGORIES:Softball,Taters,BB/SAA
UID:4F2986D5910D849BE98338D1087F923:
DTSTAMP:2026-04-23T08:43:52Z:
SUMMARY:I'd Hit It at Taters
DESCRIPTION;ENCODING=QUOTED-PRINTABLE:I'd Hit It at Taters=0D=0A Time: 6:00 PM=0D=0A Location: Hidden Valley, Field 1
CLASS:PUBLIC
PRIORITY:5
BEGIN:VALARM
TRIGGER:-PT180M
ACTION:DISPLAY
DESCRIPTION:Reminder
END:VALARM
END:VEVENT
BEGIN:VEVENT
DTSTART:2009-09-12T03:30:00Z
DTEND:2009-09-12T06:00:00Z
LOCATION:HV1: Hidden Valley, Field 1
CATEGORIES:Softball,Taters,BB/SAA
UID:3B723735C826E46A21D7A24DEDB1225:
DTSTAMP:2026-04-23T08:43:52Z:
SUMMARY:Taters at 70's Bush
DESCRIPTION;ENCODING=QUOTED-PRINTABLE:Taters at 70's Bush=0D=0A Time: 8:30 PM=0D=0A Location: Hidden Valley, Field 1
CLASS:PUBLIC
PRIORITY:5
BEGIN:VALARM
TRIGGER:-PT330M
ACTION:DISPLAY
DESCRIPTION:Reminder
END:VALARM
END:VEVENT
BEGIN:VEVENT
DTSTART:2009-09-19T01:00:00Z
DTEND:2009-09-19T03:30:00Z
LOCATION:HV1: Hidden Valley, Field 1
CATEGORIES:Softball,Taters,BB/SAA
UID:8EF9322762BB4FB57E9B594B2AED19:
DTSTAMP:2026-04-23T08:43:52Z:
SUMMARY:Coaches, The at Taters
DESCRIPTION;ENCODING=QUOTED-PRINTABLE:Coaches, The at Taters=0D=0A Time: 6:00 PM=0D=0A Location: Hidden Valley, Field 1
CLASS:PUBLIC
PRIORITY:5
BEGIN:VALARM
TRIGGER:-PT180M
ACTION:DISPLAY
DESCRIPTION:Reminder
END:VALARM
END:VEVENT
END:VCALENDAR
