BEGIN:VCALENDAR
PRODID:-//Microsoft Corporation//Outlook 11.0 MIMEDIR//EN
VERSION:2.0
METHOD:PUBLISH
BEGIN:VEVENT
DTSTART:2009-07-16T01:00:00Z
DTEND:2009-07-16T03:30:00Z
LOCATION:SAM2: Sammamish High School, Field 2
CATEGORIES:Softball,J. Michael's,BB/SAA
UID:C7EC1CC971F95548A4979C14FD27B642:
DTSTAMP:2026-04-21T05:42:57Z:
SUMMARY:J. Michael's at I'd Hit It
DESCRIPTION;ENCODING=QUOTED-PRINTABLE:J. Michael's at I'd Hit It=0D=0A Time: 6:00 PM=0D=0A Location: Sammamish High School, Field 2
CLASS:PUBLIC
PRIORITY:5
BEGIN:VALARM
TRIGGER:-PT180M
ACTION:DISPLAY
DESCRIPTION:Reminder
END:VALARM
END:VEVENT
BEGIN:VEVENT
DTSTART:2009-07-24T01:00:00Z
DTEND:2009-07-24T03:30:00Z
LOCATION:MM7: Marymoor, Field 7
CATEGORIES:Softball,J. Michael's,BB/SAA
UID:CBF495B6458414299D21AA0BBE455B4:
DTSTAMP:2026-04-21T05:42:57Z:
SUMMARY:JC Wright Sales at J. Michael's
DESCRIPTION;ENCODING=QUOTED-PRINTABLE:JC Wright Sales at J. Michael's=0D=0A Time: 6:00 PM=0D=0A Location: Marymoor, Field 7
CLASS:PUBLIC
PRIORITY:5
BEGIN:VALARM
TRIGGER:-PT180M
ACTION:DISPLAY
DESCRIPTION:Reminder
END:VALARM
END:VEVENT
BEGIN:VEVENT
DTSTART:2009-08-01T01:00:00Z
DTEND:2009-08-01T03:30:00Z
LOCATION:HV1: Hidden Valley, Field 1
CATEGORIES:Softball,J. Michael's,BB/SAA
UID:247EEC1CF3A4AC46B847B7EC64F7B6D3:
DTSTAMP:2026-04-21T05:42:57Z:
SUMMARY:Taters at J. Michael's
DESCRIPTION;ENCODING=QUOTED-PRINTABLE:Taters at J. Michael's=0D=0A Time: 6:00 PM=0D=0A Location: Hidden Valley, Field 1
CLASS:PUBLIC
PRIORITY:5
BEGIN:VALARM
TRIGGER:-PT180M
ACTION:DISPLAY
DESCRIPTION:Reminder
END:VALARM
END:VEVENT
BEGIN:VEVENT
DTSTART:2009-08-05T01:00:00Z
DTEND:2009-08-05T03:30:00Z
LOCATION:MM8: Marymoor, Field 8
CATEGORIES:Softball,J. Michael's,BB/SAA
UID:69A34583B4DA468BBE2733FFF7428:
DTSTAMP:2026-04-21T05:42:57Z:
SUMMARY:All Saints at J. Michael's
DESCRIPTION;ENCODING=QUOTED-PRINTABLE:All Saints at J. Michael's=0D=0A Time: 6:00 PM=0D=0A Location: Marymoor, Field 8
CLASS:PUBLIC
PRIORITY:5
BEGIN:VALARM
TRIGGER:-PT180M
ACTION:DISPLAY
DESCRIPTION:Reminder
END:VALARM
END:VEVENT
BEGIN:VEVENT
DTSTART:2009-08-14T01:00:00Z
DTEND:2009-08-14T03:30:00Z
LOCATION:MM6: Marymoor, Field 6
CATEGORIES:Softball,J. Michael's,BB/SAA
UID:4B41F20240E64092D76B52B9132BA2:
DTSTAMP:2026-04-21T05:42:57Z:
SUMMARY:Goose Pub Wingmen at J. Michael's
DESCRIPTION;ENCODING=QUOTED-PRINTABLE:Goose Pub Wingmen at J. Michael's=0D=0A Time: 6:00 PM=0D=0A Location: Marymoor, Field 6
CLASS:PUBLIC
PRIORITY:5
BEGIN:VALARM
TRIGGER:-PT180M
ACTION:DISPLAY
DESCRIPTION:Reminder
END:VALARM
END:VEVENT
BEGIN:VEVENT
DTSTART:2009-08-20T01:00:00Z
DTEND:2009-08-20T03:30:00Z
LOCATION:MM7: Marymoor, Field 7
CATEGORIES:Softball,J. Michael's,BB/SAA
UID:A9ECA63D5C207141AC35946191356A49:
DTSTAMP:2026-04-21T05:42:57Z:
SUMMARY:70's Bush at J. Michael's
DESCRIPTION;ENCODING=QUOTED-PRINTABLE:70's Bush at J. Michael's=0D=0A Time: 6:00 PM=0D=0A Location: Marymoor, Field 7
CLASS:PUBLIC
PRIORITY:5
BEGIN:VALARM
TRIGGER:-PT180M
ACTION:DISPLAY
DESCRIPTION:Reminder
END:VALARM
END:VEVENT
BEGIN:VEVENT
DTSTART:2009-08-26T03:30:00Z
DTEND:2009-08-26T06:00:00Z
LOCATION:HV1: Hidden Valley, Field 1
CATEGORIES:Softball,J. Michael's,BB/SAA
UID:8B9389C486B454E951EF8B569E1B3D0:
DTSTAMP:2026-04-21T05:42:57Z:
SUMMARY:J. Michael's at Eastside Eagles
DESCRIPTION;ENCODING=QUOTED-PRINTABLE:J. Michael's at Eastside Eagles=0D=0A Time: 8:30 PM=0D=0A Location: Hidden Valley, Field 1
CLASS:PUBLIC
PRIORITY:5
BEGIN:VALARM
TRIGGER:-PT330M
ACTION:DISPLAY
DESCRIPTION:Reminder
END:VALARM
END:VEVENT
BEGIN:VEVENT
DTSTART:2009-09-02T03:30:00Z
DTEND:2009-09-02T06:00:00Z
LOCATION:MM8: Marymoor, Field 8
CATEGORIES:Softball,J. Michael's,BB/SAA
UID:CB99E175B572CA43A3BED987254BBD8:
DTSTAMP:2026-04-21T05:42:57Z:
SUMMARY:J. Michael's at Coaches, The
DESCRIPTION;ENCODING=QUOTED-PRINTABLE:J. Michael's at Coaches, The=0D=0A Time: 8:30 PM=0D=0A Location: Marymoor, Field 8
CLASS:PUBLIC
PRIORITY:5
BEGIN:VALARM
TRIGGER:-PT330M
ACTION:DISPLAY
DESCRIPTION:Reminder
END:VALARM
END:VEVENT
BEGIN:VEVENT
DTSTART:2009-09-10T01:00:00Z
DTEND:2009-09-10T03:30:00Z
LOCATION:HV1: Hidden Valley, Field 1
CATEGORIES:Softball,J. Michael's,BB/SAA
UID:A06F45E677228D429925FAA274E4BA62:
DTSTAMP:2026-04-21T05:42:57Z:
SUMMARY:J. Michael's at Balls Deep
DESCRIPTION;ENCODING=QUOTED-PRINTABLE:J. Michael's at Balls Deep=0D=0A Time: 6:00 PM=0D=0A Location: Hidden Valley, Field 1
CLASS:PUBLIC
PRIORITY:5
BEGIN:VALARM
TRIGGER:-PT180M
ACTION:DISPLAY
DESCRIPTION:Reminder
END:VALARM
END:VEVENT
BEGIN:VEVENT
DTSTART:2009-09-16T03:30:00Z
DTEND:2009-09-16T06:00:00Z
LOCATION:MM7: Marymoor, Field 7
CATEGORIES:Softball,J. Michael's,BB/SAA
UID:D3D451BE6F1C27499A2FEA4E9651ADB:
DTSTAMP:2026-04-21T05:42:57Z:
SUMMARY:Goose Pub Wingmen at J. Michael's
DESCRIPTION;ENCODING=QUOTED-PRINTABLE:Goose Pub Wingmen at J. Michael's=0D=0A Time: 8:30 PM=0D=0A Location: Marymoor, Field 7
CLASS:PUBLIC
PRIORITY:5
BEGIN:VALARM
TRIGGER:-PT330M
ACTION:DISPLAY
DESCRIPTION:Reminder
END:VALARM
END:VEVENT
BEGIN:VEVENT
DTSTART:2009-09-18T01:00:00Z
DTEND:2009-09-18T03:30:00Z
LOCATION:MM7: Marymoor, Field 7
CATEGORIES:Softball,J. Michael's,BB/SAA
UID:16537B623BA24241837AB9D3D6AD6FD9:
DTSTAMP:2026-04-21T05:42:57Z:
SUMMARY:Goose Pub Wingmen at J. Michael's
DESCRIPTION;ENCODING=QUOTED-PRINTABLE:Goose Pub Wingmen at J. Michael's=0D=0A Time: 6:00 PM=0D=0A Location: Marymoor, Field 7
CLASS:PUBLIC
PRIORITY:5
BEGIN:VALARM
TRIGGER:-PT180M
ACTION:DISPLAY
DESCRIPTION:Reminder
END:VALARM
END:VEVENT
END:VCALENDAR
