BEGIN:VCALENDAR
PRODID:-//Microsoft Corporation//Outlook 11.0 MIMEDIR//EN
VERSION:2.0
METHOD:PUBLISH
BEGIN:VEVENT
DTSTART:2009-07-15T01:00:00Z
DTEND:2009-07-15T03:30:00Z
LOCATION:SAM2: Sammamish High School, Field 2
CATEGORIES:Softball,Balls Deep,BB/SAA
UID:916CC1849CA48347A3CE2CF4FAECBF39:
DTSTAMP:2026-04-21T05:33:57Z:
SUMMARY:Eastside Eagles at Balls Deep
DESCRIPTION;ENCODING=QUOTED-PRINTABLE:Eastside Eagles at Balls Deep=0D=0A Time: 6:00 PM=0D=0A Location: Sammamish High School, Field 2
CLASS:PUBLIC
PRIORITY:5
BEGIN:VALARM
TRIGGER:-PT180M
ACTION:DISPLAY
DESCRIPTION:Reminder
END:VALARM
END:VEVENT
BEGIN:VEVENT
DTSTART:2009-07-22T03:30:00Z
DTEND:2009-07-22T06:00:00Z
LOCATION:MM6: Marymoor, Field 6
CATEGORIES:Softball,Balls Deep,BB/SAA
UID:51E1C5B8257A141A08AE8392855B84:
DTSTAMP:2026-04-21T05:33:57Z:
SUMMARY:Coaches, The at Balls Deep
DESCRIPTION;ENCODING=QUOTED-PRINTABLE:Coaches, The at Balls Deep=0D=0A Time: 8:30 PM=0D=0A Location: Marymoor, Field 6
CLASS:PUBLIC
PRIORITY:5
BEGIN:VALARM
TRIGGER:-PT330M
ACTION:DISPLAY
DESCRIPTION:Reminder
END:VALARM
END:VEVENT
BEGIN:VEVENT
DTSTART:2009-07-29T03:30:00Z
DTEND:2009-07-29T06:00:00Z
LOCATION:MM7: Marymoor, Field 7
CATEGORIES:Softball,Balls Deep,BB/SAA
UID:4B7FA29F3BB7140BB61C4ECDCF46A29:
DTSTAMP:2026-04-21T05:33:57Z:
SUMMARY:Balls Deep at 70's Bush
DESCRIPTION;ENCODING=QUOTED-PRINTABLE:Balls Deep at 70's Bush=0D=0A Time: 8:30 PM=0D=0A Location: Marymoor, Field 7
CLASS:PUBLIC
PRIORITY:5
BEGIN:VALARM
TRIGGER:-PT330M
ACTION:DISPLAY
DESCRIPTION:Reminder
END:VALARM
END:VEVENT
BEGIN:VEVENT
DTSTART:2009-08-05T03:30:00Z
DTEND:2009-08-05T06:00:00Z
LOCATION:MM8: Marymoor, Field 8
CATEGORIES:Softball,Balls Deep,BB/SAA
UID:F849C6CD14DF5947B1BD4AA3656A89E6:
DTSTAMP:2026-04-21T05:33:57Z:
SUMMARY:Balls Deep at I'd Hit It
DESCRIPTION;ENCODING=QUOTED-PRINTABLE:Balls Deep at I'd Hit It=0D=0A Time: 8:30 PM=0D=0A Location: Marymoor, Field 8
CLASS:PUBLIC
PRIORITY:5
BEGIN:VALARM
TRIGGER:-PT330M
ACTION:DISPLAY
DESCRIPTION:Reminder
END:VALARM
END:VEVENT
BEGIN:VEVENT
DTSTART:2009-08-13T03:30:00Z
DTEND:2009-08-13T06:00:00Z
LOCATION:MM8: Marymoor, Field 8
CATEGORIES:Softball,Balls Deep,BB/SAA
UID:33B88C4FB9B1D40AA14761A1F77F38:
DTSTAMP:2026-04-21T05:33:57Z:
SUMMARY:Balls Deep at JC Wright Sales
DESCRIPTION;ENCODING=QUOTED-PRINTABLE:Balls Deep at JC Wright Sales=0D=0A Time: 8:30 PM=0D=0A Location: Marymoor, Field 8
CLASS:PUBLIC
PRIORITY:5
BEGIN:VALARM
TRIGGER:-PT330M
ACTION:DISPLAY
DESCRIPTION:Reminder
END:VALARM
END:VEVENT
BEGIN:VEVENT
DTSTART:2009-08-22T03:30:00Z
DTEND:2009-08-22T06:00:00Z
LOCATION:HV1: Hidden Valley, Field 1
CATEGORIES:Softball,Balls Deep,BB/SAA
UID:165EF67471C4BAB247BC469392917:
DTSTAMP:2026-04-21T05:33:57Z:
SUMMARY:Balls Deep at Taters
DESCRIPTION;ENCODING=QUOTED-PRINTABLE:Balls Deep at Taters=0D=0A Time: 8:30 PM=0D=0A Location: Hidden Valley, Field 1
CLASS:PUBLIC
PRIORITY:5
BEGIN:VALARM
TRIGGER:-PT330M
ACTION:DISPLAY
DESCRIPTION:Reminder
END:VALARM
END:VEVENT
BEGIN:VEVENT
DTSTART:2009-08-26T03:30:00Z
DTEND:2009-08-26T06:00:00Z
LOCATION:MM8: Marymoor, Field 8
CATEGORIES:Softball,Balls Deep,BB/SAA
UID:E3C3AA524A44DF49B147ADFE3AC51D57:
DTSTAMP:2026-04-21T05:33:57Z:
SUMMARY:Balls Deep at All Saints
DESCRIPTION;ENCODING=QUOTED-PRINTABLE:Balls Deep at All Saints=0D=0A Time: 8:30 PM=0D=0A Location: Marymoor, Field 8
CLASS:PUBLIC
PRIORITY:5
BEGIN:VALARM
TRIGGER:-PT330M
ACTION:DISPLAY
DESCRIPTION:Reminder
END:VALARM
END:VEVENT
BEGIN:VEVENT
DTSTART:2009-09-03T03:30:00Z
DTEND:2009-09-03T06:00:00Z
LOCATION:MM7: Marymoor, Field 7
CATEGORIES:Softball,Balls Deep,BB/SAA
UID:AA549F445B6794ABF4E7FE33C90F0B0:
DTSTAMP:2026-04-21T05:33:57Z:
SUMMARY:Goose Pub Wingmen at Balls Deep
DESCRIPTION;ENCODING=QUOTED-PRINTABLE:Goose Pub Wingmen at Balls Deep=0D=0A Time: 8:30 PM=0D=0A Location: Marymoor, Field 7
CLASS:PUBLIC
PRIORITY:5
BEGIN:VALARM
TRIGGER:-PT330M
ACTION:DISPLAY
DESCRIPTION:Reminder
END:VALARM
END:VEVENT
BEGIN:VEVENT
DTSTART:2009-09-10T01:00:00Z
DTEND:2009-09-10T03:30:00Z
LOCATION:HV1: Hidden Valley, Field 1
CATEGORIES:Softball,Balls Deep,BB/SAA
UID:9439AE82618BC4AAD77AC02CBFCAA:
DTSTAMP:2026-04-21T05:33:57Z:
SUMMARY:J. Michael's at Balls Deep
DESCRIPTION;ENCODING=QUOTED-PRINTABLE:J. Michael's at Balls Deep=0D=0A Time: 6:00 PM=0D=0A Location: Hidden Valley, Field 1
CLASS:PUBLIC
PRIORITY:5
BEGIN:VALARM
TRIGGER:-PT180M
ACTION:DISPLAY
DESCRIPTION:Reminder
END:VALARM
END:VEVENT
END:VCALENDAR
