BEGIN:VCALENDAR
PRODID:-//Microsoft Corporation//Outlook 11.0 MIMEDIR//EN
VERSION:2.0
METHOD:PUBLISH
BEGIN:VEVENT
DTSTART:2009-07-18T01:00:00Z
DTEND:2009-07-18T03:30:00Z
LOCATION:HV1: Hidden Valley, Field 1
CATEGORIES:Softball,All Saints,BB/SAA
UID:D6EBAF247A29FB42B5BD2B85ABA93068:
DTSTAMP:2026-04-21T07:17:15Z:
SUMMARY:Taters at All Saints
DESCRIPTION;ENCODING=QUOTED-PRINTABLE:Taters at All Saints=0D=0A Time: 6:00 PM=0D=0A Location: Hidden Valley, Field 1
CLASS:PUBLIC
PRIORITY:5
BEGIN:VALARM
TRIGGER:-PT180M
ACTION:DISPLAY
DESCRIPTION:Reminder
END:VALARM
END:VEVENT
BEGIN:VEVENT
DTSTART:2009-07-24T03:30:00Z
DTEND:2009-07-24T06:00:00Z
LOCATION:MM7: Marymoor, Field 7
CATEGORIES:Softball,All Saints,BB/SAA
UID:244FE214EF03F429C95CE7C91B2BCF0:
DTSTAMP:2026-04-21T07:17:15Z:
SUMMARY:All Saints at 70's Bush
DESCRIPTION;ENCODING=QUOTED-PRINTABLE:All Saints at 70's Bush=0D=0A Time: 8:30 PM=0D=0A Location: Marymoor, Field 7
CLASS:PUBLIC
PRIORITY:5
BEGIN:VALARM
TRIGGER:-PT330M
ACTION:DISPLAY
DESCRIPTION:Reminder
END:VALARM
END:VEVENT
BEGIN:VEVENT
DTSTART:2009-07-29T03:30:00Z
DTEND:2009-07-29T06:00:00Z
LOCATION:HV1: Hidden Valley, Field 1
CATEGORIES:Softball,All Saints,BB/SAA
UID:7049AC6DBFB9FE44B36FE260AA214CCD:
DTSTAMP:2026-04-21T07:17:15Z:
SUMMARY:All Saints at Goose Pub Wingmen
DESCRIPTION;ENCODING=QUOTED-PRINTABLE:All Saints at Goose Pub Wingmen=0D=0A Time: 8:30 PM=0D=0A Location: Hidden Valley, Field 1
CLASS:PUBLIC
PRIORITY:5
BEGIN:VALARM
TRIGGER:-PT330M
ACTION:DISPLAY
DESCRIPTION:Reminder
END:VALARM
END:VEVENT
BEGIN:VEVENT
DTSTART:2009-08-05T01:00:00Z
DTEND:2009-08-05T03:30:00Z
LOCATION:MM8: Marymoor, Field 8
CATEGORIES:Softball,All Saints,BB/SAA
UID:1DF37E90ADA61047B84D59407AD59B64:
DTSTAMP:2026-04-21T07:17:15Z:
SUMMARY:All Saints at J. Michael's
DESCRIPTION;ENCODING=QUOTED-PRINTABLE:All Saints at J. Michael's=0D=0A Time: 6:00 PM=0D=0A Location: Marymoor, Field 8
CLASS:PUBLIC
PRIORITY:5
BEGIN:VALARM
TRIGGER:-PT180M
ACTION:DISPLAY
DESCRIPTION:Reminder
END:VALARM
END:VEVENT
BEGIN:VEVENT
DTSTART:2009-08-12T03:30:00Z
DTEND:2009-08-12T06:00:00Z
LOCATION:MM7: Marymoor, Field 7
CATEGORIES:Softball,All Saints,BB/SAA
UID:5C5AE5A8993F4847AB5863C6653C45BE:
DTSTAMP:2026-04-21T07:17:15Z:
SUMMARY:All Saints at Eastside Eagles
DESCRIPTION;ENCODING=QUOTED-PRINTABLE:All Saints at Eastside Eagles=0D=0A Time: 8:30 PM=0D=0A Location: Marymoor, Field 7
CLASS:PUBLIC
PRIORITY:5
BEGIN:VALARM
TRIGGER:-PT330M
ACTION:DISPLAY
DESCRIPTION:Reminder
END:VALARM
END:VEVENT
BEGIN:VEVENT
DTSTART:2009-08-19T01:00:00Z
DTEND:2009-08-19T03:30:00Z
LOCATION:MM7: Marymoor, Field 7
CATEGORIES:Softball,All Saints,BB/SAA
UID:F8ECCD7B99A5534194D987B3933020CC:
DTSTAMP:2026-04-21T07:17:15Z:
SUMMARY:All Saints at Coaches, The
DESCRIPTION;ENCODING=QUOTED-PRINTABLE:All Saints at Coaches, The=0D=0A Time: 6:00 PM=0D=0A Location: Marymoor, Field 7
CLASS:PUBLIC
PRIORITY:5
BEGIN:VALARM
TRIGGER:-PT180M
ACTION:DISPLAY
DESCRIPTION:Reminder
END:VALARM
END:VEVENT
BEGIN:VEVENT
DTSTART:2009-08-26T03:30:00Z
DTEND:2009-08-26T06:00:00Z
LOCATION:MM8: Marymoor, Field 8
CATEGORIES:Softball,All Saints,BB/SAA
UID:453634694EDB3B4EB79C93B5B71EB193:
DTSTAMP:2026-04-21T07:17:15Z:
SUMMARY:Balls Deep at All Saints
DESCRIPTION;ENCODING=QUOTED-PRINTABLE:Balls Deep at All Saints=0D=0A Time: 8:30 PM=0D=0A Location: Marymoor, Field 8
CLASS:PUBLIC
PRIORITY:5
BEGIN:VALARM
TRIGGER:-PT330M
ACTION:DISPLAY
DESCRIPTION:Reminder
END:VALARM
END:VEVENT
BEGIN:VEVENT
DTSTART:2009-09-02T03:30:00Z
DTEND:2009-09-02T06:00:00Z
LOCATION:MM7: Marymoor, Field 7
CATEGORIES:Softball,All Saints,BB/SAA
UID:863746E52E69A4CA3A15434EBB4375A:
DTSTAMP:2026-04-21T07:17:15Z:
SUMMARY:I'd Hit It at All Saints
DESCRIPTION;ENCODING=QUOTED-PRINTABLE:I'd Hit It at All Saints=0D=0A Time: 8:30 PM=0D=0A Location: Marymoor, Field 7
CLASS:PUBLIC
PRIORITY:5
BEGIN:VALARM
TRIGGER:-PT330M
ACTION:DISPLAY
DESCRIPTION:Reminder
END:VALARM
END:VEVENT
BEGIN:VEVENT
DTSTART:2009-09-09T03:30:00Z
DTEND:2009-09-09T06:00:00Z
LOCATION:MM7: Marymoor, Field 7
CATEGORIES:Softball,All Saints,BB/SAA
UID:94737FD3EF2A1B4E87BD6B95AB343AC:
DTSTAMP:2026-04-21T07:17:15Z:
SUMMARY:JC Wright Sales at All Saints
DESCRIPTION;ENCODING=QUOTED-PRINTABLE:JC Wright Sales at All Saints=0D=0A Time: 8:30 PM=0D=0A Location: Marymoor, Field 7
CLASS:PUBLIC
PRIORITY:5
BEGIN:VALARM
TRIGGER:-PT330M
ACTION:DISPLAY
DESCRIPTION:Reminder
END:VALARM
END:VEVENT
END:VCALENDAR
