BEGIN:VCALENDAR
PRODID:-//Microsoft Corporation//Outlook 11.0 MIMEDIR//EN
VERSION:2.0
METHOD:PUBLISH
BEGIN:VEVENT
DTSTART:2009-07-15T01:00:00Z
DTEND:2009-07-15T03:30:00Z
LOCATION:MM3: Marymoor, Field 3
CATEGORIES:Softball,70's Bush,BB/SAA
UID:B1618A28B17DD4B8FF579C926080BB:
DTSTAMP:2026-04-21T07:17:16Z:
SUMMARY:70's Bush at Coaches, The
DESCRIPTION;ENCODING=QUOTED-PRINTABLE:70's Bush at Coaches, The=0D=0A Time: 6:00 PM=0D=0A Location: Marymoor, Field 3
CLASS:PUBLIC
PRIORITY:5
BEGIN:VALARM
TRIGGER:-PT180M
ACTION:DISPLAY
DESCRIPTION:Reminder
END:VALARM
END:VEVENT
BEGIN:VEVENT
DTSTART:2009-07-24T03:30:00Z
DTEND:2009-07-24T06:00:00Z
LOCATION:MM7: Marymoor, Field 7
CATEGORIES:Softball,70's Bush,BB/SAA
UID:84207A4540B76F479651D985FEBBEE1:
DTSTAMP:2026-04-21T07:17:16Z:
SUMMARY:All Saints at 70's Bush
DESCRIPTION;ENCODING=QUOTED-PRINTABLE:All Saints at 70's Bush=0D=0A Time: 8:30 PM=0D=0A Location: Marymoor, Field 7
CLASS:PUBLIC
PRIORITY:5
BEGIN:VALARM
TRIGGER:-PT330M
ACTION:DISPLAY
DESCRIPTION:Reminder
END:VALARM
END:VEVENT
BEGIN:VEVENT
DTSTART:2009-07-29T03:30:00Z
DTEND:2009-07-29T06:00:00Z
LOCATION:MM7: Marymoor, Field 7
CATEGORIES:Softball,70's Bush,BB/SAA
UID:2FF9EC4AD8544E42998AC6733D78EEA1:
DTSTAMP:2026-04-21T07:17:16Z:
SUMMARY:Balls Deep at 70's Bush
DESCRIPTION;ENCODING=QUOTED-PRINTABLE:Balls Deep at 70's Bush=0D=0A Time: 8:30 PM=0D=0A Location: Marymoor, Field 7
CLASS:PUBLIC
PRIORITY:5
BEGIN:VALARM
TRIGGER:-PT330M
ACTION:DISPLAY
DESCRIPTION:Reminder
END:VALARM
END:VEVENT
BEGIN:VEVENT
DTSTART:2009-08-05T03:30:00Z
DTEND:2009-08-05T06:00:00Z
LOCATION:MM7: Marymoor, Field 7
CATEGORIES:Softball,70's Bush,BB/SAA
UID:5D9C82913513F149AF15BCC654866887:
DTSTAMP:2026-04-21T07:17:16Z:
SUMMARY:70's Bush at Goose Pub Wingmen
DESCRIPTION;ENCODING=QUOTED-PRINTABLE:70's Bush at Goose Pub Wingmen=0D=0A Time: 8:30 PM=0D=0A Location: Marymoor, Field 7
CLASS:PUBLIC
PRIORITY:5
BEGIN:VALARM
TRIGGER:-PT330M
ACTION:DISPLAY
DESCRIPTION:Reminder
END:VALARM
END:VEVENT
BEGIN:VEVENT
DTSTART:2009-08-13T01:00:00Z
DTEND:2009-08-13T03:30:00Z
LOCATION:MM6: Marymoor, Field 6
CATEGORIES:Softball,70's Bush,BB/SAA
UID:8CA5359185CE5D49855E71FF5F376445:
DTSTAMP:2026-04-21T07:17:16Z:
SUMMARY:70's Bush at I'd Hit It
DESCRIPTION;ENCODING=QUOTED-PRINTABLE:70's Bush at I'd Hit It=0D=0A Time: 6:00 PM=0D=0A Location: Marymoor, Field 6
CLASS:PUBLIC
PRIORITY:5
BEGIN:VALARM
TRIGGER:-PT180M
ACTION:DISPLAY
DESCRIPTION:Reminder
END:VALARM
END:VEVENT
BEGIN:VEVENT
DTSTART:2009-08-20T01:00:00Z
DTEND:2009-08-20T03:30:00Z
LOCATION:MM7: Marymoor, Field 7
CATEGORIES:Softball,70's Bush,BB/SAA
UID:2E96EC3989DFBF40B3A37A56A87E582D:
DTSTAMP:2026-04-21T07:17:16Z:
SUMMARY:70's Bush at J. Michael's
DESCRIPTION;ENCODING=QUOTED-PRINTABLE:70's Bush at J. Michael's=0D=0A Time: 6:00 PM=0D=0A Location: Marymoor, Field 7
CLASS:PUBLIC
PRIORITY:5
BEGIN:VALARM
TRIGGER:-PT180M
ACTION:DISPLAY
DESCRIPTION:Reminder
END:VALARM
END:VEVENT
BEGIN:VEVENT
DTSTART:2009-08-27T03:30:00Z
DTEND:2009-08-27T06:00:00Z
LOCATION:HV1: Hidden Valley, Field 1
CATEGORIES:Softball,70's Bush,BB/SAA
UID:801937E133B31F4FB3F6481A1C682234:
DTSTAMP:2026-04-21T07:17:16Z:
SUMMARY:70's Bush at JC Wright Sales
DESCRIPTION;ENCODING=QUOTED-PRINTABLE:70's Bush at JC Wright Sales=0D=0A Time: 8:30 PM=0D=0A Location: Hidden Valley, Field 1
CLASS:PUBLIC
PRIORITY:5
BEGIN:VALARM
TRIGGER:-PT330M
ACTION:DISPLAY
DESCRIPTION:Reminder
END:VALARM
END:VEVENT
BEGIN:VEVENT
DTSTART:2009-09-02T03:30:00Z
DTEND:2009-09-02T06:00:00Z
LOCATION:MM6: Marymoor, Field 6
CATEGORIES:Softball,70's Bush,BB/SAA
UID:F672436E2CC4584480AE6B8A4DEFB7:
DTSTAMP:2026-04-21T07:17:16Z:
SUMMARY:Eastside Eagles at 70's Bush
DESCRIPTION;ENCODING=QUOTED-PRINTABLE:Eastside Eagles at 70's Bush=0D=0A Time: 8:30 PM=0D=0A Location: Marymoor, Field 6
CLASS:PUBLIC
PRIORITY:5
BEGIN:VALARM
TRIGGER:-PT330M
ACTION:DISPLAY
DESCRIPTION:Reminder
END:VALARM
END:VEVENT
BEGIN:VEVENT
DTSTART:2009-09-12T03:30:00Z
DTEND:2009-09-12T06:00:00Z
LOCATION:HV1: Hidden Valley, Field 1
CATEGORIES:Softball,70's Bush,BB/SAA
UID:695CF68FF228D34DA3682EC343833E8C:
DTSTAMP:2026-04-21T07:17:16Z:
SUMMARY:Taters at 70's Bush
DESCRIPTION;ENCODING=QUOTED-PRINTABLE:Taters at 70's Bush=0D=0A Time: 8:30 PM=0D=0A Location: Hidden Valley, Field 1
CLASS:PUBLIC
PRIORITY:5
BEGIN:VALARM
TRIGGER:-PT330M
ACTION:DISPLAY
DESCRIPTION:Reminder
END:VALARM
END:VEVENT
END:VCALENDAR
