BEGIN:VCALENDAR
PRODID:-//Microsoft Corporation//Outlook 11.0 MIMEDIR//EN
VERSION:2.0
METHOD:PUBLISH
BEGIN:VEVENT
DTSTART:2009-07-16T01:00:00Z
DTEND:2009-07-16T03:30:00Z
LOCATION:MM6: Marymoor, Field 6
CATEGORIES:Softball,R.B.I.,BB/SAA
UID:21B672F025EFD34D949953789E728940:
DTSTAMP:2026-04-21T05:28:06Z:
SUMMARY:R.B.I. at Field of Champions
DESCRIPTION;ENCODING=QUOTED-PRINTABLE:R.B.I. at Field of Champions=0D=0A Time: 6:00 PM=0D=0A Location: Marymoor, Field 6
CLASS:PUBLIC
PRIORITY:5
BEGIN:VALARM
TRIGGER:-PT180M
ACTION:DISPLAY
DESCRIPTION:Reminder
END:VALARM
END:VEVENT
BEGIN:VEVENT
DTSTART:2009-07-23T01:00:00Z
DTEND:2009-07-23T03:30:00Z
LOCATION:HV1: Hidden Valley, Field 1
CATEGORIES:Softball,R.B.I.,BB/SAA
UID:9C6EAF7735222409B7F20ABB51EA7A1:
DTSTAMP:2026-04-21T05:28:06Z:
SUMMARY:Big Feet at R.B.I.
DESCRIPTION;ENCODING=QUOTED-PRINTABLE:Big Feet at R.B.I.=0D=0A Time: 6:00 PM=0D=0A Location: Hidden Valley, Field 1
CLASS:PUBLIC
PRIORITY:5
BEGIN:VALARM
TRIGGER:-PT180M
ACTION:DISPLAY
DESCRIPTION:Reminder
END:VALARM
END:VEVENT
BEGIN:VEVENT
DTSTART:2009-07-30T01:00:00Z
DTEND:2009-07-30T03:30:00Z
LOCATION:HV1: Hidden Valley, Field 1
CATEGORIES:Softball,R.B.I.,BB/SAA
UID:764D756B7F134B449D87CF7BF4CB95EE:
DTSTAMP:2026-04-21T05:28:06Z:
SUMMARY:Whitcomb Insurance/Allstate at R.B.I.
DESCRIPTION;ENCODING=QUOTED-PRINTABLE:Whitcomb Insurance/Allstate at R.B.I.=0D=0A Time: 6:00 PM=0D=0A Location: Hidden Valley, Field 1
CLASS:PUBLIC
PRIORITY:5
BEGIN:VALARM
TRIGGER:-PT180M
ACTION:DISPLAY
DESCRIPTION:Reminder
END:VALARM
END:VEVENT
BEGIN:VEVENT
DTSTART:2009-08-07T03:30:00Z
DTEND:2009-08-07T06:00:00Z
LOCATION:MM7: Marymoor, Field 7
CATEGORIES:Softball,R.B.I.,BB/SAA
UID:4A47DD3D76C304C8159D0C1CFFEA81B:
DTSTAMP:2026-04-21T05:28:06Z:
SUMMARY:Drillers/D3VO at R.B.I.
DESCRIPTION;ENCODING=QUOTED-PRINTABLE:Drillers/D3VO at R.B.I.=0D=0A Time: 8:30 PM=0D=0A Location: Marymoor, Field 7
CLASS:PUBLIC
PRIORITY:5
BEGIN:VALARM
TRIGGER:-PT330M
ACTION:DISPLAY
DESCRIPTION:Reminder
END:VALARM
END:VEVENT
BEGIN:VEVENT
DTSTART:2009-08-13T03:30:00Z
DTEND:2009-08-13T06:00:00Z
LOCATION:MM7: Marymoor, Field 7
CATEGORIES:Softball,R.B.I.,BB/SAA
UID:EF4D3469B64DF44A59C338F8DD1522:
DTSTAMP:2026-04-21T05:28:06Z:
SUMMARY:R.B.I. at Strokers
DESCRIPTION;ENCODING=QUOTED-PRINTABLE:R.B.I. at Strokers=0D=0A Time: 8:30 PM=0D=0A Location: Marymoor, Field 7
CLASS:PUBLIC
PRIORITY:5
BEGIN:VALARM
TRIGGER:-PT330M
ACTION:DISPLAY
DESCRIPTION:Reminder
END:VALARM
END:VEVENT
BEGIN:VEVENT
DTSTART:2009-08-20T03:30:00Z
DTEND:2009-08-20T06:00:00Z
LOCATION:MM8: Marymoor, Field 8
CATEGORIES:Softball,R.B.I.,BB/SAA
UID:FBB768A8AFA9574DA2BE3A97EB239CB3:
DTSTAMP:2026-04-21T05:28:06Z:
SUMMARY:R.B.I. at Team X
DESCRIPTION;ENCODING=QUOTED-PRINTABLE:R.B.I. at Team X=0D=0A Time: 8:30 PM=0D=0A Location: Marymoor, Field 8
CLASS:PUBLIC
PRIORITY:5
BEGIN:VALARM
TRIGGER:-PT330M
ACTION:DISPLAY
DESCRIPTION:Reminder
END:VALARM
END:VEVENT
BEGIN:VEVENT
DTSTART:2009-08-27T01:00:00Z
DTEND:2009-08-27T03:30:00Z
LOCATION:HV1: Hidden Valley, Field 1
CATEGORIES:Softball,R.B.I.,BB/SAA
UID:E9AB662C9A4A544A9425DC76EEB638E:
DTSTAMP:2026-04-21T05:28:06Z:
SUMMARY:R.B.I. at Carpet To Go
DESCRIPTION;ENCODING=QUOTED-PRINTABLE:R.B.I. at Carpet To Go=0D=0A Time: 6:00 PM=0D=0A Location: Hidden Valley, Field 1
CLASS:PUBLIC
PRIORITY:5
BEGIN:VALARM
TRIGGER:-PT180M
ACTION:DISPLAY
DESCRIPTION:Reminder
END:VALARM
END:VEVENT
BEGIN:VEVENT
DTSTART:2009-09-03T01:00:00Z
DTEND:2009-09-03T03:30:00Z
LOCATION:MM7: Marymoor, Field 7
CATEGORIES:Softball,R.B.I.,BB/SAA
UID:B0956C413ED57E4399F6FA52E92A8A3:
DTSTAMP:2026-04-21T05:28:06Z:
SUMMARY:R.B.I. at Field of Champions
DESCRIPTION;ENCODING=QUOTED-PRINTABLE:R.B.I. at Field of Champions=0D=0A Time: 6:00 PM=0D=0A Location: Marymoor, Field 7
CLASS:PUBLIC
PRIORITY:5
BEGIN:VALARM
TRIGGER:-PT180M
ACTION:DISPLAY
DESCRIPTION:Reminder
END:VALARM
END:VEVENT
BEGIN:VEVENT
DTSTART:2009-09-10T03:30:00Z
DTEND:2009-09-10T06:00:00Z
LOCATION:MM7: Marymoor, Field 7
CATEGORIES:Softball,R.B.I.,BB/SAA
UID:948EFC9652E664AABEF7E2AA44BA74:
DTSTAMP:2026-04-21T05:28:06Z:
SUMMARY:Strokers at R.B.I.
DESCRIPTION;ENCODING=QUOTED-PRINTABLE:Strokers at R.B.I.=0D=0A Time: 8:30 PM=0D=0A Location: Marymoor, Field 7
CLASS:PUBLIC
PRIORITY:5
BEGIN:VALARM
TRIGGER:-PT330M
ACTION:DISPLAY
DESCRIPTION:Reminder
END:VALARM
END:VEVENT
END:VCALENDAR
