BEGIN:VCALENDAR
PRODID:-//Microsoft Corporation//Outlook 11.0 MIMEDIR//EN
VERSION:2.0
METHOD:PUBLISH
BEGIN:VEVENT
DTSTART:2009-07-17T01:00:00Z
DTEND:2009-07-17T03:30:00Z
LOCATION:MM1: Marymoor, Field 1
CATEGORIES:Softball,Drillers/D3VO,BB/SAA
UID:9AEBA15F5FED264A9151E8C3B5F92C82:
DTSTAMP:2026-04-21T05:35:09Z:
SUMMARY:Strokers at Drillers/D3VO
DESCRIPTION;ENCODING=QUOTED-PRINTABLE:Strokers at Drillers/D3VO=0D=0A Time: 6:00 PM=0D=0A Location: Marymoor, Field 1
CLASS:PUBLIC
PRIORITY:5
BEGIN:VALARM
TRIGGER:-PT180M
ACTION:DISPLAY
DESCRIPTION:Reminder
END:VALARM
END:VEVENT
BEGIN:VEVENT
DTSTART:2009-07-24T03:30:00Z
DTEND:2009-07-24T06:00:00Z
LOCATION:MM8: Marymoor, Field 8
CATEGORIES:Softball,Drillers/D3VO,BB/SAA
UID:37EC7E1DE299C4CA9986A99E487EBE6:
DTSTAMP:2026-04-21T05:35:09Z:
SUMMARY:Drillers/D3VO at Team X
DESCRIPTION;ENCODING=QUOTED-PRINTABLE:Drillers/D3VO at Team X=0D=0A Time: 8:30 PM=0D=0A Location: Marymoor, Field 8
CLASS:PUBLIC
PRIORITY:5
BEGIN:VALARM
TRIGGER:-PT330M
ACTION:DISPLAY
DESCRIPTION:Reminder
END:VALARM
END:VEVENT
BEGIN:VEVENT
DTSTART:2009-07-31T01:00:00Z
DTEND:2009-07-31T03:30:00Z
LOCATION:MM3: Marymoor, Field 3
CATEGORIES:Softball,Drillers/D3VO,BB/SAA
UID:6AED829F07BD74BB63487E6E1796EC:
DTSTAMP:2026-04-21T05:35:09Z:
SUMMARY:Big Feet at Drillers/D3VO
DESCRIPTION;ENCODING=QUOTED-PRINTABLE:Big Feet at Drillers/D3VO=0D=0A Time: 6:00 PM=0D=0A Location: Marymoor, Field 3
CLASS:PUBLIC
PRIORITY:5
BEGIN:VALARM
TRIGGER:-PT180M
ACTION:DISPLAY
DESCRIPTION:Reminder
END:VALARM
END:VEVENT
BEGIN:VEVENT
DTSTART:2009-08-07T03:30:00Z
DTEND:2009-08-07T06:00:00Z
LOCATION:MM7: Marymoor, Field 7
CATEGORIES:Softball,Drillers/D3VO,BB/SAA
UID:F321AAD9AFD0CE429CB35DAD4C4CAD1E:
DTSTAMP:2026-04-21T05:35:09Z:
SUMMARY:Drillers/D3VO at R.B.I.
DESCRIPTION;ENCODING=QUOTED-PRINTABLE:Drillers/D3VO at R.B.I.=0D=0A Time: 8:30 PM=0D=0A Location: Marymoor, Field 7
CLASS:PUBLIC
PRIORITY:5
BEGIN:VALARM
TRIGGER:-PT330M
ACTION:DISPLAY
DESCRIPTION:Reminder
END:VALARM
END:VEVENT
BEGIN:VEVENT
DTSTART:2009-08-14T03:30:00Z
DTEND:2009-08-14T06:00:00Z
LOCATION:MM6: Marymoor, Field 6
CATEGORIES:Softball,Drillers/D3VO,BB/SAA
UID:1C35F56F1052164EBD6638B85D2F9D24:
DTSTAMP:2026-04-21T05:35:09Z:
SUMMARY:Drillers/D3VO at Whitcomb Insurance/Allstate
DESCRIPTION;ENCODING=QUOTED-PRINTABLE:Drillers/D3VO at Whitcomb Insurance/Allstate=0D=0A Time: 8:30 PM=0D=0A Location: Marymoor, Field 6
CLASS:PUBLIC
PRIORITY:5
BEGIN:VALARM
TRIGGER:-PT330M
ACTION:DISPLAY
DESCRIPTION:Reminder
END:VALARM
END:VEVENT
BEGIN:VEVENT
DTSTART:2009-08-21T01:00:00Z
DTEND:2009-08-21T03:30:00Z
LOCATION:HV1: Hidden Valley, Field 1
CATEGORIES:Softball,Drillers/D3VO,BB/SAA
UID:9D327D48F87BF4AB094ED255F6EEA64:
DTSTAMP:2026-04-21T05:35:09Z:
SUMMARY:Drillers/D3VO at Carpet To Go
DESCRIPTION;ENCODING=QUOTED-PRINTABLE:Drillers/D3VO at Carpet To Go=0D=0A Time: 6:00 PM=0D=0A Location: Hidden Valley, Field 1
CLASS:PUBLIC
PRIORITY:5
BEGIN:VALARM
TRIGGER:-PT180M
ACTION:DISPLAY
DESCRIPTION:Reminder
END:VALARM
END:VEVENT
BEGIN:VEVENT
DTSTART:2009-08-28T03:30:00Z
DTEND:2009-08-28T06:00:00Z
LOCATION:MM7: Marymoor, Field 7
CATEGORIES:Softball,Drillers/D3VO,BB/SAA
UID:F4854735FF4EE745A21BFD797F65EE8E:
DTSTAMP:2026-04-21T05:35:09Z:
SUMMARY:Field of Champions at Drillers/D3VO
DESCRIPTION;ENCODING=QUOTED-PRINTABLE:Field of Champions at Drillers/D3VO=0D=0A Time: 8:30 PM=0D=0A Location: Marymoor, Field 7
CLASS:PUBLIC
PRIORITY:5
BEGIN:VALARM
TRIGGER:-PT330M
ACTION:DISPLAY
DESCRIPTION:Reminder
END:VALARM
END:VEVENT
BEGIN:VEVENT
DTSTART:2009-09-04T01:00:00Z
DTEND:2009-09-04T03:30:00Z
LOCATION:MM7: Marymoor, Field 7
CATEGORIES:Softball,Drillers/D3VO,BB/SAA
UID:D058C5B59B7784EB7D5F6DC7BED9012:
DTSTAMP:2026-04-21T05:35:09Z:
SUMMARY:Strokers at Drillers/D3VO
DESCRIPTION;ENCODING=QUOTED-PRINTABLE:Strokers at Drillers/D3VO=0D=0A Time: 6:00 PM=0D=0A Location: Marymoor, Field 7
CLASS:PUBLIC
PRIORITY:5
BEGIN:VALARM
TRIGGER:-PT180M
ACTION:DISPLAY
DESCRIPTION:Reminder
END:VALARM
END:VEVENT
BEGIN:VEVENT
DTSTART:2009-09-11T01:00:00Z
DTEND:2009-09-11T03:30:00Z
LOCATION:HV1: Hidden Valley, Field 1
CATEGORIES:Softball,Drillers/D3VO,BB/SAA
UID:2D1E4D4FC198224592E555C4BED8B1F1:
DTSTAMP:2026-04-21T05:35:09Z:
SUMMARY:Whitcomb Insurance/Allstate at Drillers/D3VO
DESCRIPTION;ENCODING=QUOTED-PRINTABLE:Whitcomb Insurance/Allstate at Drillers/D3VO=0D=0A Time: 6:00 PM=0D=0A Location: Hidden Valley, Field 1
CLASS:PUBLIC
PRIORITY:5
BEGIN:VALARM
TRIGGER:-PT180M
ACTION:DISPLAY
DESCRIPTION:Reminder
END:VALARM
END:VEVENT
BEGIN:VEVENT
DTSTART:2009-09-18T03:30:00Z
DTEND:2009-09-18T06:00:00Z
LOCATION:MM7: Marymoor, Field 7
CATEGORIES:Softball,Drillers/D3VO,BB/SAA
UID:7BABDC6D2AF35043ACD4232F3F82564:
DTSTAMP:2026-04-21T05:35:09Z:
SUMMARY:Drillers/D3VO at Whitcomb Insurance/Allstate
DESCRIPTION;ENCODING=QUOTED-PRINTABLE:Drillers/D3VO at Whitcomb Insurance/Allstate=0D=0A Time: 8:30 PM=0D=0A Location: Marymoor, Field 7
CLASS:PUBLIC
PRIORITY:5
BEGIN:VALARM
TRIGGER:-PT330M
ACTION:DISPLAY
DESCRIPTION:Reminder
END:VALARM
END:VEVENT
END:VCALENDAR
