BEGIN:VCALENDAR
PRODID:-//Microsoft Corporation//Outlook 11.0 MIMEDIR//EN
VERSION:2.0
METHOD:PUBLISH
BEGIN:VEVENT
DTSTART:2009-07-09T03:30:00Z
DTEND:2009-07-09T06:00:00Z
LOCATION:HV1: Hidden Valley, Field 1
CATEGORIES:Softball,Carpet To Go,BB/SAA
UID:C3968C4BBDF4E49AB37FDC2D143757:
DTSTAMP:2026-04-23T10:08:40Z:
SUMMARY:Carpet To Go at Big Feet
DESCRIPTION;ENCODING=QUOTED-PRINTABLE:Carpet To Go at Big Feet=0D=0A Time: 8:30 PM=0D=0A Location: Hidden Valley, Field 1
CLASS:PUBLIC
PRIORITY:5
BEGIN:VALARM
TRIGGER:-PT330M
ACTION:DISPLAY
DESCRIPTION:Reminder
END:VALARM
END:VEVENT
BEGIN:VEVENT
DTSTART:2009-07-16T03:30:00Z
DTEND:2009-07-16T06:00:00Z
LOCATION:HV1: Hidden Valley, Field 1
CATEGORIES:Softball,Carpet To Go,BB/SAA
UID:1C10839DBC0CC439C3E132130F865B0:
DTSTAMP:2026-04-23T10:08:40Z:
SUMMARY:Team X at Carpet To Go
DESCRIPTION;ENCODING=QUOTED-PRINTABLE:Team X at Carpet To Go=0D=0A Time: 8:30 PM=0D=0A Location: Hidden Valley, Field 1
CLASS:PUBLIC
PRIORITY:5
BEGIN:VALARM
TRIGGER:-PT330M
ACTION:DISPLAY
DESCRIPTION:Reminder
END:VALARM
END:VEVENT
BEGIN:VEVENT
DTSTART:2009-07-23T03:30:00Z
DTEND:2009-07-23T06:00:00Z
LOCATION:HV1: Hidden Valley, Field 1
CATEGORIES:Softball,Carpet To Go,BB/SAA
UID:FB68744EC33AA4393C7E0818F487461:
DTSTAMP:2026-04-23T10:08:40Z:
SUMMARY:Carpet To Go at Whitcomb Insurance/Allstate
DESCRIPTION;ENCODING=QUOTED-PRINTABLE:Carpet To Go at Whitcomb Insurance/Allstate=0D=0A Time: 8:30 PM=0D=0A Location: Hidden Valley, Field 1
CLASS:PUBLIC
PRIORITY:5
BEGIN:VALARM
TRIGGER:-PT330M
ACTION:DISPLAY
DESCRIPTION:Reminder
END:VALARM
END:VEVENT
BEGIN:VEVENT
DTSTART:2009-07-30T03:30:00Z
DTEND:2009-07-30T06:00:00Z
LOCATION:HV1: Hidden Valley, Field 1
CATEGORIES:Softball,Carpet To Go,BB/SAA
UID:B1F48C85298D664B81DA19C96CA2E990:
DTSTAMP:2026-04-23T10:08:40Z:
SUMMARY:Carpet To Go at Field of Champions
DESCRIPTION;ENCODING=QUOTED-PRINTABLE:Carpet To Go at Field of Champions=0D=0A Time: 8:30 PM=0D=0A Location: Hidden Valley, Field 1
CLASS:PUBLIC
PRIORITY:5
BEGIN:VALARM
TRIGGER:-PT330M
ACTION:DISPLAY
DESCRIPTION:Reminder
END:VALARM
END:VEVENT
BEGIN:VEVENT
DTSTART:2009-08-06T03:30:00Z
DTEND:2009-08-06T06:00:00Z
LOCATION:HV1: Hidden Valley, Field 1
CATEGORIES:Softball,Carpet To Go,BB/SAA
UID:320E2356EB36543986A9435180B644:
DTSTAMP:2026-04-23T10:08:40Z:
SUMMARY:Carpet To Go at Strokers
DESCRIPTION;ENCODING=QUOTED-PRINTABLE:Carpet To Go at Strokers=0D=0A Time: 8:30 PM=0D=0A Location: Hidden Valley, Field 1
CLASS:PUBLIC
PRIORITY:5
BEGIN:VALARM
TRIGGER:-PT330M
ACTION:DISPLAY
DESCRIPTION:Reminder
END:VALARM
END:VEVENT
BEGIN:VEVENT
DTSTART:2009-08-13T03:30:00Z
DTEND:2009-08-13T06:00:00Z
LOCATION:HV1: Hidden Valley, Field 1
CATEGORIES:Softball,Carpet To Go,BB/SAA
UID:24E8CCD4B6249C429C53E695793CD59:
DTSTAMP:2026-04-23T10:08:40Z:
SUMMARY:Big Feet at Carpet To Go
DESCRIPTION;ENCODING=QUOTED-PRINTABLE:Big Feet at Carpet To Go=0D=0A Time: 8:30 PM=0D=0A Location: Hidden Valley, Field 1
CLASS:PUBLIC
PRIORITY:5
BEGIN:VALARM
TRIGGER:-PT330M
ACTION:DISPLAY
DESCRIPTION:Reminder
END:VALARM
END:VEVENT
BEGIN:VEVENT
DTSTART:2009-08-21T01:00:00Z
DTEND:2009-08-21T03:30:00Z
LOCATION:HV1: Hidden Valley, Field 1
CATEGORIES:Softball,Carpet To Go,BB/SAA
UID:D9B8F1FBE045F54CA46893EB1065B9B:
DTSTAMP:2026-04-23T10:08:40Z:
SUMMARY:Drillers/D3VO at Carpet To Go
DESCRIPTION;ENCODING=QUOTED-PRINTABLE:Drillers/D3VO at Carpet To Go=0D=0A Time: 6:00 PM=0D=0A Location: Hidden Valley, Field 1
CLASS:PUBLIC
PRIORITY:5
BEGIN:VALARM
TRIGGER:-PT180M
ACTION:DISPLAY
DESCRIPTION:Reminder
END:VALARM
END:VEVENT
BEGIN:VEVENT
DTSTART:2009-08-27T01:00:00Z
DTEND:2009-08-27T03:30:00Z
LOCATION:HV1: Hidden Valley, Field 1
CATEGORIES:Softball,Carpet To Go,BB/SAA
UID:264CD267A35DB84086F5DB95C63AE05F:
DTSTAMP:2026-04-23T10:08:40Z:
SUMMARY:R.B.I. at Carpet To Go
DESCRIPTION;ENCODING=QUOTED-PRINTABLE:R.B.I. at Carpet To Go=0D=0A Time: 6:00 PM=0D=0A Location: Hidden Valley, Field 1
CLASS:PUBLIC
PRIORITY:5
BEGIN:VALARM
TRIGGER:-PT180M
ACTION:DISPLAY
DESCRIPTION:Reminder
END:VALARM
END:VEVENT
BEGIN:VEVENT
DTSTART:2009-09-03T03:30:00Z
DTEND:2009-09-03T06:00:00Z
LOCATION:HV1: Hidden Valley, Field 1
CATEGORIES:Softball,Carpet To Go,BB/SAA
UID:B6F7A89AE3CF14CAEF3BB525CF9159F:
DTSTAMP:2026-04-23T10:08:40Z:
SUMMARY:Team X at Carpet To Go
DESCRIPTION;ENCODING=QUOTED-PRINTABLE:Team X at Carpet To Go=0D=0A Time: 8:30 PM=0D=0A Location: Hidden Valley, Field 1
CLASS:PUBLIC
PRIORITY:5
BEGIN:VALARM
TRIGGER:-PT330M
ACTION:DISPLAY
DESCRIPTION:Reminder
END:VALARM
END:VEVENT
END:VCALENDAR
