BEGIN:VCALENDAR
PRODID:-//Microsoft Corporation//Outlook 11.0 MIMEDIR//EN
VERSION:2.0
METHOD:PUBLISH
BEGIN:VEVENT
DTSTART:2009-07-09T03:30:00Z
DTEND:2009-07-09T06:00:00Z
LOCATION:HV1: Hidden Valley, Field 1
CATEGORIES:Softball,Big Feet,BB/SAA
UID:26C52F484225694E9DD65444C481E27:
DTSTAMP:2026-04-25T10:41:06Z:
SUMMARY:Carpet To Go at Big Feet
DESCRIPTION;ENCODING=QUOTED-PRINTABLE:Carpet To Go at Big Feet=0D=0A Time: 8:30 PM=0D=0A Location: Hidden Valley, Field 1
CLASS:PUBLIC
PRIORITY:5
BEGIN:VALARM
TRIGGER:-PT330M
ACTION:DISPLAY
DESCRIPTION:Reminder
END:VALARM
END:VEVENT
BEGIN:VEVENT
DTSTART:2009-07-16T01:00:00Z
DTEND:2009-07-16T03:30:00Z
LOCATION:MM7: Marymoor, Field 7
CATEGORIES:Softball,Big Feet,BB/SAA
UID:CAD5D7DD49F46C448BEEF5EDE42B8B88:
DTSTAMP:2026-04-25T10:41:06Z:
SUMMARY:Big Feet at Whitcomb Insurance/Allstate
DESCRIPTION;ENCODING=QUOTED-PRINTABLE:Big Feet at Whitcomb Insurance/Allstate=0D=0A Time: 6:00 PM=0D=0A Location: Marymoor, Field 7
CLASS:PUBLIC
PRIORITY:5
BEGIN:VALARM
TRIGGER:-PT180M
ACTION:DISPLAY
DESCRIPTION:Reminder
END:VALARM
END:VEVENT
BEGIN:VEVENT
DTSTART:2009-07-23T01:00:00Z
DTEND:2009-07-23T03:30:00Z
LOCATION:HV1: Hidden Valley, Field 1
CATEGORIES:Softball,Big Feet,BB/SAA
UID:D3702B663EC04C4981B0D83DFFAFF766:
DTSTAMP:2026-04-25T10:41:06Z:
SUMMARY:Big Feet at R.B.I.
DESCRIPTION;ENCODING=QUOTED-PRINTABLE:Big Feet at R.B.I.=0D=0A Time: 6:00 PM=0D=0A Location: Hidden Valley, Field 1
CLASS:PUBLIC
PRIORITY:5
BEGIN:VALARM
TRIGGER:-PT180M
ACTION:DISPLAY
DESCRIPTION:Reminder
END:VALARM
END:VEVENT
BEGIN:VEVENT
DTSTART:2009-07-31T01:00:00Z
DTEND:2009-07-31T03:30:00Z
LOCATION:MM3: Marymoor, Field 3
CATEGORIES:Softball,Big Feet,BB/SAA
UID:CBC7EA78CF21954B8D5FF2C236A9834:
DTSTAMP:2026-04-25T10:41:06Z:
SUMMARY:Big Feet at Drillers/D3VO
DESCRIPTION;ENCODING=QUOTED-PRINTABLE:Big Feet at Drillers/D3VO=0D=0A Time: 6:00 PM=0D=0A Location: Marymoor, Field 3
CLASS:PUBLIC
PRIORITY:5
BEGIN:VALARM
TRIGGER:-PT180M
ACTION:DISPLAY
DESCRIPTION:Reminder
END:VALARM
END:VEVENT
BEGIN:VEVENT
DTSTART:2009-08-06T03:30:00Z
DTEND:2009-08-06T06:00:00Z
LOCATION:MM6: Marymoor, Field 6
CATEGORIES:Softball,Big Feet,BB/SAA
UID:599D156C1BCD104C9DEDADF0138443FC:
DTSTAMP:2026-04-25T10:41:06Z:
SUMMARY:Field of Champions at Big Feet
DESCRIPTION;ENCODING=QUOTED-PRINTABLE:Field of Champions at Big Feet=0D=0A Time: 8:30 PM=0D=0A Location: Marymoor, Field 6
CLASS:PUBLIC
PRIORITY:5
BEGIN:VALARM
TRIGGER:-PT330M
ACTION:DISPLAY
DESCRIPTION:Reminder
END:VALARM
END:VEVENT
BEGIN:VEVENT
DTSTART:2009-08-13T03:30:00Z
DTEND:2009-08-13T06:00:00Z
LOCATION:HV1: Hidden Valley, Field 1
CATEGORIES:Softball,Big Feet,BB/SAA
UID:2333D8687CF4C4B92D9E143C332B0F8:
DTSTAMP:2026-04-25T10:41:06Z:
SUMMARY:Big Feet at Carpet To Go
DESCRIPTION;ENCODING=QUOTED-PRINTABLE:Big Feet at Carpet To Go=0D=0A Time: 8:30 PM=0D=0A Location: Hidden Valley, Field 1
CLASS:PUBLIC
PRIORITY:5
BEGIN:VALARM
TRIGGER:-PT330M
ACTION:DISPLAY
DESCRIPTION:Reminder
END:VALARM
END:VEVENT
BEGIN:VEVENT
DTSTART:2009-08-20T03:30:00Z
DTEND:2009-08-20T06:00:00Z
LOCATION:MM7: Marymoor, Field 7
CATEGORIES:Softball,Big Feet,BB/SAA
UID:7A2070E99B5827419A16978750961237:
DTSTAMP:2026-04-25T10:41:06Z:
SUMMARY:Big Feet at Strokers
DESCRIPTION;ENCODING=QUOTED-PRINTABLE:Big Feet at Strokers=0D=0A Time: 8:30 PM=0D=0A Location: Marymoor, Field 7
CLASS:PUBLIC
PRIORITY:5
BEGIN:VALARM
TRIGGER:-PT330M
ACTION:DISPLAY
DESCRIPTION:Reminder
END:VALARM
END:VEVENT
BEGIN:VEVENT
DTSTART:2009-08-27T01:00:00Z
DTEND:2009-08-27T03:30:00Z
LOCATION:MM7: Marymoor, Field 7
CATEGORIES:Softball,Big Feet,BB/SAA
UID:F6B57999BFC343B833C44D7C5BF14:
DTSTAMP:2026-04-25T10:41:06Z:
SUMMARY:Team X at Big Feet
DESCRIPTION;ENCODING=QUOTED-PRINTABLE:Team X at Big Feet=0D=0A Time: 6:00 PM=0D=0A Location: Marymoor, Field 7
CLASS:PUBLIC
PRIORITY:5
BEGIN:VALARM
TRIGGER:-PT180M
ACTION:DISPLAY
DESCRIPTION:Reminder
END:VALARM
END:VEVENT
BEGIN:VEVENT
DTSTART:2009-08-27T03:30:00Z
DTEND:2009-08-27T06:00:00Z
LOCATION:MM8: Marymoor, Field 8
CATEGORIES:Softball,Big Feet,BB/SAA
UID:654EE52498BCE24FA611BECB4B7922C:
DTSTAMP:2026-04-25T10:41:06Z:
SUMMARY:Team X at Big Feet
DESCRIPTION;ENCODING=QUOTED-PRINTABLE:Team X at Big Feet=0D=0A Time: 8:30 PM=0D=0A Location: Marymoor, Field 8
CLASS:PUBLIC
PRIORITY:5
BEGIN:VALARM
TRIGGER:-PT330M
ACTION:DISPLAY
DESCRIPTION:Reminder
END:VALARM
END:VEVENT
BEGIN:VEVENT
DTSTART:2009-09-03T01:00:00Z
DTEND:2009-09-03T03:30:00Z
LOCATION:HV1: Hidden Valley, Field 1
CATEGORIES:Softball,Big Feet,BB/SAA
UID:B87F3EEC3F6A5C479720FAC7F6111910:
DTSTAMP:2026-04-25T10:41:06Z:
SUMMARY:Whitcomb Insurance/Allstate at Big Feet
DESCRIPTION;ENCODING=QUOTED-PRINTABLE:Whitcomb Insurance/Allstate at Big Feet=0D=0A Time: 6:00 PM=0D=0A Location: Hidden Valley, Field 1
CLASS:PUBLIC
PRIORITY:5
BEGIN:VALARM
TRIGGER:-PT180M
ACTION:DISPLAY
DESCRIPTION:Reminder
END:VALARM
END:VEVENT
END:VCALENDAR
