BEGIN:VCALENDAR
PRODID:-//Microsoft Corporation//Outlook 11.0 MIMEDIR//EN
VERSION:2.0
METHOD:PUBLISH
BEGIN:VEVENT
DTSTART:2009-07-07T01:00:00Z
DTEND:2009-07-07T03:30:00Z
LOCATION:MM7: Marymoor, Field 7
CATEGORIES:Softball,Hot Shots,BB/SAA
UID:1E0C95638978945B4B669BEBC6E72A:
DTSTAMP:2026-04-21T05:44:27Z:
SUMMARY:Hot Shots at Chicks and Dicks
DESCRIPTION;ENCODING=QUOTED-PRINTABLE:Hot Shots at Chicks and Dicks=0D=0A Time: 6:00 PM=0D=0A Location: Marymoor, Field 7
CLASS:PUBLIC
PRIORITY:5
BEGIN:VALARM
TRIGGER:-PT180M
ACTION:DISPLAY
DESCRIPTION:Reminder
END:VALARM
END:VEVENT
BEGIN:VEVENT
DTSTART:2009-07-14T01:00:00Z
DTEND:2009-07-14T03:30:00Z
LOCATION:SAM2: Sammamish High School, Field 2
CATEGORIES:Softball,Hot Shots,BB/SAA
UID:60A9CB9BDBF75F459B2603B7F762ED3:
DTSTAMP:2026-04-21T05:44:27Z:
SUMMARY:Hot Shots at Dreadsox
DESCRIPTION;ENCODING=QUOTED-PRINTABLE:Hot Shots at Dreadsox=0D=0A Time: 6:00 PM=0D=0A Location: Sammamish High School, Field 2
CLASS:PUBLIC
PRIORITY:5
BEGIN:VALARM
TRIGGER:-PT180M
ACTION:DISPLAY
DESCRIPTION:Reminder
END:VALARM
END:VEVENT
BEGIN:VEVENT
DTSTART:2009-07-21T01:00:00Z
DTEND:2009-07-21T03:30:00Z
LOCATION:MM6: Marymoor, Field 6
CATEGORIES:Softball,Hot Shots,BB/SAA
UID:6B252D94490674A977D957A81B36:
DTSTAMP:2026-04-21T05:44:27Z:
SUMMARY:Legal Beagles at Hot Shots
DESCRIPTION;ENCODING=QUOTED-PRINTABLE:Legal Beagles at Hot Shots=0D=0A Time: 6:00 PM=0D=0A Location: Marymoor, Field 6
CLASS:PUBLIC
PRIORITY:5
BEGIN:VALARM
TRIGGER:-PT180M
ACTION:DISPLAY
DESCRIPTION:Reminder
END:VALARM
END:VEVENT
BEGIN:VEVENT
DTSTART:2009-07-28T01:00:00Z
DTEND:2009-07-28T03:30:00Z
LOCATION:SAM2: Sammamish High School, Field 2
CATEGORIES:Softball,Hot Shots,BB/SAA
UID:1A82654137DC9940B08D1C7B90DD93B2:
DTSTAMP:2026-04-21T05:44:27Z:
SUMMARY:OIMA at Hot Shots
DESCRIPTION;ENCODING=QUOTED-PRINTABLE:OIMA at Hot Shots=0D=0A Time: 6:00 PM=0D=0A Location: Sammamish High School, Field 2
CLASS:PUBLIC
PRIORITY:5
BEGIN:VALARM
TRIGGER:-PT180M
ACTION:DISPLAY
DESCRIPTION:Reminder
END:VALARM
END:VEVENT
BEGIN:VEVENT
DTSTART:2009-08-04T03:30:00Z
DTEND:2009-08-04T06:00:00Z
LOCATION:MM8: Marymoor, Field 8
CATEGORIES:Softball,Hot Shots,BB/SAA
UID:88B58BB7F115F04D9DB6C5A6E664AB4:
DTSTAMP:2026-04-21T05:44:27Z:
SUMMARY:CCC Crushers at Hot Shots
DESCRIPTION;ENCODING=QUOTED-PRINTABLE:CCC Crushers at Hot Shots=0D=0A Time: 8:30 PM=0D=0A Location: Marymoor, Field 8
CLASS:PUBLIC
PRIORITY:5
BEGIN:VALARM
TRIGGER:-PT330M
ACTION:DISPLAY
DESCRIPTION:Reminder
END:VALARM
END:VEVENT
BEGIN:VEVENT
DTSTART:2009-08-11T01:00:00Z
DTEND:2009-08-11T03:30:00Z
LOCATION:MM4: Marymoor, Field 4
CATEGORIES:Softball,Hot Shots,BB/SAA
UID:36915CB9B5C5D4D8451E01536EDFDF9:
DTSTAMP:2026-04-21T05:44:27Z:
SUMMARY:Combine, The at Hot Shots
DESCRIPTION;ENCODING=QUOTED-PRINTABLE:Combine, The at Hot Shots=0D=0A Time: 6:00 PM=0D=0A Location: Marymoor, Field 4
CLASS:PUBLIC
PRIORITY:5
BEGIN:VALARM
TRIGGER:-PT180M
ACTION:DISPLAY
DESCRIPTION:Reminder
END:VALARM
END:VEVENT
BEGIN:VEVENT
DTSTART:2009-08-18T01:00:00Z
DTEND:2009-08-18T03:30:00Z
LOCATION:MM8: Marymoor, Field 8
CATEGORIES:Softball,Hot Shots,BB/SAA
UID:2B519B101F2D964ABDFC84101FF9C2F1:
DTSTAMP:2026-04-21T05:44:27Z:
SUMMARY:Bellevue ENT at Hot Shots
DESCRIPTION;ENCODING=QUOTED-PRINTABLE:Bellevue ENT at Hot Shots=0D=0A Time: 6:00 PM=0D=0A Location: Marymoor, Field 8
CLASS:PUBLIC
PRIORITY:5
BEGIN:VALARM
TRIGGER:-PT180M
ACTION:DISPLAY
DESCRIPTION:Reminder
END:VALARM
END:VEVENT
BEGIN:VEVENT
DTSTART:2009-08-25T03:30:00Z
DTEND:2009-08-25T06:00:00Z
LOCATION:MM1: Marymoor, Field 1
CATEGORIES:Softball,Hot Shots,BB/SAA
UID:19B4414B5C8E594DA3E3CBC9969C5252:
DTSTAMP:2026-04-21T05:44:27Z:
SUMMARY:Hot Shots at No Game
DESCRIPTION;ENCODING=QUOTED-PRINTABLE:Hot Shots at No Game=0D=0A Time: 8:30 PM=0D=0A Location: Marymoor, Field 1
CLASS:PUBLIC
PRIORITY:5
BEGIN:VALARM
TRIGGER:-PT330M
ACTION:DISPLAY
DESCRIPTION:Reminder
END:VALARM
END:VEVENT
BEGIN:VEVENT
DTSTART:2009-09-01T03:30:00Z
DTEND:2009-09-01T06:00:00Z
LOCATION:MM7: Marymoor, Field 7
CATEGORIES:Softball,Hot Shots,BB/SAA
UID:5D23DCF411171149919F69163001AE5:
DTSTAMP:2026-04-21T05:44:27Z:
SUMMARY:Hot Shots at Bench Warmers
DESCRIPTION;ENCODING=QUOTED-PRINTABLE:Hot Shots at Bench Warmers=0D=0A Time: 8:30 PM=0D=0A Location: Marymoor, Field 7
CLASS:PUBLIC
PRIORITY:5
BEGIN:VALARM
TRIGGER:-PT330M
ACTION:DISPLAY
DESCRIPTION:Reminder
END:VALARM
END:VEVENT
BEGIN:VEVENT
DTSTART:2009-09-15T03:30:00Z
DTEND:2009-09-15T06:00:00Z
LOCATION:HV1: Hidden Valley, Field 1
CATEGORIES:Softball,Hot Shots,BB/SAA
UID:13159276654194098ACDB8DC0BA3E24:
DTSTAMP:2026-04-21T05:44:27Z:
SUMMARY:Combine, The at Hot Shots
DESCRIPTION;ENCODING=QUOTED-PRINTABLE:Combine, The at Hot Shots=0D=0A Time: 8:30 PM=0D=0A Location: Hidden Valley, Field 1
CLASS:PUBLIC
PRIORITY:5
BEGIN:VALARM
TRIGGER:-PT330M
ACTION:DISPLAY
DESCRIPTION:Reminder
END:VALARM
END:VEVENT
END:VCALENDAR
