BEGIN:VCALENDAR
PRODID:-//Microsoft Corporation//Outlook 11.0 MIMEDIR//EN
VERSION:2.0
METHOD:PUBLISH
BEGIN:VEVENT
DTSTART:2009-07-07T01:00:00Z
DTEND:2009-07-07T03:30:00Z
LOCATION:MM7: Marymoor, Field 7
CATEGORIES:Softball,Chicks and Dicks,BB/SAA
UID:BB572C5882D96C489F1C67A924141F34:
DTSTAMP:2026-04-21T07:17:41Z:
SUMMARY:Hot Shots at Chicks and Dicks
DESCRIPTION;ENCODING=QUOTED-PRINTABLE:Hot Shots at Chicks and Dicks=0D=0A Time: 6:00 PM=0D=0A Location: Marymoor, Field 7
CLASS:PUBLIC
PRIORITY:5
BEGIN:VALARM
TRIGGER:-PT180M
ACTION:DISPLAY
DESCRIPTION:Reminder
END:VALARM
END:VEVENT
BEGIN:VEVENT
DTSTART:2009-07-14T01:00:00Z
DTEND:2009-07-14T03:30:00Z
LOCATION:MM3: Marymoor, Field 3
CATEGORIES:Softball,Chicks and Dicks,BB/SAA
UID:68F7B4849B7F9B4FB3F6360E73189F:
DTSTAMP:2026-04-21T07:17:41Z:
SUMMARY:Chicks and Dicks at No Game
DESCRIPTION;ENCODING=QUOTED-PRINTABLE:Chicks and Dicks at No Game=0D=0A Time: 6:00 PM=0D=0A Location: Marymoor, Field 3
CLASS:PUBLIC
PRIORITY:5
BEGIN:VALARM
TRIGGER:-PT180M
ACTION:DISPLAY
DESCRIPTION:Reminder
END:VALARM
END:VEVENT
BEGIN:VEVENT
DTSTART:2009-07-21T03:30:00Z
DTEND:2009-07-21T06:00:00Z
LOCATION:MM8: Marymoor, Field 8
CATEGORIES:Softball,Chicks and Dicks,BB/SAA
UID:EA6AC8B361E9DC44B4C279EA8FE6B161:
DTSTAMP:2026-04-21T07:17:41Z:
SUMMARY:Bench Warmers at Chicks and Dicks
DESCRIPTION;ENCODING=QUOTED-PRINTABLE:Bench Warmers at Chicks and Dicks=0D=0A Time: 8:30 PM=0D=0A Location: Marymoor, Field 8
CLASS:PUBLIC
PRIORITY:5
BEGIN:VALARM
TRIGGER:-PT330M
ACTION:DISPLAY
DESCRIPTION:Reminder
END:VALARM
END:VEVENT
BEGIN:VEVENT
DTSTART:2009-07-28T01:00:00Z
DTEND:2009-07-28T03:30:00Z
LOCATION:MM8: Marymoor, Field 8
CATEGORIES:Softball,Chicks and Dicks,BB/SAA
UID:D52D17AE1DB03146A013ECDB995B4E9A:
DTSTAMP:2026-04-21T07:17:41Z:
SUMMARY:Bellevue ENT at Chicks and Dicks
DESCRIPTION;ENCODING=QUOTED-PRINTABLE:Bellevue ENT at Chicks and Dicks=0D=0A Time: 6:00 PM=0D=0A Location: Marymoor, Field 8
CLASS:PUBLIC
PRIORITY:5
BEGIN:VALARM
TRIGGER:-PT180M
ACTION:DISPLAY
DESCRIPTION:Reminder
END:VALARM
END:VEVENT
BEGIN:VEVENT
DTSTART:2009-08-04T01:00:00Z
DTEND:2009-08-04T03:30:00Z
LOCATION:MM8: Marymoor, Field 8
CATEGORIES:Softball,Chicks and Dicks,BB/SAA
UID:39577FD04BE9B347B173AFCF8049D3EC:
DTSTAMP:2026-04-21T07:17:41Z:
SUMMARY:Chicks and Dicks at Dreadsox
DESCRIPTION;ENCODING=QUOTED-PRINTABLE:Chicks and Dicks at Dreadsox=0D=0A Time: 6:00 PM=0D=0A Location: Marymoor, Field 8
CLASS:PUBLIC
PRIORITY:5
BEGIN:VALARM
TRIGGER:-PT180M
ACTION:DISPLAY
DESCRIPTION:Reminder
END:VALARM
END:VEVENT
BEGIN:VEVENT
DTSTART:2009-08-11T01:00:00Z
DTEND:2009-08-11T03:30:00Z
LOCATION:MM6: Marymoor, Field 6
CATEGORIES:Softball,Chicks and Dicks,BB/SAA
UID:AC70B874BBDFDC41841CF9BB09FA55B:
DTSTAMP:2026-04-21T07:17:41Z:
SUMMARY:Chicks and Dicks at Legal Beagles
DESCRIPTION;ENCODING=QUOTED-PRINTABLE:Chicks and Dicks at Legal Beagles=0D=0A Time: 6:00 PM=0D=0A Location: Marymoor, Field 6
CLASS:PUBLIC
PRIORITY:5
BEGIN:VALARM
TRIGGER:-PT180M
ACTION:DISPLAY
DESCRIPTION:Reminder
END:VALARM
END:VEVENT
BEGIN:VEVENT
DTSTART:2009-08-19T01:00:00Z
DTEND:2009-08-19T03:30:00Z
LOCATION:HV2: Hidden Valley, Field 2
CATEGORIES:Softball,Chicks and Dicks,BB/SAA
UID:262C5657F5E4EA449614C260ED518B31:
DTSTAMP:2026-04-21T07:17:41Z:
SUMMARY:Chicks and Dicks at OIMA
DESCRIPTION;ENCODING=QUOTED-PRINTABLE:Chicks and Dicks at OIMA=0D=0A Time: 6:00 PM=0D=0A Location: Hidden Valley, Field 2
CLASS:PUBLIC
PRIORITY:5
BEGIN:VALARM
TRIGGER:-PT180M
ACTION:DISPLAY
DESCRIPTION:Reminder
END:VALARM
END:VEVENT
BEGIN:VEVENT
DTSTART:2009-08-25T03:30:00Z
DTEND:2009-08-25T06:00:00Z
LOCATION:MM8: Marymoor, Field 8
CATEGORIES:Softball,Chicks and Dicks,BB/SAA
UID:3BD4705BF324D549979AC1EAE07BC8CB:
DTSTAMP:2026-04-21T07:17:41Z:
SUMMARY:Chicks and Dicks at CCC Crushers
DESCRIPTION;ENCODING=QUOTED-PRINTABLE:Chicks and Dicks at CCC Crushers=0D=0A Time: 8:30 PM=0D=0A Location: Marymoor, Field 8
CLASS:PUBLIC
PRIORITY:5
BEGIN:VALARM
TRIGGER:-PT330M
ACTION:DISPLAY
DESCRIPTION:Reminder
END:VALARM
END:VEVENT
BEGIN:VEVENT
DTSTART:2009-09-01T03:30:00Z
DTEND:2009-09-01T06:00:00Z
LOCATION:MM1: Marymoor, Field 1
CATEGORIES:Softball,Chicks and Dicks,BB/SAA
UID:DC729D6AA5634E4B8F2389BA41C2FEC5:
DTSTAMP:2026-04-21T07:17:41Z:
SUMMARY:Combine, The at Chicks and Dicks
DESCRIPTION;ENCODING=QUOTED-PRINTABLE:Combine, The at Chicks and Dicks=0D=0A Time: 8:30 PM=0D=0A Location: Marymoor, Field 1
CLASS:PUBLIC
PRIORITY:5
BEGIN:VALARM
TRIGGER:-PT330M
ACTION:DISPLAY
DESCRIPTION:Reminder
END:VALARM
END:VEVENT
END:VCALENDAR
