BEGIN:VCALENDAR
PRODID:-//Microsoft Corporation//Outlook 11.0 MIMEDIR//EN
VERSION:2.0
METHOD:PUBLISH
BEGIN:VEVENT
DTSTART:2009-07-07T01:00:00Z
DTEND:2009-07-07T03:30:00Z
LOCATION:SAM1: Sammamish High School, Field 1
CATEGORIES:Softball,CCC Crushers,BB/SAA
UID:9956CB1A73D9D44EA8D9DC2E92D262:
DTSTAMP:2026-04-21T05:46:58Z:
SUMMARY:Legal Beagles at CCC Crushers
DESCRIPTION;ENCODING=QUOTED-PRINTABLE:Legal Beagles at CCC Crushers=0D=0A Time: 6:00 PM=0D=0A Location: Sammamish High School, Field 1
CLASS:PUBLIC
PRIORITY:5
BEGIN:VALARM
TRIGGER:-PT180M
ACTION:DISPLAY
DESCRIPTION:Reminder
END:VALARM
END:VEVENT
BEGIN:VEVENT
DTSTART:2009-07-14T03:30:00Z
DTEND:2009-07-14T06:00:00Z
LOCATION:MM6: Marymoor, Field 6
CATEGORIES:Softball,CCC Crushers,BB/SAA
UID:132C26FD46F6E444B3C0C811EF5F7F16:
DTSTAMP:2026-04-21T05:46:58Z:
SUMMARY:OIMA at CCC Crushers
DESCRIPTION;ENCODING=QUOTED-PRINTABLE:OIMA at CCC Crushers=0D=0A Time: 8:30 PM=0D=0A Location: Marymoor, Field 6
CLASS:PUBLIC
PRIORITY:5
BEGIN:VALARM
TRIGGER:-PT330M
ACTION:DISPLAY
DESCRIPTION:Reminder
END:VALARM
END:VEVENT
BEGIN:VEVENT
DTSTART:2009-07-21T03:30:00Z
DTEND:2009-07-21T06:00:00Z
LOCATION:MM6: Marymoor, Field 6
CATEGORIES:Softball,CCC Crushers,BB/SAA
UID:307233E084FA1E4DAE7A2A2E7DDD1C7A:
DTSTAMP:2026-04-21T05:46:58Z:
SUMMARY:CCC Crushers at Bellevue ENT
DESCRIPTION;ENCODING=QUOTED-PRINTABLE:CCC Crushers at Bellevue ENT=0D=0A Time: 8:30 PM=0D=0A Location: Marymoor, Field 6
CLASS:PUBLIC
PRIORITY:5
BEGIN:VALARM
TRIGGER:-PT330M
ACTION:DISPLAY
DESCRIPTION:Reminder
END:VALARM
END:VEVENT
BEGIN:VEVENT
DTSTART:2009-07-28T03:30:00Z
DTEND:2009-07-28T06:00:00Z
LOCATION:MM8: Marymoor, Field 8
CATEGORIES:Softball,CCC Crushers,BB/SAA
UID:7F6CB465D583C419E40764EE4883BD:
DTSTAMP:2026-04-21T05:46:58Z:
SUMMARY:CCC Crushers at Combine, The
DESCRIPTION;ENCODING=QUOTED-PRINTABLE:CCC Crushers at Combine, The=0D=0A Time: 8:30 PM=0D=0A Location: Marymoor, Field 8
CLASS:PUBLIC
PRIORITY:5
BEGIN:VALARM
TRIGGER:-PT330M
ACTION:DISPLAY
DESCRIPTION:Reminder
END:VALARM
END:VEVENT
BEGIN:VEVENT
DTSTART:2009-08-04T03:30:00Z
DTEND:2009-08-04T06:00:00Z
LOCATION:MM8: Marymoor, Field 8
CATEGORIES:Softball,CCC Crushers,BB/SAA
UID:A9B1168BF3FB4247B9B5DB277619AC4:
DTSTAMP:2026-04-21T05:46:58Z:
SUMMARY:CCC Crushers at Hot Shots
DESCRIPTION;ENCODING=QUOTED-PRINTABLE:CCC Crushers at Hot Shots=0D=0A Time: 8:30 PM=0D=0A Location: Marymoor, Field 8
CLASS:PUBLIC
PRIORITY:5
BEGIN:VALARM
TRIGGER:-PT330M
ACTION:DISPLAY
DESCRIPTION:Reminder
END:VALARM
END:VEVENT
BEGIN:VEVENT
DTSTART:2009-08-11T03:30:00Z
DTEND:2009-08-11T06:00:00Z
LOCATION:MM6: Marymoor, Field 6
CATEGORIES:Softball,CCC Crushers,BB/SAA
UID:CF759468B2DBE24982C9CC884CADF620:
DTSTAMP:2026-04-21T05:46:58Z:
SUMMARY:CCC Crushers at No Game
DESCRIPTION;ENCODING=QUOTED-PRINTABLE:CCC Crushers at No Game=0D=0A Time: 8:30 PM=0D=0A Location: Marymoor, Field 6
CLASS:PUBLIC
PRIORITY:5
BEGIN:VALARM
TRIGGER:-PT330M
ACTION:DISPLAY
DESCRIPTION:Reminder
END:VALARM
END:VEVENT
BEGIN:VEVENT
DTSTART:2009-08-18T03:30:00Z
DTEND:2009-08-18T06:00:00Z
LOCATION:MM7: Marymoor, Field 7
CATEGORIES:Softball,CCC Crushers,BB/SAA
UID:DC516714C798E2438EE4AD545021CCD9:
DTSTAMP:2026-04-21T05:46:58Z:
SUMMARY:CCC Crushers at Bench Warmers
DESCRIPTION;ENCODING=QUOTED-PRINTABLE:CCC Crushers at Bench Warmers=0D=0A Time: 8:30 PM=0D=0A Location: Marymoor, Field 7
CLASS:PUBLIC
PRIORITY:5
BEGIN:VALARM
TRIGGER:-PT330M
ACTION:DISPLAY
DESCRIPTION:Reminder
END:VALARM
END:VEVENT
BEGIN:VEVENT
DTSTART:2009-08-25T03:30:00Z
DTEND:2009-08-25T06:00:00Z
LOCATION:MM8: Marymoor, Field 8
CATEGORIES:Softball,CCC Crushers,BB/SAA
UID:3BF73A838561B245A7D457F88AA9AE9:
DTSTAMP:2026-04-21T05:46:58Z:
SUMMARY:Chicks and Dicks at CCC Crushers
DESCRIPTION;ENCODING=QUOTED-PRINTABLE:Chicks and Dicks at CCC Crushers=0D=0A Time: 8:30 PM=0D=0A Location: Marymoor, Field 8
CLASS:PUBLIC
PRIORITY:5
BEGIN:VALARM
TRIGGER:-PT330M
ACTION:DISPLAY
DESCRIPTION:Reminder
END:VALARM
END:VEVENT
BEGIN:VEVENT
DTSTART:2009-09-02T03:30:00Z
DTEND:2009-09-02T06:00:00Z
LOCATION:HV1: Hidden Valley, Field 1
CATEGORIES:Softball,CCC Crushers,BB/SAA
UID:2969A37BC824540BE2D83A4EBCF5AC0:
DTSTAMP:2026-04-21T05:46:58Z:
SUMMARY:Dreadsox at CCC Crushers
DESCRIPTION;ENCODING=QUOTED-PRINTABLE:Dreadsox at CCC Crushers=0D=0A Time: 8:30 PM=0D=0A Location: Hidden Valley, Field 1
CLASS:PUBLIC
PRIORITY:5
BEGIN:VALARM
TRIGGER:-PT330M
ACTION:DISPLAY
DESCRIPTION:Reminder
END:VALARM
END:VEVENT
END:VCALENDAR
