BEGIN:VCALENDAR
PRODID:-//Microsoft Corporation//Outlook 11.0 MIMEDIR//EN
VERSION:2.0
METHOD:PUBLISH
BEGIN:VEVENT
DTSTART:2009-07-07T01:00:00Z
DTEND:2009-07-07T03:30:00Z
LOCATION:SAM2: Sammamish High School, Field 2
CATEGORIES:Softball,Bench Warmers,BB/SAA
UID:5E2FD89452FF8942809C639841B2C14:
DTSTAMP:2026-04-21T07:20:43Z:
SUMMARY:No Game at Bench Warmers
DESCRIPTION;ENCODING=QUOTED-PRINTABLE:No Game at Bench Warmers=0D=0A Time: 6:00 PM=0D=0A Location: Sammamish High School, Field 2
CLASS:PUBLIC
PRIORITY:5
BEGIN:VALARM
TRIGGER:-PT180M
ACTION:DISPLAY
DESCRIPTION:Reminder
END:VALARM
END:VEVENT
BEGIN:VEVENT
DTSTART:2009-07-14T01:00:00Z
DTEND:2009-07-14T03:30:00Z
LOCATION:MM8: Marymoor, Field 8
CATEGORIES:Softball,Bench Warmers,BB/SAA
UID:ADDCC453E5D4D4F94532CACE03D4880:
DTSTAMP:2026-04-21T07:20:43Z:
SUMMARY:Bench Warmers at Bellevue ENT
DESCRIPTION;ENCODING=QUOTED-PRINTABLE:Bench Warmers at Bellevue ENT=0D=0A Time: 6:00 PM=0D=0A Location: Marymoor, Field 8
CLASS:PUBLIC
PRIORITY:5
BEGIN:VALARM
TRIGGER:-PT180M
ACTION:DISPLAY
DESCRIPTION:Reminder
END:VALARM
END:VEVENT
BEGIN:VEVENT
DTSTART:2009-07-21T03:30:00Z
DTEND:2009-07-21T06:00:00Z
LOCATION:MM8: Marymoor, Field 8
CATEGORIES:Softball,Bench Warmers,BB/SAA
UID:68B1572CC768B54187575B18B212897A:
DTSTAMP:2026-04-21T07:20:43Z:
SUMMARY:Bench Warmers at Chicks and Dicks
DESCRIPTION;ENCODING=QUOTED-PRINTABLE:Bench Warmers at Chicks and Dicks=0D=0A Time: 8:30 PM=0D=0A Location: Marymoor, Field 8
CLASS:PUBLIC
PRIORITY:5
BEGIN:VALARM
TRIGGER:-PT330M
ACTION:DISPLAY
DESCRIPTION:Reminder
END:VALARM
END:VEVENT
BEGIN:VEVENT
DTSTART:2009-07-28T01:00:00Z
DTEND:2009-07-28T03:30:00Z
LOCATION:SAM1: Sammamish High School, Field 1
CATEGORIES:Softball,Bench Warmers,BB/SAA
UID:2530758DEE482C4C8D6A71F93E6BFDA2:
DTSTAMP:2026-04-21T07:20:43Z:
SUMMARY:Bench Warmers at Dreadsox
DESCRIPTION;ENCODING=QUOTED-PRINTABLE:Bench Warmers at Dreadsox=0D=0A Time: 6:00 PM=0D=0A Location: Sammamish High School, Field 1
CLASS:PUBLIC
PRIORITY:5
BEGIN:VALARM
TRIGGER:-PT180M
ACTION:DISPLAY
DESCRIPTION:Reminder
END:VALARM
END:VEVENT
BEGIN:VEVENT
DTSTART:2009-08-04T01:00:00Z
DTEND:2009-08-04T03:30:00Z
LOCATION:SAM1: Sammamish High School, Field 1
CATEGORIES:Softball,Bench Warmers,BB/SAA
UID:8B8351EC87E97469B5BA1885F6348:
DTSTAMP:2026-04-21T07:20:43Z:
SUMMARY:Bench Warmers at Legal Beagles
DESCRIPTION;ENCODING=QUOTED-PRINTABLE:Bench Warmers at Legal Beagles=0D=0A Time: 6:00 PM=0D=0A Location: Sammamish High School, Field 1
CLASS:PUBLIC
PRIORITY:5
BEGIN:VALARM
TRIGGER:-PT180M
ACTION:DISPLAY
DESCRIPTION:Reminder
END:VALARM
END:VEVENT
BEGIN:VEVENT
DTSTART:2009-08-11T01:00:00Z
DTEND:2009-08-11T03:30:00Z
LOCATION:MM8: Marymoor, Field 8
CATEGORIES:Softball,Bench Warmers,BB/SAA
UID:D1C01A75D8FB5D428929573E7E76F728:
DTSTAMP:2026-04-21T07:20:43Z:
SUMMARY:Bench Warmers at OIMA
DESCRIPTION;ENCODING=QUOTED-PRINTABLE:Bench Warmers at OIMA=0D=0A Time: 6:00 PM=0D=0A Location: Marymoor, Field 8
CLASS:PUBLIC
PRIORITY:5
BEGIN:VALARM
TRIGGER:-PT180M
ACTION:DISPLAY
DESCRIPTION:Reminder
END:VALARM
END:VEVENT
BEGIN:VEVENT
DTSTART:2009-08-18T03:30:00Z
DTEND:2009-08-18T06:00:00Z
LOCATION:MM7: Marymoor, Field 7
CATEGORIES:Softball,Bench Warmers,BB/SAA
UID:EFF3D69B9F239409E8E1442DC52BD7:
DTSTAMP:2026-04-21T07:20:43Z:
SUMMARY:CCC Crushers at Bench Warmers
DESCRIPTION;ENCODING=QUOTED-PRINTABLE:CCC Crushers at Bench Warmers=0D=0A Time: 8:30 PM=0D=0A Location: Marymoor, Field 7
CLASS:PUBLIC
PRIORITY:5
BEGIN:VALARM
TRIGGER:-PT330M
ACTION:DISPLAY
DESCRIPTION:Reminder
END:VALARM
END:VEVENT
BEGIN:VEVENT
DTSTART:2009-08-25T03:30:00Z
DTEND:2009-08-25T06:00:00Z
LOCATION:MM2: Marymoor, Field 2
CATEGORIES:Softball,Bench Warmers,BB/SAA
UID:6340DEE472EEC84798203A19DEFF3270:
DTSTAMP:2026-04-21T07:20:43Z:
SUMMARY:Combine, The at Bench Warmers
DESCRIPTION;ENCODING=QUOTED-PRINTABLE:Combine, The at Bench Warmers=0D=0A Time: 8:30 PM=0D=0A Location: Marymoor, Field 2
CLASS:PUBLIC
PRIORITY:5
BEGIN:VALARM
TRIGGER:-PT330M
ACTION:DISPLAY
DESCRIPTION:Reminder
END:VALARM
END:VEVENT
BEGIN:VEVENT
DTSTART:2009-09-01T03:30:00Z
DTEND:2009-09-01T06:00:00Z
LOCATION:MM7: Marymoor, Field 7
CATEGORIES:Softball,Bench Warmers,BB/SAA
UID:2686FB6CEC869846A44DA290451A8731:
DTSTAMP:2026-04-21T07:20:43Z:
SUMMARY:Hot Shots at Bench Warmers
DESCRIPTION;ENCODING=QUOTED-PRINTABLE:Hot Shots at Bench Warmers=0D=0A Time: 8:30 PM=0D=0A Location: Marymoor, Field 7
CLASS:PUBLIC
PRIORITY:5
BEGIN:VALARM
TRIGGER:-PT330M
ACTION:DISPLAY
DESCRIPTION:Reminder
END:VALARM
END:VEVENT
END:VCALENDAR
