BEGIN:VCALENDAR
PRODID:-//Microsoft Corporation//Outlook 11.0 MIMEDIR//EN
VERSION:2.0
METHOD:PUBLISH
BEGIN:VEVENT
DTSTART:2009-07-07T03:30:00Z
DTEND:2009-07-07T06:00:00Z
LOCATION:MM6: Marymoor, Field 6
CATEGORIES:Softball,Bellevue ENT,BB/SAA
UID:535E6B3CE6E4F04095A76395FFDF4B1D:
DTSTAMP:2026-04-21T07:18:41Z:
SUMMARY:Bellevue ENT at OIMA
DESCRIPTION;ENCODING=QUOTED-PRINTABLE:Bellevue ENT at OIMA=0D=0A Time: 8:30 PM=0D=0A Location: Marymoor, Field 6
CLASS:PUBLIC
PRIORITY:5
BEGIN:VALARM
TRIGGER:-PT330M
ACTION:DISPLAY
DESCRIPTION:Reminder
END:VALARM
END:VEVENT
BEGIN:VEVENT
DTSTART:2009-07-14T01:00:00Z
DTEND:2009-07-14T03:30:00Z
LOCATION:MM8: Marymoor, Field 8
CATEGORIES:Softball,Bellevue ENT,BB/SAA
UID:6C4C339B9E8A543BF5FF01ABCA7BAF2:
DTSTAMP:2026-04-21T07:18:41Z:
SUMMARY:Bench Warmers at Bellevue ENT
DESCRIPTION;ENCODING=QUOTED-PRINTABLE:Bench Warmers at Bellevue ENT=0D=0A Time: 6:00 PM=0D=0A Location: Marymoor, Field 8
CLASS:PUBLIC
PRIORITY:5
BEGIN:VALARM
TRIGGER:-PT180M
ACTION:DISPLAY
DESCRIPTION:Reminder
END:VALARM
END:VEVENT
BEGIN:VEVENT
DTSTART:2009-07-21T03:30:00Z
DTEND:2009-07-21T06:00:00Z
LOCATION:MM6: Marymoor, Field 6
CATEGORIES:Softball,Bellevue ENT,BB/SAA
UID:C2CE7391611C3241AFDB999BC319AA:
DTSTAMP:2026-04-21T07:18:41Z:
SUMMARY:CCC Crushers at Bellevue ENT
DESCRIPTION;ENCODING=QUOTED-PRINTABLE:CCC Crushers at Bellevue ENT=0D=0A Time: 8:30 PM=0D=0A Location: Marymoor, Field 6
CLASS:PUBLIC
PRIORITY:5
BEGIN:VALARM
TRIGGER:-PT330M
ACTION:DISPLAY
DESCRIPTION:Reminder
END:VALARM
END:VEVENT
BEGIN:VEVENT
DTSTART:2009-07-28T01:00:00Z
DTEND:2009-07-28T03:30:00Z
LOCATION:MM8: Marymoor, Field 8
CATEGORIES:Softball,Bellevue ENT,BB/SAA
UID:2050809AE3942345B2B49F9F7E7CB54:
DTSTAMP:2026-04-21T07:18:41Z:
SUMMARY:Bellevue ENT at Chicks and Dicks
DESCRIPTION;ENCODING=QUOTED-PRINTABLE:Bellevue ENT at Chicks and Dicks=0D=0A Time: 6:00 PM=0D=0A Location: Marymoor, Field 8
CLASS:PUBLIC
PRIORITY:5
BEGIN:VALARM
TRIGGER:-PT180M
ACTION:DISPLAY
DESCRIPTION:Reminder
END:VALARM
END:VEVENT
BEGIN:VEVENT
DTSTART:2009-08-04T01:00:00Z
DTEND:2009-08-04T03:30:00Z
LOCATION:HV3: Hidden Valley, Field 3
CATEGORIES:Softball,Bellevue ENT,BB/SAA
UID:33933B9636FB7742858079F42A6C2BAD:
DTSTAMP:2026-04-21T07:18:41Z:
SUMMARY:Bellevue ENT at Combine, The
DESCRIPTION;ENCODING=QUOTED-PRINTABLE:Bellevue ENT at Combine, The=0D=0A Time: 6:00 PM=0D=0A Location: Hidden Valley, Field 3
CLASS:PUBLIC
PRIORITY:5
BEGIN:VALARM
TRIGGER:-PT180M
ACTION:DISPLAY
DESCRIPTION:Reminder
END:VALARM
END:VEVENT
BEGIN:VEVENT
DTSTART:2009-08-11T01:00:00Z
DTEND:2009-08-11T03:30:00Z
LOCATION:HV2: Hidden Valley, Field 2
CATEGORIES:Softball,Bellevue ENT,BB/SAA
UID:B6A440F7DDEEF640AE12F8EED257ED23:
DTSTAMP:2026-04-21T07:18:41Z:
SUMMARY:Bellevue ENT at Dreadsox
DESCRIPTION;ENCODING=QUOTED-PRINTABLE:Bellevue ENT at Dreadsox=0D=0A Time: 6:00 PM=0D=0A Location: Hidden Valley, Field 2
CLASS:PUBLIC
PRIORITY:5
BEGIN:VALARM
TRIGGER:-PT180M
ACTION:DISPLAY
DESCRIPTION:Reminder
END:VALARM
END:VEVENT
BEGIN:VEVENT
DTSTART:2009-08-18T01:00:00Z
DTEND:2009-08-18T03:30:00Z
LOCATION:MM8: Marymoor, Field 8
CATEGORIES:Softball,Bellevue ENT,BB/SAA
UID:819BD6C75E1E43AD1D1F31C936718A:
DTSTAMP:2026-04-21T07:18:41Z:
SUMMARY:Bellevue ENT at Hot Shots
DESCRIPTION;ENCODING=QUOTED-PRINTABLE:Bellevue ENT at Hot Shots=0D=0A Time: 6:00 PM=0D=0A Location: Marymoor, Field 8
CLASS:PUBLIC
PRIORITY:5
BEGIN:VALARM
TRIGGER:-PT180M
ACTION:DISPLAY
DESCRIPTION:Reminder
END:VALARM
END:VEVENT
BEGIN:VEVENT
DTSTART:2009-08-25T01:00:00Z
DTEND:2009-08-25T03:30:00Z
LOCATION:MM1: Marymoor, Field 1
CATEGORIES:Softball,Bellevue ENT,BB/SAA
UID:63351033BD675845A4F51232647C1B5A:
DTSTAMP:2026-04-21T07:18:41Z:
SUMMARY:Legal Beagles at Bellevue ENT
DESCRIPTION;ENCODING=QUOTED-PRINTABLE:Legal Beagles at Bellevue ENT=0D=0A Time: 6:00 PM=0D=0A Location: Marymoor, Field 1
CLASS:PUBLIC
PRIORITY:5
BEGIN:VALARM
TRIGGER:-PT180M
ACTION:DISPLAY
DESCRIPTION:Reminder
END:VALARM
END:VEVENT
BEGIN:VEVENT
DTSTART:2009-09-01T01:00:00Z
DTEND:2009-09-01T03:30:00Z
LOCATION:MM6: Marymoor, Field 6
CATEGORIES:Softball,Bellevue ENT,BB/SAA
UID:8C574F86937514DB2FC6614CDC7071:
DTSTAMP:2026-04-21T07:18:41Z:
SUMMARY:No Game at Bellevue ENT
DESCRIPTION;ENCODING=QUOTED-PRINTABLE:No Game at Bellevue ENT=0D=0A Time: 6:00 PM=0D=0A Location: Marymoor, Field 6
CLASS:PUBLIC
PRIORITY:5
BEGIN:VALARM
TRIGGER:-PT180M
ACTION:DISPLAY
DESCRIPTION:Reminder
END:VALARM
END:VEVENT
END:VCALENDAR
