BEGIN:VCALENDAR
PRODID:-//Microsoft Corporation//Outlook 11.0 MIMEDIR//EN
VERSION:2.0
METHOD:PUBLISH
BEGIN:VEVENT
DTSTART:2009-07-08T03:30:00Z
DTEND:2009-07-08T06:00:00Z
LOCATION:MM7: Marymoor, Field 7
CATEGORIES:Softball,Quadrant Homes,BB/SAA
UID:44E97BC9FF9A4743A21CC26DFBA938CA:
DTSTAMP:2026-04-21T05:42:55Z:
SUMMARY:Quadrant Homes at Big Log
DESCRIPTION;ENCODING=QUOTED-PRINTABLE:Quadrant Homes at Big Log=0D=0A Time: 8:30 PM=0D=0A Location: Marymoor, Field 7
CLASS:PUBLIC
PRIORITY:5
BEGIN:VALARM
TRIGGER:-PT330M
ACTION:DISPLAY
DESCRIPTION:Reminder
END:VALARM
END:VEVENT
BEGIN:VEVENT
DTSTART:2009-07-14T03:30:00Z
DTEND:2009-07-14T06:00:00Z
LOCATION:MM7: Marymoor, Field 7
CATEGORIES:Softball,Quadrant Homes,BB/SAA
UID:883372B4FFEC33449B98E2E8357C227C:
DTSTAMP:2026-04-21T05:42:55Z:
SUMMARY:ChemPoint at Quadrant Homes
DESCRIPTION;ENCODING=QUOTED-PRINTABLE:ChemPoint at Quadrant Homes=0D=0A Time: 8:30 PM=0D=0A Location: Marymoor, Field 7
CLASS:PUBLIC
PRIORITY:5
BEGIN:VALARM
TRIGGER:-PT330M
ACTION:DISPLAY
DESCRIPTION:Reminder
END:VALARM
END:VEVENT
BEGIN:VEVENT
DTSTART:2009-07-21T03:30:00Z
DTEND:2009-07-21T06:00:00Z
LOCATION:HV1: Hidden Valley, Field 1
CATEGORIES:Softball,Quadrant Homes,BB/SAA
UID:3FAAE8B385D7ED4D82858FA33DDC694:
DTSTAMP:2026-04-21T05:42:55Z:
SUMMARY:Quadrant Homes at Fielder's Choice
DESCRIPTION;ENCODING=QUOTED-PRINTABLE:Quadrant Homes at Fielder's Choice=0D=0A Time: 8:30 PM=0D=0A Location: Hidden Valley, Field 1
CLASS:PUBLIC
PRIORITY:5
BEGIN:VALARM
TRIGGER:-PT330M
ACTION:DISPLAY
DESCRIPTION:Reminder
END:VALARM
END:VEVENT
BEGIN:VEVENT
DTSTART:2009-07-28T01:00:00Z
DTEND:2009-07-28T03:30:00Z
LOCATION:MM7: Marymoor, Field 7
CATEGORIES:Softball,Quadrant Homes,BB/SAA
UID:B66BF4970ACEF4395E46F6866211614:
DTSTAMP:2026-04-21T05:42:55Z:
SUMMARY:Quadrant Homes at Intelius
DESCRIPTION;ENCODING=QUOTED-PRINTABLE:Quadrant Homes at Intelius=0D=0A Time: 6:00 PM=0D=0A Location: Marymoor, Field 7
CLASS:PUBLIC
PRIORITY:5
BEGIN:VALARM
TRIGGER:-PT180M
ACTION:DISPLAY
DESCRIPTION:Reminder
END:VALARM
END:VEVENT
BEGIN:VEVENT
DTSTART:2009-08-04T01:00:00Z
DTEND:2009-08-04T03:30:00Z
LOCATION:HV1: Hidden Valley, Field 1
CATEGORIES:Softball,Quadrant Homes,BB/SAA
UID:B6334B89EEABEC49B387A3959457B09E:
DTSTAMP:2026-04-21T05:42:55Z:
SUMMARY:Value Village at Quadrant Homes
DESCRIPTION;ENCODING=QUOTED-PRINTABLE:Value Village at Quadrant Homes=0D=0A Time: 6:00 PM=0D=0A Location: Hidden Valley, Field 1
CLASS:PUBLIC
PRIORITY:5
BEGIN:VALARM
TRIGGER:-PT180M
ACTION:DISPLAY
DESCRIPTION:Reminder
END:VALARM
END:VEVENT
BEGIN:VEVENT
DTSTART:2009-08-11T01:00:00Z
DTEND:2009-08-11T03:30:00Z
LOCATION:HV1: Hidden Valley, Field 1
CATEGORIES:Softball,Quadrant Homes,BB/SAA
UID:ECD91E1BC1A7F8478817D872EE692BC:
DTSTAMP:2026-04-21T05:42:55Z:
SUMMARY:Bonsai at Quadrant Homes
DESCRIPTION;ENCODING=QUOTED-PRINTABLE:Bonsai at Quadrant Homes=0D=0A Time: 6:00 PM=0D=0A Location: Hidden Valley, Field 1
CLASS:PUBLIC
PRIORITY:5
BEGIN:VALARM
TRIGGER:-PT180M
ACTION:DISPLAY
DESCRIPTION:Reminder
END:VALARM
END:VEVENT
BEGIN:VEVENT
DTSTART:2009-08-18T01:00:00Z
DTEND:2009-08-18T03:30:00Z
LOCATION:MM6: Marymoor, Field 6
CATEGORIES:Softball,Quadrant Homes,BB/SAA
UID:8B16BC703684FE48B67150DD866C3:
DTSTAMP:2026-04-21T05:42:55Z:
SUMMARY:Cubs, The at Quadrant Homes
DESCRIPTION;ENCODING=QUOTED-PRINTABLE:Cubs, The at Quadrant Homes=0D=0A Time: 6:00 PM=0D=0A Location: Marymoor, Field 6
CLASS:PUBLIC
PRIORITY:5
BEGIN:VALARM
TRIGGER:-PT180M
ACTION:DISPLAY
DESCRIPTION:Reminder
END:VALARM
END:VEVENT
BEGIN:VEVENT
DTSTART:2009-08-25T01:00:00Z
DTEND:2009-08-25T03:30:00Z
LOCATION:MM6: Marymoor, Field 6
CATEGORIES:Softball,Quadrant Homes,BB/SAA
UID:A37A5CF5BEF2114780E32CC6A41385AE:
DTSTAMP:2026-04-21T05:42:55Z:
SUMMARY:HDR Engineering - Co-ed at Quadrant Homes
DESCRIPTION;ENCODING=QUOTED-PRINTABLE:HDR Engineering - Co-ed at Quadrant Homes=0D=0A Time: 6:00 PM=0D=0A Location: Marymoor, Field 6
CLASS:PUBLIC
PRIORITY:5
BEGIN:VALARM
TRIGGER:-PT180M
ACTION:DISPLAY
DESCRIPTION:Reminder
END:VALARM
END:VEVENT
BEGIN:VEVENT
DTSTART:2009-09-01T01:00:00Z
DTEND:2009-09-01T03:30:00Z
LOCATION:MM1: Marymoor, Field 1
CATEGORIES:Softball,Quadrant Homes,BB/SAA
UID:4C1E47CB8E23F4AB5969494228C68E:
DTSTAMP:2026-04-21T05:42:55Z:
SUMMARY:Quadrant Homes at American Family Insurance
DESCRIPTION;ENCODING=QUOTED-PRINTABLE:Quadrant Homes at American Family Insurance=0D=0A Time: 6:00 PM=0D=0A Location: Marymoor, Field 1
CLASS:PUBLIC
PRIORITY:5
BEGIN:VALARM
TRIGGER:-PT180M
ACTION:DISPLAY
DESCRIPTION:Reminder
END:VALARM
END:VEVENT
END:VCALENDAR
