BEGIN:VCALENDAR
PRODID:-//Microsoft Corporation//Outlook 11.0 MIMEDIR//EN
VERSION:2.0
METHOD:PUBLISH
BEGIN:VEVENT
DTSTART:2009-07-07T01:00:00Z
DTEND:2009-07-07T03:30:00Z
LOCATION:MM6: Marymoor, Field 6
CATEGORIES:Softball,HDR Engineering - Co-ed,BB/SAA
UID:9518A2C21456646B7E6A4A9933A5E34:
DTSTAMP:2026-04-21T07:17:43Z:
SUMMARY:HDR Engineering - Co-ed at ChemPoint
DESCRIPTION;ENCODING=QUOTED-PRINTABLE:HDR Engineering - Co-ed at ChemPoint=0D=0A Time: 6:00 PM=0D=0A Location: Marymoor, Field 6
CLASS:PUBLIC
PRIORITY:5
BEGIN:VALARM
TRIGGER:-PT180M
ACTION:DISPLAY
DESCRIPTION:Reminder
END:VALARM
END:VEVENT
BEGIN:VEVENT
DTSTART:2009-07-14T03:30:00Z
DTEND:2009-07-14T06:00:00Z
LOCATION:HV1: Hidden Valley, Field 1
CATEGORIES:Softball,HDR Engineering - Co-ed,BB/SAA
UID:ADF94674C8FE3D4184821DFC35CF5ADC:
DTSTAMP:2026-04-21T07:17:43Z:
SUMMARY:HDR Engineering - Co-ed at Fielder's Choice
DESCRIPTION;ENCODING=QUOTED-PRINTABLE:HDR Engineering - Co-ed at Fielder's Choice=0D=0A Time: 8:30 PM=0D=0A Location: Hidden Valley, Field 1
CLASS:PUBLIC
PRIORITY:5
BEGIN:VALARM
TRIGGER:-PT330M
ACTION:DISPLAY
DESCRIPTION:Reminder
END:VALARM
END:VEVENT
BEGIN:VEVENT
DTSTART:2009-07-21T01:00:00Z
DTEND:2009-07-21T03:30:00Z
LOCATION:SAM2: Sammamish High School, Field 2
CATEGORIES:Softball,HDR Engineering - Co-ed,BB/SAA
UID:9370B3BDEAC86341B357C6945B255C95:
DTSTAMP:2026-04-21T07:17:43Z:
SUMMARY:Intelius at HDR Engineering - Co-ed
DESCRIPTION;ENCODING=QUOTED-PRINTABLE:Intelius at HDR Engineering - Co-ed=0D=0A Time: 6:00 PM=0D=0A Location: Sammamish High School, Field 2
CLASS:PUBLIC
PRIORITY:5
BEGIN:VALARM
TRIGGER:-PT180M
ACTION:DISPLAY
DESCRIPTION:Reminder
END:VALARM
END:VEVENT
BEGIN:VEVENT
DTSTART:2009-07-28T01:00:00Z
DTEND:2009-07-28T03:30:00Z
LOCATION:HV2: Hidden Valley, Field 2
CATEGORIES:Softball,HDR Engineering - Co-ed,BB/SAA
UID:B613D7F169CAD840AB724555734C8333:
DTSTAMP:2026-04-21T07:17:43Z:
SUMMARY:Value Village at HDR Engineering - Co-ed
DESCRIPTION;ENCODING=QUOTED-PRINTABLE:Value Village at HDR Engineering - Co-ed=0D=0A Time: 6:00 PM=0D=0A Location: Hidden Valley, Field 2
CLASS:PUBLIC
PRIORITY:5
BEGIN:VALARM
TRIGGER:-PT180M
ACTION:DISPLAY
DESCRIPTION:Reminder
END:VALARM
END:VEVENT
BEGIN:VEVENT
DTSTART:2009-08-04T01:00:00Z
DTEND:2009-08-04T03:30:00Z
LOCATION:MM7: Marymoor, Field 7
CATEGORIES:Softball,HDR Engineering - Co-ed,BB/SAA
UID:D5736FD5F4DBEE439BC787E620EAC24:
DTSTAMP:2026-04-21T07:17:43Z:
SUMMARY:Bonsai at HDR Engineering - Co-ed
DESCRIPTION;ENCODING=QUOTED-PRINTABLE:Bonsai at HDR Engineering - Co-ed=0D=0A Time: 6:00 PM=0D=0A Location: Marymoor, Field 7
CLASS:PUBLIC
PRIORITY:5
BEGIN:VALARM
TRIGGER:-PT180M
ACTION:DISPLAY
DESCRIPTION:Reminder
END:VALARM
END:VEVENT
BEGIN:VEVENT
DTSTART:2009-08-11T01:00:00Z
DTEND:2009-08-11T03:30:00Z
LOCATION:SAM1: Sammamish High School, Field 1
CATEGORIES:Softball,HDR Engineering - Co-ed,BB/SAA
UID:6AF44C8CE51929469EE0ADA8D5E342C0:
DTSTAMP:2026-04-21T07:17:43Z:
SUMMARY:Cubs, The at HDR Engineering - Co-ed
DESCRIPTION;ENCODING=QUOTED-PRINTABLE:Cubs, The at HDR Engineering - Co-ed=0D=0A Time: 6:00 PM=0D=0A Location: Sammamish High School, Field 1
CLASS:PUBLIC
PRIORITY:5
BEGIN:VALARM
TRIGGER:-PT180M
ACTION:DISPLAY
DESCRIPTION:Reminder
END:VALARM
END:VEVENT
BEGIN:VEVENT
DTSTART:2009-08-18T01:00:00Z
DTEND:2009-08-18T03:30:00Z
LOCATION:HV2: Hidden Valley, Field 2
CATEGORIES:Softball,HDR Engineering - Co-ed,BB/SAA
UID:ACA37B6ED189C240A2C09CCA6D4DF57:
DTSTAMP:2026-04-21T07:17:43Z:
SUMMARY:American Family Insurance at HDR Engineering - Co-ed
DESCRIPTION;ENCODING=QUOTED-PRINTABLE:American Family Insurance at HDR Engineering - Co-ed=0D=0A Time: 6:00 PM=0D=0A Location: Hidden Valley, Field 2
CLASS:PUBLIC
PRIORITY:5
BEGIN:VALARM
TRIGGER:-PT180M
ACTION:DISPLAY
DESCRIPTION:Reminder
END:VALARM
END:VEVENT
BEGIN:VEVENT
DTSTART:2009-08-25T01:00:00Z
DTEND:2009-08-25T03:30:00Z
LOCATION:MM6: Marymoor, Field 6
CATEGORIES:Softball,HDR Engineering - Co-ed,BB/SAA
UID:40F85328CD3CE40AB40DF69B7828E3:
DTSTAMP:2026-04-21T07:17:43Z:
SUMMARY:HDR Engineering - Co-ed at Quadrant Homes
DESCRIPTION;ENCODING=QUOTED-PRINTABLE:HDR Engineering - Co-ed at Quadrant Homes=0D=0A Time: 6:00 PM=0D=0A Location: Marymoor, Field 6
CLASS:PUBLIC
PRIORITY:5
BEGIN:VALARM
TRIGGER:-PT180M
ACTION:DISPLAY
DESCRIPTION:Reminder
END:VALARM
END:VEVENT
BEGIN:VEVENT
DTSTART:2009-09-01T01:00:00Z
DTEND:2009-09-01T03:30:00Z
LOCATION:MM2: Marymoor, Field 2
CATEGORIES:Softball,HDR Engineering - Co-ed,BB/SAA
UID:CD2716ECE3CB734A89964F26217D570:
DTSTAMP:2026-04-21T07:17:43Z:
SUMMARY:HDR Engineering - Co-ed at Big Log
DESCRIPTION;ENCODING=QUOTED-PRINTABLE:HDR Engineering - Co-ed at Big Log=0D=0A Time: 6:00 PM=0D=0A Location: Marymoor, Field 2
CLASS:PUBLIC
PRIORITY:5
BEGIN:VALARM
TRIGGER:-PT180M
ACTION:DISPLAY
DESCRIPTION:Reminder
END:VALARM
END:VEVENT
END:VCALENDAR
