BEGIN:VCALENDAR
PRODID:-//Microsoft Corporation//Outlook 11.0 MIMEDIR//EN
VERSION:2.0
METHOD:PUBLISH
BEGIN:VEVENT
DTSTART:2009-07-07T01:00:00Z
DTEND:2009-07-07T03:30:00Z
LOCATION:HV1: Hidden Valley, Field 1
CATEGORIES:Softball,Fielder's Choice,BB/SAA
UID:144E50C3B97EF94B97809D9595FB72EA:
DTSTAMP:2026-04-21T05:43:23Z:
SUMMARY:Fielder's Choice at Cubs, The
DESCRIPTION;ENCODING=QUOTED-PRINTABLE:Fielder's Choice at Cubs, The=0D=0A Time: 6:00 PM=0D=0A Location: Hidden Valley, Field 1
CLASS:PUBLIC
PRIORITY:5
BEGIN:VALARM
TRIGGER:-PT180M
ACTION:DISPLAY
DESCRIPTION:Reminder
END:VALARM
END:VEVENT
BEGIN:VEVENT
DTSTART:2009-07-14T03:30:00Z
DTEND:2009-07-14T06:00:00Z
LOCATION:HV1: Hidden Valley, Field 1
CATEGORIES:Softball,Fielder's Choice,BB/SAA
UID:1586138F474AD4BB1271565B0704474:
DTSTAMP:2026-04-21T05:43:23Z:
SUMMARY:HDR Engineering - Co-ed at Fielder's Choice
DESCRIPTION;ENCODING=QUOTED-PRINTABLE:HDR Engineering - Co-ed at Fielder's Choice=0D=0A Time: 8:30 PM=0D=0A Location: Hidden Valley, Field 1
CLASS:PUBLIC
PRIORITY:5
BEGIN:VALARM
TRIGGER:-PT330M
ACTION:DISPLAY
DESCRIPTION:Reminder
END:VALARM
END:VEVENT
BEGIN:VEVENT
DTSTART:2009-07-21T03:30:00Z
DTEND:2009-07-21T06:00:00Z
LOCATION:HV1: Hidden Valley, Field 1
CATEGORIES:Softball,Fielder's Choice,BB/SAA
UID:966D439540FC5C44A94B88CDEC60CA75:
DTSTAMP:2026-04-21T05:43:23Z:
SUMMARY:Quadrant Homes at Fielder's Choice
DESCRIPTION;ENCODING=QUOTED-PRINTABLE:Quadrant Homes at Fielder's Choice=0D=0A Time: 8:30 PM=0D=0A Location: Hidden Valley, Field 1
CLASS:PUBLIC
PRIORITY:5
BEGIN:VALARM
TRIGGER:-PT330M
ACTION:DISPLAY
DESCRIPTION:Reminder
END:VALARM
END:VEVENT
BEGIN:VEVENT
DTSTART:2009-07-28T01:00:00Z
DTEND:2009-07-28T03:30:00Z
LOCATION:MM6: Marymoor, Field 6
CATEGORIES:Softball,Fielder's Choice,BB/SAA
UID:CFE23AC6787604E8B6D956987D22DB4:
DTSTAMP:2026-04-21T05:43:23Z:
SUMMARY:Big Log at Fielder's Choice
DESCRIPTION;ENCODING=QUOTED-PRINTABLE:Big Log at Fielder's Choice=0D=0A Time: 6:00 PM=0D=0A Location: Marymoor, Field 6
CLASS:PUBLIC
PRIORITY:5
BEGIN:VALARM
TRIGGER:-PT180M
ACTION:DISPLAY
DESCRIPTION:Reminder
END:VALARM
END:VEVENT
BEGIN:VEVENT
DTSTART:2009-08-04T03:30:00Z
DTEND:2009-08-04T06:00:00Z
LOCATION:MM6: Marymoor, Field 6
CATEGORIES:Softball,Fielder's Choice,BB/SAA
UID:CFABCEDAE4EDBB4BB156EEE021F995F:
DTSTAMP:2026-04-21T05:43:23Z:
SUMMARY:ChemPoint at Fielder's Choice
DESCRIPTION;ENCODING=QUOTED-PRINTABLE:ChemPoint at Fielder's Choice=0D=0A Time: 8:30 PM=0D=0A Location: Marymoor, Field 6
CLASS:PUBLIC
PRIORITY:5
BEGIN:VALARM
TRIGGER:-PT330M
ACTION:DISPLAY
DESCRIPTION:Reminder
END:VALARM
END:VEVENT
BEGIN:VEVENT
DTSTART:2009-08-12T01:00:00Z
DTEND:2009-08-12T03:30:00Z
LOCATION:SAM1: Sammamish High School, Field 1
CATEGORIES:Softball,Fielder's Choice,BB/SAA
UID:C412EE631D6FC542A3B41270F2ABF76E:
DTSTAMP:2026-04-21T05:43:23Z:
SUMMARY:American Family Insurance at Fielder's Choice
DESCRIPTION;ENCODING=QUOTED-PRINTABLE:American Family Insurance at Fielder's Choice=0D=0A Time: 6:00 PM=0D=0A Location: Sammamish High School, Field 1
CLASS:PUBLIC
PRIORITY:5
BEGIN:VALARM
TRIGGER:-PT180M
ACTION:DISPLAY
DESCRIPTION:Reminder
END:VALARM
END:VEVENT
BEGIN:VEVENT
DTSTART:2009-08-18T03:30:00Z
DTEND:2009-08-18T06:00:00Z
LOCATION:HV1: Hidden Valley, Field 1
CATEGORIES:Softball,Fielder's Choice,BB/SAA
UID:B64B82AD15FAF34EBEC47495D25A9832:
DTSTAMP:2026-04-21T05:43:23Z:
SUMMARY:Fielder's Choice at Intelius
DESCRIPTION;ENCODING=QUOTED-PRINTABLE:Fielder's Choice at Intelius=0D=0A Time: 8:30 PM=0D=0A Location: Hidden Valley, Field 1
CLASS:PUBLIC
PRIORITY:5
BEGIN:VALARM
TRIGGER:-PT330M
ACTION:DISPLAY
DESCRIPTION:Reminder
END:VALARM
END:VEVENT
BEGIN:VEVENT
DTSTART:2009-08-25T01:00:00Z
DTEND:2009-08-25T03:30:00Z
LOCATION:MM7: Marymoor, Field 7
CATEGORIES:Softball,Fielder's Choice,BB/SAA
UID:F1CAF8381677A74E9436903754338C3D:
DTSTAMP:2026-04-21T05:43:23Z:
SUMMARY:Fielder's Choice at Value Village
DESCRIPTION;ENCODING=QUOTED-PRINTABLE:Fielder's Choice at Value Village=0D=0A Time: 6:00 PM=0D=0A Location: Marymoor, Field 7
CLASS:PUBLIC
PRIORITY:5
BEGIN:VALARM
TRIGGER:-PT180M
ACTION:DISPLAY
DESCRIPTION:Reminder
END:VALARM
END:VEVENT
BEGIN:VEVENT
DTSTART:2009-09-01T01:00:00Z
DTEND:2009-09-01T03:30:00Z
LOCATION:HV1: Hidden Valley, Field 1
CATEGORIES:Softball,Fielder's Choice,BB/SAA
UID:673F41D860667C488486D7BDB839211:
DTSTAMP:2026-04-21T05:43:23Z:
SUMMARY:Fielder's Choice at Bonsai
DESCRIPTION;ENCODING=QUOTED-PRINTABLE:Fielder's Choice at Bonsai=0D=0A Time: 6:00 PM=0D=0A Location: Hidden Valley, Field 1
CLASS:PUBLIC
PRIORITY:5
BEGIN:VALARM
TRIGGER:-PT180M
ACTION:DISPLAY
DESCRIPTION:Reminder
END:VALARM
END:VEVENT
END:VCALENDAR
