BEGIN:VCALENDAR
PRODID:-//Microsoft Corporation//Outlook 11.0 MIMEDIR//EN
VERSION:2.0
METHOD:PUBLISH
BEGIN:VEVENT
DTSTART:2009-07-07T01:00:00Z
DTEND:2009-07-07T03:30:00Z
LOCATION:HV1: Hidden Valley, Field 1
CATEGORIES:Softball,Cubs, The,BB/SAA
UID:857710A568B84E9D9361C3B5A36F91:
DTSTAMP:2026-04-21T05:43:23Z:
SUMMARY:Fielder's Choice at Cubs, The
DESCRIPTION;ENCODING=QUOTED-PRINTABLE:Fielder's Choice at Cubs, The=0D=0A Time: 6:00 PM=0D=0A Location: Hidden Valley, Field 1
CLASS:PUBLIC
PRIORITY:5
BEGIN:VALARM
TRIGGER:-PT180M
ACTION:DISPLAY
DESCRIPTION:Reminder
END:VALARM
END:VEVENT
BEGIN:VEVENT
DTSTART:2009-07-14T01:00:00Z
DTEND:2009-07-14T03:30:00Z
LOCATION:SAM1: Sammamish High School, Field 1
CATEGORIES:Softball,Cubs, The,BB/SAA
UID:9CE28599D5D9454FB288C56DB18E86F0:
DTSTAMP:2026-04-21T05:43:23Z:
SUMMARY:Cubs, The at Intelius
DESCRIPTION;ENCODING=QUOTED-PRINTABLE:Cubs, The at Intelius=0D=0A Time: 6:00 PM=0D=0A Location: Sammamish High School, Field 1
CLASS:PUBLIC
PRIORITY:5
BEGIN:VALARM
TRIGGER:-PT180M
ACTION:DISPLAY
DESCRIPTION:Reminder
END:VALARM
END:VEVENT
BEGIN:VEVENT
DTSTART:2009-07-21T03:30:00Z
DTEND:2009-07-21T06:00:00Z
LOCATION:MM7: Marymoor, Field 7
CATEGORIES:Softball,Cubs, The,BB/SAA
UID:45A96BFDFF4C824B8FA9DE6B2D998577:
DTSTAMP:2026-04-21T05:43:23Z:
SUMMARY:Value Village at Cubs, The
DESCRIPTION;ENCODING=QUOTED-PRINTABLE:Value Village at Cubs, The=0D=0A Time: 8:30 PM=0D=0A Location: Marymoor, Field 7
CLASS:PUBLIC
PRIORITY:5
BEGIN:VALARM
TRIGGER:-PT330M
ACTION:DISPLAY
DESCRIPTION:Reminder
END:VALARM
END:VEVENT
BEGIN:VEVENT
DTSTART:2009-07-28T03:30:00Z
DTEND:2009-07-28T06:00:00Z
LOCATION:MM6: Marymoor, Field 6
CATEGORIES:Softball,Cubs, The,BB/SAA
UID:7D5066FB52C8E343B5D2D4BD369F55D4:
DTSTAMP:2026-04-21T05:43:23Z:
SUMMARY:Bonsai at Cubs, The
DESCRIPTION;ENCODING=QUOTED-PRINTABLE:Bonsai at Cubs, The=0D=0A Time: 8:30 PM=0D=0A Location: Marymoor, Field 6
CLASS:PUBLIC
PRIORITY:5
BEGIN:VALARM
TRIGGER:-PT330M
ACTION:DISPLAY
DESCRIPTION:Reminder
END:VALARM
END:VEVENT
BEGIN:VEVENT
DTSTART:2009-08-04T01:00:00Z
DTEND:2009-08-04T03:30:00Z
LOCATION:HV2: Hidden Valley, Field 2
CATEGORIES:Softball,Cubs, The,BB/SAA
UID:A8CDE590A2BF5B4A81BE20C94DD172:
DTSTAMP:2026-04-21T05:43:23Z:
SUMMARY:American Family Insurance at Cubs, The
DESCRIPTION;ENCODING=QUOTED-PRINTABLE:American Family Insurance at Cubs, The=0D=0A Time: 6:00 PM=0D=0A Location: Hidden Valley, Field 2
CLASS:PUBLIC
PRIORITY:5
BEGIN:VALARM
TRIGGER:-PT180M
ACTION:DISPLAY
DESCRIPTION:Reminder
END:VALARM
END:VEVENT
BEGIN:VEVENT
DTSTART:2009-08-11T01:00:00Z
DTEND:2009-08-11T03:30:00Z
LOCATION:SAM1: Sammamish High School, Field 1
CATEGORIES:Softball,Cubs, The,BB/SAA
UID:FF1C2F6C62A1EF4683DECAAEF24636CE:
DTSTAMP:2026-04-21T05:43:23Z:
SUMMARY:Cubs, The at HDR Engineering - Co-ed
DESCRIPTION;ENCODING=QUOTED-PRINTABLE:Cubs, The at HDR Engineering - Co-ed=0D=0A Time: 6:00 PM=0D=0A Location: Sammamish High School, Field 1
CLASS:PUBLIC
PRIORITY:5
BEGIN:VALARM
TRIGGER:-PT180M
ACTION:DISPLAY
DESCRIPTION:Reminder
END:VALARM
END:VEVENT
BEGIN:VEVENT
DTSTART:2009-08-18T01:00:00Z
DTEND:2009-08-18T03:30:00Z
LOCATION:MM6: Marymoor, Field 6
CATEGORIES:Softball,Cubs, The,BB/SAA
UID:6D2AED7719ECEB4EBF8042A991F55094:
DTSTAMP:2026-04-21T05:43:23Z:
SUMMARY:Cubs, The at Quadrant Homes
DESCRIPTION;ENCODING=QUOTED-PRINTABLE:Cubs, The at Quadrant Homes=0D=0A Time: 6:00 PM=0D=0A Location: Marymoor, Field 6
CLASS:PUBLIC
PRIORITY:5
BEGIN:VALARM
TRIGGER:-PT180M
ACTION:DISPLAY
DESCRIPTION:Reminder
END:VALARM
END:VEVENT
BEGIN:VEVENT
DTSTART:2009-08-25T03:30:00Z
DTEND:2009-08-25T06:00:00Z
LOCATION:MM7: Marymoor, Field 7
CATEGORIES:Softball,Cubs, The,BB/SAA
UID:7E7D62934D4F25419DBEB12ED43DC7B:
DTSTAMP:2026-04-21T05:43:23Z:
SUMMARY:Cubs, The at Big Log
DESCRIPTION;ENCODING=QUOTED-PRINTABLE:Cubs, The at Big Log=0D=0A Time: 8:30 PM=0D=0A Location: Marymoor, Field 7
CLASS:PUBLIC
PRIORITY:5
BEGIN:VALARM
TRIGGER:-PT330M
ACTION:DISPLAY
DESCRIPTION:Reminder
END:VALARM
END:VEVENT
BEGIN:VEVENT
DTSTART:2009-09-01T01:00:00Z
DTEND:2009-09-01T03:30:00Z
LOCATION:MM7: Marymoor, Field 7
CATEGORIES:Softball,Cubs, The,BB/SAA
UID:651DBFA92AD9488547BBE5E08BDE1A:
DTSTAMP:2026-04-21T05:43:23Z:
SUMMARY:Cubs, The at ChemPoint
DESCRIPTION;ENCODING=QUOTED-PRINTABLE:Cubs, The at ChemPoint=0D=0A Time: 6:00 PM=0D=0A Location: Marymoor, Field 7
CLASS:PUBLIC
PRIORITY:5
BEGIN:VALARM
TRIGGER:-PT180M
ACTION:DISPLAY
DESCRIPTION:Reminder
END:VALARM
END:VEVENT
END:VCALENDAR
