BEGIN:VCALENDAR
PRODID:-//Microsoft Corporation//Outlook 11.0 MIMEDIR//EN
VERSION:2.0
METHOD:PUBLISH
BEGIN:VEVENT
DTSTART:2009-07-08T03:30:00Z
DTEND:2009-07-08T06:00:00Z
LOCATION:MM7: Marymoor, Field 7
CATEGORIES:Softball,Big Log,BB/SAA
UID:4012D5A8BF75C45A14052161DA8BAC:
DTSTAMP:2026-04-21T07:18:46Z:
SUMMARY:Quadrant Homes at Big Log
DESCRIPTION;ENCODING=QUOTED-PRINTABLE:Quadrant Homes at Big Log=0D=0A Time: 8:30 PM=0D=0A Location: Marymoor, Field 7
CLASS:PUBLIC
PRIORITY:5
BEGIN:VALARM
TRIGGER:-PT330M
ACTION:DISPLAY
DESCRIPTION:Reminder
END:VALARM
END:VEVENT
BEGIN:VEVENT
DTSTART:2009-07-14T03:30:00Z
DTEND:2009-07-14T06:00:00Z
LOCATION:MM8: Marymoor, Field 8
CATEGORIES:Softball,Big Log,BB/SAA
UID:899F8983CDFDC54ABB2E4B8DFE24E6A7:
DTSTAMP:2026-04-21T07:18:46Z:
SUMMARY:Big Log at American Family Insurance
DESCRIPTION;ENCODING=QUOTED-PRINTABLE:Big Log at American Family Insurance=0D=0A Time: 8:30 PM=0D=0A Location: Marymoor, Field 8
CLASS:PUBLIC
PRIORITY:5
BEGIN:VALARM
TRIGGER:-PT330M
ACTION:DISPLAY
DESCRIPTION:Reminder
END:VALARM
END:VEVENT
BEGIN:VEVENT
DTSTART:2009-07-21T01:00:00Z
DTEND:2009-07-21T03:30:00Z
LOCATION:MM7: Marymoor, Field 7
CATEGORIES:Softball,Big Log,BB/SAA
UID:DC816C436A76146958FF75D1283159C:
DTSTAMP:2026-04-21T07:18:46Z:
SUMMARY:Big Log at ChemPoint
DESCRIPTION;ENCODING=QUOTED-PRINTABLE:Big Log at ChemPoint=0D=0A Time: 6:00 PM=0D=0A Location: Marymoor, Field 7
CLASS:PUBLIC
PRIORITY:5
BEGIN:VALARM
TRIGGER:-PT180M
ACTION:DISPLAY
DESCRIPTION:Reminder
END:VALARM
END:VEVENT
BEGIN:VEVENT
DTSTART:2009-07-28T01:00:00Z
DTEND:2009-07-28T03:30:00Z
LOCATION:MM6: Marymoor, Field 6
CATEGORIES:Softball,Big Log,BB/SAA
UID:2CA42B7E84724C4F88F5E37CEE313B1:
DTSTAMP:2026-04-21T07:18:46Z:
SUMMARY:Big Log at Fielder's Choice
DESCRIPTION;ENCODING=QUOTED-PRINTABLE:Big Log at Fielder's Choice=0D=0A Time: 6:00 PM=0D=0A Location: Marymoor, Field 6
CLASS:PUBLIC
PRIORITY:5
BEGIN:VALARM
TRIGGER:-PT180M
ACTION:DISPLAY
DESCRIPTION:Reminder
END:VALARM
END:VEVENT
BEGIN:VEVENT
DTSTART:2009-08-04T03:30:00Z
DTEND:2009-08-04T06:00:00Z
LOCATION:MM7: Marymoor, Field 7
CATEGORIES:Softball,Big Log,BB/SAA
UID:E54247AA3B2E544B618FA821611F13:
DTSTAMP:2026-04-21T07:18:46Z:
SUMMARY:Big Log at Intelius
DESCRIPTION;ENCODING=QUOTED-PRINTABLE:Big Log at Intelius=0D=0A Time: 8:30 PM=0D=0A Location: Marymoor, Field 7
CLASS:PUBLIC
PRIORITY:5
BEGIN:VALARM
TRIGGER:-PT330M
ACTION:DISPLAY
DESCRIPTION:Reminder
END:VALARM
END:VEVENT
BEGIN:VEVENT
DTSTART:2009-08-11T03:30:00Z
DTEND:2009-08-11T06:00:00Z
LOCATION:HV1: Hidden Valley, Field 1
CATEGORIES:Softball,Big Log,BB/SAA
UID:25321A797D8E2429B9CA74637FCA9A:
DTSTAMP:2026-04-21T07:18:46Z:
SUMMARY:Big Log at Value Village
DESCRIPTION;ENCODING=QUOTED-PRINTABLE:Big Log at Value Village=0D=0A Time: 8:30 PM=0D=0A Location: Hidden Valley, Field 1
CLASS:PUBLIC
PRIORITY:5
BEGIN:VALARM
TRIGGER:-PT330M
ACTION:DISPLAY
DESCRIPTION:Reminder
END:VALARM
END:VEVENT
BEGIN:VEVENT
DTSTART:2009-08-18T01:00:00Z
DTEND:2009-08-18T03:30:00Z
LOCATION:MM7: Marymoor, Field 7
CATEGORIES:Softball,Big Log,BB/SAA
UID:36D6A474F2162C42B213AC17EE553E63:
DTSTAMP:2026-04-21T07:18:46Z:
SUMMARY:Bonsai at Big Log
DESCRIPTION;ENCODING=QUOTED-PRINTABLE:Bonsai at Big Log=0D=0A Time: 6:00 PM=0D=0A Location: Marymoor, Field 7
CLASS:PUBLIC
PRIORITY:5
BEGIN:VALARM
TRIGGER:-PT180M
ACTION:DISPLAY
DESCRIPTION:Reminder
END:VALARM
END:VEVENT
BEGIN:VEVENT
DTSTART:2009-08-25T03:30:00Z
DTEND:2009-08-25T06:00:00Z
LOCATION:MM7: Marymoor, Field 7
CATEGORIES:Softball,Big Log,BB/SAA
UID:5794D7666D325745B094A3DB3FDB6C41:
DTSTAMP:2026-04-21T07:18:46Z:
SUMMARY:Cubs, The at Big Log
DESCRIPTION;ENCODING=QUOTED-PRINTABLE:Cubs, The at Big Log=0D=0A Time: 8:30 PM=0D=0A Location: Marymoor, Field 7
CLASS:PUBLIC
PRIORITY:5
BEGIN:VALARM
TRIGGER:-PT330M
ACTION:DISPLAY
DESCRIPTION:Reminder
END:VALARM
END:VEVENT
BEGIN:VEVENT
DTSTART:2009-09-01T01:00:00Z
DTEND:2009-09-01T03:30:00Z
LOCATION:MM2: Marymoor, Field 2
CATEGORIES:Softball,Big Log,BB/SAA
UID:541DF6D38C927498241B08C781BB947:
DTSTAMP:2026-04-21T07:18:46Z:
SUMMARY:HDR Engineering - Co-ed at Big Log
DESCRIPTION;ENCODING=QUOTED-PRINTABLE:HDR Engineering - Co-ed at Big Log=0D=0A Time: 6:00 PM=0D=0A Location: Marymoor, Field 2
CLASS:PUBLIC
PRIORITY:5
BEGIN:VALARM
TRIGGER:-PT180M
ACTION:DISPLAY
DESCRIPTION:Reminder
END:VALARM
END:VEVENT
END:VCALENDAR
